﻿BEGIN:VCALENDAR
CALSCALE:GREGORIAN
METHOD:PUBLISH
PRODID:-//MAI-dep406//MAI Dep406 1.01//RU
VERSION:2.0
X-WR-TIMEZONE:Europe/Moscow
BEGIN:VTIMEZONE
TZID:Europe/Moscow
X-LIC-LOCATION:Europe/Moscow
BEGIN:STANDARD
DTSTART;VALUE=DATE:19700101
TZNAME:GMT+3
TZOFFSETTO:+0300
END:STANDARD
END:VTIMEZONE
BEGIN:VEVENT
ATTENDEE;CN=Амелюшкин Иван Алексеевич:https://public
 .mai.ru/schedule/data/c5f57a5c-b0b5-11f0-bc6f-3cecef1c132f.json
DESCRIPTION:Преподаватель: Амелюшкин Иван Але
 ксеевич
DTSTAMP:20260422T032136Z
DTSTART:20260210T130000Z
DURATION:PT3H15M
LOCATION:ГУК Б-320
SEQUENCE:0
SUMMARY:[ЛК 2п.]Решения Open Source для моделирован
 ия и оптимизации сложных технических си
 стем (Амелюшкин Иван Алексеевич)
UID:048e6d57-64a7-44cd-a85a-e95d3ee8eaec
END:VEVENT
BEGIN:VEVENT
ATTENDEE;CN=Иванова Ксения Аркадьевна:https://public
 .mai.ru/schedule/data/1a9432af-fbb6-11e9-bd10-485b3919ee6d.json
DESCRIPTION:Преподаватель: Иванова Ксения Арк
 адьевна
DTSTAMP:20260422T032136Z
DTSTART:20260211T090000Z
DURATION:PT3H15M
LOCATION:7-413
SEQUENCE:0
SUMMARY:[ЛК\,ПЗ 2п.]Интеллектуальная собствен
 ность и коммерциализация результатов ин
 теллектуальной деятельности (Иванова Кс
 ения Аркадьевна)
UID:c5dcefa5-9e80-4e6c-b3e9-0ac24dfb4aa8
END:VEVENT
BEGIN:VEVENT
ATTENDEE;CN=Амелюшкин Иван Алексеевич:https://public
 .mai.ru/schedule/data/c5f57a5c-b0b5-11f0-bc6f-3cecef1c132f.json
DESCRIPTION:Преподаватель: Амелюшкин Иван Але
 ксеевич
DTSTAMP:20260422T032136Z
DTSTART:20260217T130000Z
DURATION:PT3H15M
LOCATION:ГУК Б-320
SEQUENCE:0
SUMMARY:[ЛК 2п.]Решения Open Source для моделирован
 ия и оптимизации сложных технических си
 стем (Амелюшкин Иван Алексеевич)
UID:2c4e5699-768f-492c-999f-9e1e63a8aeaf
END:VEVENT
BEGIN:VEVENT
ATTENDEE;CN=Амелюшкин Иван Алексеевич:https://public
 .mai.ru/schedule/data/c5f57a5c-b0b5-11f0-bc6f-3cecef1c132f.json
DESCRIPTION:Преподаватель: Амелюшкин Иван Але
 ксеевич
DTSTAMP:20260422T032136Z
DTSTART:20260224T130000Z
DURATION:PT3H15M
LOCATION:ГУК Б-320
SEQUENCE:0
SUMMARY:[ЛК 2п.]Решения Open Source для моделирован
 ия и оптимизации сложных технических си
 стем (Амелюшкин Иван Алексеевич)
UID:7aff9139-c2e7-45eb-bc6a-6f58929bf1b5
END:VEVENT
BEGIN:VEVENT
ATTENDEE;CN=Иванова Ксения Аркадьевна:https://public
 .mai.ru/schedule/data/1a9432af-fbb6-11e9-bd10-485b3919ee6d.json
DESCRIPTION:Преподаватель: Иванова Ксения Арк
 адьевна
DTSTAMP:20260422T032136Z
DTSTART:20260225T090000Z
DURATION:PT3H15M
LOCATION:7-413
SEQUENCE:0
SUMMARY:[ЛК\,ПЗ 2п.]Интеллектуальная собствен
 ность и коммерциализация результатов ин
 теллектуальной деятельности (Иванова Кс
 ения Аркадьевна)
UID:2ae7e4f7-d3c5-4630-96d4-706fde92cbbf
END:VEVENT
BEGIN:VEVENT
ATTENDEE;CN=Амелюшкин Иван Алексеевич:https://public
 .mai.ru/schedule/data/c5f57a5c-b0b5-11f0-bc6f-3cecef1c132f.json
DESCRIPTION:Преподаватель: Амелюшкин Иван Але
 ксеевич
DTSTAMP:20260422T032136Z
DTSTART:20260303T130000Z
DURATION:PT3H15M
LOCATION:ГУК Б-320
SEQUENCE:0
SUMMARY:[ЛК 2п.]Решения Open Source для моделирован
 ия и оптимизации сложных технических си
 стем (Амелюшкин Иван Алексеевич)
UID:f7f7a773-e68b-4983-a3a2-4f698ea9b48b
END:VEVENT
BEGIN:VEVENT
ATTENDEE;CN=Амелюшкин Иван Алексеевич:https://public
 .mai.ru/schedule/data/c5f57a5c-b0b5-11f0-bc6f-3cecef1c132f.json
DESCRIPTION:Преподаватель: Амелюшкин Иван Але
 ксеевич
DTSTAMP:20260422T032136Z
DTSTART:20260310T130000Z
DURATION:PT3H15M
LOCATION:ГУК Б-320
SEQUENCE:0
SUMMARY:[ЛК 2п.]Решения Open Source для моделирован
 ия и оптимизации сложных технических си
 стем (Амелюшкин Иван Алексеевич)
UID:f58b512d-b687-4627-a286-439da62f3c74
END:VEVENT
BEGIN:VEVENT
ATTENDEE;CN=Иванова Ксения Аркадьевна:https://public
 .mai.ru/schedule/data/1a9432af-fbb6-11e9-bd10-485b3919ee6d.json
DESCRIPTION:Преподаватель: Иванова Ксения Арк
 адьевна
DTSTAMP:20260422T032136Z
DTSTART:20260311T090000Z
DURATION:PT3H15M
LOCATION:7-413
SEQUENCE:0
SUMMARY:[ЛК\,ПЗ 2п.]Интеллектуальная собствен
 ность и коммерциализация результатов ин
 теллектуальной деятельности (Иванова Кс
 ения Аркадьевна)
UID:1aaf6a76-f0d5-4cca-b061-105cbf1cae24
END:VEVENT
BEGIN:VEVENT
ATTENDEE;CN=Амелюшкин Иван Алексеевич:https://public
 .mai.ru/schedule/data/c5f57a5c-b0b5-11f0-bc6f-3cecef1c132f.json
DESCRIPTION:Преподаватель: Амелюшкин Иван Але
 ксеевич
DTSTAMP:20260422T032136Z
DTSTART:20260317T130000Z
DURATION:PT3H15M
LOCATION:ГУК Б-320
SEQUENCE:0
SUMMARY:[ЛК 2п.]Решения Open Source для моделирован
 ия и оптимизации сложных технических си
 стем (Амелюшкин Иван Алексеевич)
UID:174c16b5-55a7-47a4-8a69-06ad2c26606e
END:VEVENT
BEGIN:VEVENT
ATTENDEE;CN=Амелюшкин Иван Алексеевич:https://public
 .mai.ru/schedule/data/c5f57a5c-b0b5-11f0-bc6f-3cecef1c132f.json
DESCRIPTION:Преподаватель: Амелюшкин Иван Але
 ксеевич
DTSTAMP:20260422T032136Z
DTSTART:20260324T130000Z
DURATION:PT3H15M
LOCATION:ГУК Б-320
SEQUENCE:0
SUMMARY:[ЛК 2п.]Решения Open Source для моделирован
 ия и оптимизации сложных технических си
 стем (Амелюшкин Иван Алексеевич)
UID:dfe50756-418e-4454-b9be-8e87c40528d5
END:VEVENT
BEGIN:VEVENT
ATTENDEE;CN=Иванова Ксения Аркадьевна:https://public
 .mai.ru/schedule/data/1a9432af-fbb6-11e9-bd10-485b3919ee6d.json
DESCRIPTION:Преподаватель: Иванова Ксения Арк
 адьевна
DTSTAMP:20260422T032136Z
DTSTART:20260325T090000Z
DURATION:PT3H15M
LOCATION:7-413
SEQUENCE:0
SUMMARY:[ЛК\,ПЗ 2п.]Интеллектуальная собствен
 ность и коммерциализация результатов ин
 теллектуальной деятельности (Иванова Кс
 ения Аркадьевна)
UID:c1cb810e-904a-4261-bd7e-43dbfcf79ce3
END:VEVENT
BEGIN:VEVENT
ATTENDEE;CN=Амелюшкин Иван Алексеевич:https://public
 .mai.ru/schedule/data/c5f57a5c-b0b5-11f0-bc6f-3cecef1c132f.json
DESCRIPTION:Преподаватель: Амелюшкин Иван Але
 ксеевич
DTSTAMP:20260422T032136Z
DTSTART:20260331T130000Z
DURATION:PT3H15M
LOCATION:ГУК Б-320
SEQUENCE:0
SUMMARY:[ЛК 2п.]Решения Open Source для моделирован
 ия и оптимизации сложных технических си
 стем (Амелюшкин Иван Алексеевич)
UID:50c174f8-80c2-4977-b804-3978b0939858
END:VEVENT
BEGIN:VEVENT
ATTENDEE;CN=Амелюшкин Иван Алексеевич:https://public
 .mai.ru/schedule/data/c5f57a5c-b0b5-11f0-bc6f-3cecef1c132f.json
DESCRIPTION:Преподаватель: Амелюшкин Иван Але
 ксеевич
DTSTAMP:20260422T032136Z
DTSTART:20260407T130000Z
DURATION:PT3H15M
LOCATION:ГУК Б-320
SEQUENCE:0
SUMMARY:[ЛК 2п.]Решения Open Source для моделирован
 ия и оптимизации сложных технических си
 стем (Амелюшкин Иван Алексеевич)
UID:4f06ddb1-c842-4b3c-84a8-4bdf87c36525
END:VEVENT
BEGIN:VEVENT
ATTENDEE;CN=Иванова Ксения Аркадьевна:https://public
 .mai.ru/schedule/data/1a9432af-fbb6-11e9-bd10-485b3919ee6d.json
DESCRIPTION:Преподаватель: Иванова Ксения Арк
 адьевна
DTSTAMP:20260422T032136Z
DTSTART:20260408T090000Z
DURATION:PT3H15M
LOCATION:7-413
SEQUENCE:0
SUMMARY:[ЛК\,ПЗ 2п.]Интеллектуальная собствен
 ность и коммерциализация результатов ин
 теллектуальной деятельности (Иванова Кс
 ения Аркадьевна)
UID:59c62646-0b06-4dfd-b5dc-8c0579398bf7
END:VEVENT
BEGIN:VEVENT
ATTENDEE;CN=Амелюшкин Иван Алексеевич:https://public
 .mai.ru/schedule/data/c5f57a5c-b0b5-11f0-bc6f-3cecef1c132f.json
DESCRIPTION:Преподаватель: Амелюшкин Иван Але
 ксеевич
DTSTAMP:20260422T032136Z
DTSTART:20260414T130000Z
DURATION:PT3H15M
LOCATION:ГУК Б-320
SEQUENCE:0
SUMMARY:[ЛК 2п.]Решения Open Source для моделирован
 ия и оптимизации сложных технических си
 стем (Амелюшкин Иван Алексеевич)
UID:6e5301f0-a4e4-497a-84db-73954c2ab651
END:VEVENT
BEGIN:VEVENT
ATTENDEE;CN=Амелюшкин Иван Алексеевич:https://public
 .mai.ru/schedule/data/c5f57a5c-b0b5-11f0-bc6f-3cecef1c132f.json
DESCRIPTION:Преподаватель: Амелюшкин Иван Але
 ксеевич
DTSTAMP:20260422T032136Z
DTSTART:20260421T130000Z
DURATION:PT3H15M
LOCATION:ГУК Б-320
SEQUENCE:0
SUMMARY:[ЛК 2п.]Решения Open Source для моделирован
 ия и оптимизации сложных технических си
 стем (Амелюшкин Иван Алексеевич)
UID:0ee268bd-ec91-4963-9354-85031903bcc3
END:VEVENT
BEGIN:VEVENT
ATTENDEE;CN=Иванова Ксения Аркадьевна:https://public
 .mai.ru/schedule/data/1a9432af-fbb6-11e9-bd10-485b3919ee6d.json
DESCRIPTION:Преподаватель: Иванова Ксения Арк
 адьевна
DTSTAMP:20260422T032136Z
DTSTART:20260422T090000Z
DURATION:PT3H15M
LOCATION:7-413
SEQUENCE:0
SUMMARY:[ЛК\,ПЗ 2п.]Интеллектуальная собствен
 ность и коммерциализация результатов ин
 теллектуальной деятельности (Иванова Кс
 ения Аркадьевна)
UID:6051a0eb-5d95-453f-a3cd-430455b1b948
END:VEVENT
BEGIN:VEVENT
ATTENDEE;CN=Амелюшкин Иван Алексеевич:https://public
 .mai.ru/schedule/data/c5f57a5c-b0b5-11f0-bc6f-3cecef1c132f.json
DESCRIPTION:Преподаватель: Амелюшкин Иван Але
 ксеевич
DTSTAMP:20260422T032136Z
DTSTART:20260428T130000Z
DURATION:PT3H15M
LOCATION:ГУК Б-320
SEQUENCE:0
SUMMARY:[ЛК 2п.]Решения Open Source для моделирован
 ия и оптимизации сложных технических си
 стем (Амелюшкин Иван Алексеевич)
UID:e81a5fd9-971b-4b22-b5c6-2b5fb3fd8f0e
END:VEVENT
BEGIN:VEVENT
ATTENDEE;CN=Амелюшкин Иван Алексеевич:https://public
 .mai.ru/schedule/data/c5f57a5c-b0b5-11f0-bc6f-3cecef1c132f.json
DESCRIPTION:Преподаватель: Амелюшкин Иван Але
 ксеевич
DTSTAMP:20260422T032136Z
DTSTART:20260505T130000Z
DURATION:PT3H15M
LOCATION:ГУК Б-320
SEQUENCE:0
SUMMARY:[ЛР 2п.]Решения Open Source для моделирован
 ия и оптимизации сложных технических си
 стем (Амелюшкин Иван Алексеевич)
UID:b7beae11-2c6e-4f27-b0cc-74acbe8e61df
END:VEVENT
BEGIN:VEVENT
ATTENDEE;CN=Иванова Ксения Аркадьевна:https://public
 .mai.ru/schedule/data/1a9432af-fbb6-11e9-bd10-485b3919ee6d.json
DESCRIPTION:Преподаватель: Иванова Ксения Арк
 адьевна
DTSTAMP:20260422T032136Z
DTSTART:20260506T090000Z
DURATION:PT3H15M
LOCATION:7-413
SEQUENCE:0
SUMMARY:[ЛК\,ПЗ 2п.]Интеллектуальная собствен
 ность и коммерциализация результатов ин
 теллектуальной деятельности (Иванова Кс
 ения Аркадьевна)
UID:89e8f3df-394f-4c4a-983a-84827cc7ade1
END:VEVENT
BEGIN:VEVENT
ATTENDEE;CN=Амелюшкин Иван Алексеевич:https://public
 .mai.ru/schedule/data/c5f57a5c-b0b5-11f0-bc6f-3cecef1c132f.json
DESCRIPTION:Преподаватель: Амелюшкин Иван Але
 ксеевич
DTSTAMP:20260422T032136Z
DTSTART:20260512T130000Z
DURATION:PT3H15M
LOCATION:ГУК Б-320
SEQUENCE:0
SUMMARY:[ЛР 2п.]Решения Open Source для моделирован
 ия и оптимизации сложных технических си
 стем (Амелюшкин Иван Алексеевич)
UID:82518448-8c0b-45c1-9e33-4bd23b188c93
END:VEVENT
BEGIN:VEVENT
ATTENDEE;CN=Амелюшкин Иван Алексеевич:https://public
 .mai.ru/schedule/data/c5f57a5c-b0b5-11f0-bc6f-3cecef1c132f.json
DESCRIPTION:Преподаватель: Амелюшкин Иван Але
 ксеевич
DTSTAMP:20260422T032136Z
DTSTART:20260519T130000Z
DURATION:PT3H15M
LOCATION:ГУК Б-320
SEQUENCE:0
SUMMARY:[ЛР 2п.]Решения Open Source для моделирован
 ия и оптимизации сложных технических си
 стем (Амелюшкин Иван Алексеевич)
UID:12e958e2-12a1-45e9-a501-e5c659f80504
END:VEVENT
BEGIN:VEVENT
ATTENDEE;CN=Иванова Ксения Аркадьевна:https://public
 .mai.ru/schedule/data/1a9432af-fbb6-11e9-bd10-485b3919ee6d.json
DESCRIPTION:Преподаватель: Иванова Ксения Арк
 адьевна
DTSTAMP:20260422T032136Z
DTSTART:20260520T090000Z
DURATION:PT3H15M
LOCATION:7-413
SEQUENCE:0
SUMMARY:[ЛК\,ПЗ 2п.]Интеллектуальная собствен
 ность и коммерциализация результатов ин
 теллектуальной деятельности (Иванова Кс
 ения Аркадьевна)
UID:efd51f9f-9e85-482d-9faa-756d08e5c68d
END:VEVENT
BEGIN:VEVENT
ATTENDEE;CN=Иванова Ксения Аркадьевна:https://public
 .mai.ru/schedule/data/1a9432af-fbb6-11e9-bd10-485b3919ee6d.json
DESCRIPTION:Преподаватель: Иванова Ксения Арк
 адьевна
DTSTAMP:20260422T032136Z
DTSTART:20260603T090000Z
DURATION:PT3H15M
LOCATION:7-413
SEQUENCE:0
SUMMARY:[ЛК\,ПЗ 2п.]Интеллектуальная собствен
 ность и коммерциализация результатов ин
 теллектуальной деятельности (Иванова Кс
 ения Аркадьевна)
UID:e8c434e1-76f9-4d45-ae34-840c847cb522
END:VEVENT
END:VCALENDAR
