﻿BEGIN:VCALENDAR
CALSCALE:GREGORIAN
METHOD:PUBLISH
PRODID:-//MAI-dep406//MAI Dep406 1.01//RU
VERSION:2.0
X-WR-TIMEZONE:Europe/Moscow
BEGIN:VTIMEZONE
TZID:Europe/Moscow
X-LIC-LOCATION:Europe/Moscow
BEGIN:STANDARD
DTSTART;VALUE=DATE:19700101
TZNAME:GMT+3
TZOFFSETTO:+0300
END:STANDARD
END:VTIMEZONE
BEGIN:VEVENT
ATTENDEE;CN=Денискина Галина Юрьевна:https://public.m
 ai.ru/schedule/data/896e2712-2832-11e8-9a02-485b3919ee6d.json
DESCRIPTION:Преподаватель: Денискина Галина Ю
 рьевна
DTSTAMP:20260423T084737Z
DTSTART:20260211T130000Z
DURATION:PT3H15M
LOCATION:7-510
SEQUENCE:0
SUMMARY:[ЛК 2п.]Управление качеством (Дениски
 на Галина Юрьевна)
UID:48ff3e66-a18b-4e1a-a0af-2c152fc20a8b
END:VEVENT
BEGIN:VEVENT
ATTENDEE;CN=Елкин Александр Сергеевич:https://public
 .mai.ru/schedule/data/25a14460-1f50-11e7-97bf-3cd92bf20bfe.json
DESCRIPTION:Преподаватель: Елкин Александр Се
 ргеевич
DTSTAMP:20260423T084737Z
DTSTART:20260212T130000Z
DURATION:PT3H15M
LOCATION:7-404
SEQUENCE:0
SUMMARY:[ЛК 2п.]Проектирование самолетов (Елк
 ин Александр Сергеевич)
UID:3171effd-ffe3-481c-bade-844bdb8e74a9
END:VEVENT
BEGIN:VEVENT
ATTENDEE;CN=Титов Егор Иванович:https://public.mai.ru/sche
 dule/data/5dd822f7-26a9-11ec-bbda-ac1f6b64c5eb.json
DESCRIPTION:Преподаватель: Титов Егор Иванови
 ч
DTSTAMP:20260423T084737Z
DTSTART:20260213T090000Z
DURATION:PT3H15M
LOCATION:1-10 ангар
SEQUENCE:0
SUMMARY:[ЛК 2п.]Конструирование шасси и СУ (Ти
 тов Егор Иванович)
UID:e7059007-a64a-4289-899e-b2301218d4c9
END:VEVENT
BEGIN:VEVENT
ATTENDEE;CN=Птицына Анастасия Дмитриевна:https://
 public.mai.ru/schedule/data/23ea1e28-57ab-11ee-bc0e-3cecef1c132f.json
DESCRIPTION:Преподаватель: Птицына Анастасия 
 Дмитриевна
DTSTAMP:20260423T084737Z
DTSTART:20260213T130000Z
DURATION:PT3H15M
LOCATION:7-326\; 7-417
SEQUENCE:0
SUMMARY:[ЛК 2п.]НИРС (Птицына Анастасия Дмитри
 евна)
UID:c5feb92b-0d8a-45f3-b649-e4dccf675833
END:VEVENT
BEGIN:VEVENT
ATTENDEE;CN=Гуров Виктор Александрович:https://publ
 ic.mai.ru/schedule/data/d24b6a42-0f8a-11ea-bdb2-485b3919ee6d.json
DESCRIPTION:Преподаватель: Гуров Виктор Алекс
 андрович
DTSTAMP:20260423T084737Z
DTSTART:20260214T130000Z
DURATION:PT3H15M
LOCATION:7-404
SEQUENCE:0
SUMMARY:[ЛК 2п.]Эксплуатационная технологичн
 ость и надежность (Гуров Виктор Александ
 рович)
UID:6208b5fb-2390-4448-9e5d-77abb44d70b1
END:VEVENT
BEGIN:VEVENT
ATTENDEE;CN=Елкин Александр Сергеевич:https://public
 .mai.ru/schedule/data/25a14460-1f50-11e7-97bf-3cd92bf20bfe.json
DESCRIPTION:Преподаватель: Елкин Александр Се
 ргеевич
DTSTAMP:20260423T084737Z
DTSTART:20260219T130000Z
DURATION:PT3H15M
LOCATION:7-404
SEQUENCE:0
SUMMARY:[ЛК 2п.]Проектирование самолетов (Елк
 ин Александр Сергеевич)
UID:db72f351-441e-4670-bf7d-2664048023bd
END:VEVENT
BEGIN:VEVENT
ATTENDEE;CN=Титов Егор Иванович:https://public.mai.ru/sche
 dule/data/5dd822f7-26a9-11ec-bbda-ac1f6b64c5eb.json
DESCRIPTION:Преподаватель: Титов Егор Иванови
 ч
DTSTAMP:20260423T084737Z
DTSTART:20260220T090000Z
DURATION:PT3H15M
LOCATION:1-10 ангар
SEQUENCE:0
SUMMARY:[ЛК 2п.]Конструирование шасси и СУ (Ти
 тов Егор Иванович)
UID:51baa427-5f1b-4bbd-abf4-172fdf7e562c
END:VEVENT
BEGIN:VEVENT
ATTENDEE;CN=Птицына Анастасия Дмитриевна:https://
 public.mai.ru/schedule/data/23ea1e28-57ab-11ee-bc0e-3cecef1c132f.json
DESCRIPTION:Преподаватель: Птицына Анастасия 
 Дмитриевна
DTSTAMP:20260423T084737Z
DTSTART:20260220T130000Z
DURATION:PT3H15M
LOCATION:7-326\; 7-417
SEQUENCE:0
SUMMARY:[ЛК 2п.]НИРС (Птицына Анастасия Дмитри
 евна)
UID:b292df5c-3549-412d-9faa-fe02d65d44b9
END:VEVENT
BEGIN:VEVENT
ATTENDEE;CN=Гуров Виктор Александрович:https://publ
 ic.mai.ru/schedule/data/d24b6a42-0f8a-11ea-bdb2-485b3919ee6d.json
DESCRIPTION:Преподаватель: Гуров Виктор Алекс
 андрович
DTSTAMP:20260423T084737Z
DTSTART:20260221T130000Z
DURATION:PT3H15M
LOCATION:7-404
SEQUENCE:0
SUMMARY:[ЛК 2п.]Эксплуатационная технологичн
 ость и надежность (Гуров Виктор Александ
 рович)
UID:0143eb5a-04d9-434e-a277-c6817257b4e0
END:VEVENT
BEGIN:VEVENT
ATTENDEE;CN=Денискина Галина Юрьевна:https://public.m
 ai.ru/schedule/data/896e2712-2832-11e8-9a02-485b3919ee6d.json
DESCRIPTION:Преподаватель: Денискина Галина Ю
 рьевна
DTSTAMP:20260423T084737Z
DTSTART:20260225T130000Z
DURATION:PT3H15M
LOCATION:7-510
SEQUENCE:0
SUMMARY:[ЛК 2п.]Управление качеством (Дениски
 на Галина Юрьевна)
UID:58a7e432-fb0f-4fe6-b2ed-67bf1a8b52e4
END:VEVENT
BEGIN:VEVENT
ATTENDEE;CN=Елкин Александр Сергеевич:https://public
 .mai.ru/schedule/data/25a14460-1f50-11e7-97bf-3cd92bf20bfe.json
DESCRIPTION:Преподаватель: Елкин Александр Се
 ргеевич
DTSTAMP:20260423T084737Z
DTSTART:20260226T130000Z
DURATION:PT3H15M
LOCATION:7-404
SEQUENCE:0
SUMMARY:[ЛК 2п.]Проектирование самолетов (Елк
 ин Александр Сергеевич)
UID:c93ec142-ae91-4bb5-bb8a-248aa83227ea
END:VEVENT
BEGIN:VEVENT
ATTENDEE;CN=Титов Егор Иванович:https://public.mai.ru/sche
 dule/data/5dd822f7-26a9-11ec-bbda-ac1f6b64c5eb.json
DESCRIPTION:Преподаватель: Титов Егор Иванови
 ч
DTSTAMP:20260423T084737Z
DTSTART:20260227T090000Z
DURATION:PT3H15M
LOCATION:1-10 ангар
SEQUENCE:0
SUMMARY:[ЛК 2п.]Конструирование шасси и СУ (Ти
 тов Егор Иванович)
UID:658d1b31-94dd-433a-9b16-09d2134bb176
END:VEVENT
BEGIN:VEVENT
ATTENDEE;CN=Птицына Анастасия Дмитриевна:https://
 public.mai.ru/schedule/data/23ea1e28-57ab-11ee-bc0e-3cecef1c132f.json
DESCRIPTION:Преподаватель: Птицына Анастасия 
 Дмитриевна
DTSTAMP:20260423T084737Z
DTSTART:20260227T130000Z
DURATION:PT3H15M
LOCATION:7-326\; 7-417
SEQUENCE:0
SUMMARY:[ЛК 2п.]НИРС (Птицына Анастасия Дмитри
 евна)
UID:0c7b08ae-0888-420e-b6a0-c75f02215e55
END:VEVENT
BEGIN:VEVENT
ATTENDEE;CN=Гуров Виктор Александрович:https://publ
 ic.mai.ru/schedule/data/d24b6a42-0f8a-11ea-bdb2-485b3919ee6d.json
DESCRIPTION:Преподаватель: Гуров Виктор Алекс
 андрович
DTSTAMP:20260423T084737Z
DTSTART:20260228T130000Z
DURATION:PT3H15M
LOCATION:7-404
SEQUENCE:0
SUMMARY:[ЛК 2п.]Эксплуатационная технологичн
 ость и надежность (Гуров Виктор Александ
 рович)
UID:8b18fbd9-8887-49af-8174-db1f5323902b
END:VEVENT
BEGIN:VEVENT
ATTENDEE;CN=Елкин Александр Сергеевич:https://public
 .mai.ru/schedule/data/25a14460-1f50-11e7-97bf-3cd92bf20bfe.json
DESCRIPTION:Преподаватель: Елкин Александр Се
 ргеевич
DTSTAMP:20260423T084737Z
DTSTART:20260305T130000Z
DURATION:PT3H15M
LOCATION:7-404
SEQUENCE:0
SUMMARY:[ЛК 2п.]Проектирование самолетов (Елк
 ин Александр Сергеевич)
UID:91bb2ca5-86eb-4f7b-a06b-b8aa09c907d7
END:VEVENT
BEGIN:VEVENT
ATTENDEE;CN=Титов Егор Иванович:https://public.mai.ru/sche
 dule/data/5dd822f7-26a9-11ec-bbda-ac1f6b64c5eb.json
DESCRIPTION:Преподаватель: Титов Егор Иванови
 ч
DTSTAMP:20260423T084737Z
DTSTART:20260306T090000Z
DURATION:PT3H15M
LOCATION:1-10 ангар
SEQUENCE:0
SUMMARY:[ЛК 2п.]Конструирование шасси и СУ (Ти
 тов Егор Иванович)
UID:ec8d7ed8-0ca9-49a7-b15b-6553dbbeba30
END:VEVENT
BEGIN:VEVENT
ATTENDEE;CN=Птицына Анастасия Дмитриевна:https://
 public.mai.ru/schedule/data/23ea1e28-57ab-11ee-bc0e-3cecef1c132f.json
DESCRIPTION:Преподаватель: Птицына Анастасия 
 Дмитриевна
DTSTAMP:20260423T084737Z
DTSTART:20260306T130000Z
DURATION:PT3H15M
LOCATION:7-326\; 7-417
SEQUENCE:0
SUMMARY:[ЛК 2п.]НИРС (Птицына Анастасия Дмитри
 евна)
UID:cca862f5-39b1-427b-b224-67752987777b
END:VEVENT
BEGIN:VEVENT
ATTENDEE;CN=Гуров Виктор Александрович:https://publ
 ic.mai.ru/schedule/data/d24b6a42-0f8a-11ea-bdb2-485b3919ee6d.json
DESCRIPTION:Преподаватель: Гуров Виктор Алекс
 андрович
DTSTAMP:20260423T084737Z
DTSTART:20260307T130000Z
DURATION:PT3H15M
LOCATION:7-404
SEQUENCE:0
SUMMARY:[ЛК 2п.]Эксплуатационная технологичн
 ость и надежность (Гуров Виктор Александ
 рович)
UID:197e33a1-0a72-4495-afad-283aa41cd44c
END:VEVENT
BEGIN:VEVENT
ATTENDEE;CN=Денискина Галина Юрьевна:https://public.m
 ai.ru/schedule/data/896e2712-2832-11e8-9a02-485b3919ee6d.json
DESCRIPTION:Преподаватель: Денискина Галина Ю
 рьевна
DTSTAMP:20260423T084737Z
DTSTART:20260311T130000Z
DURATION:PT3H15M
LOCATION:7-510
SEQUENCE:0
SUMMARY:[ЛК 2п.]Управление качеством (Дениски
 на Галина Юрьевна)
UID:e90aed35-b5d9-4a96-bd22-d075a412d7c5
END:VEVENT
BEGIN:VEVENT
ATTENDEE;CN=Елкин Александр Сергеевич:https://public
 .mai.ru/schedule/data/25a14460-1f50-11e7-97bf-3cd92bf20bfe.json
DESCRIPTION:Преподаватель: Елкин Александр Се
 ргеевич
DTSTAMP:20260423T084737Z
DTSTART:20260312T130000Z
DURATION:PT3H15M
LOCATION:7-404
SEQUENCE:0
SUMMARY:[ЛК 2п.]Проектирование самолетов (Елк
 ин Александр Сергеевич)
UID:a0f81e77-2d2c-4007-9fce-830bde85ff49
END:VEVENT
BEGIN:VEVENT
ATTENDEE;CN=Титов Егор Иванович:https://public.mai.ru/sche
 dule/data/5dd822f7-26a9-11ec-bbda-ac1f6b64c5eb.json
DESCRIPTION:Преподаватель: Титов Егор Иванови
 ч
DTSTAMP:20260423T084737Z
DTSTART:20260313T090000Z
DURATION:PT3H15M
LOCATION:1-10 ангар
SEQUENCE:0
SUMMARY:[ЛК 2п.]Конструирование шасси и СУ (Ти
 тов Егор Иванович)
UID:86c9e324-4ab7-45c6-8ace-428ea9a0c183
END:VEVENT
BEGIN:VEVENT
ATTENDEE;CN=Птицына Анастасия Дмитриевна:https://
 public.mai.ru/schedule/data/23ea1e28-57ab-11ee-bc0e-3cecef1c132f.json
DESCRIPTION:Преподаватель: Птицына Анастасия 
 Дмитриевна
DTSTAMP:20260423T084737Z
DTSTART:20260313T130000Z
DURATION:PT3H15M
LOCATION:7-326\; 7-417
SEQUENCE:0
SUMMARY:[ЛК 2п.]НИРС (Птицына Анастасия Дмитри
 евна)
UID:9bd8cc97-75c0-477d-b4dc-a1501c87548b
END:VEVENT
BEGIN:VEVENT
ATTENDEE;CN=Гуров Виктор Александрович:https://publ
 ic.mai.ru/schedule/data/d24b6a42-0f8a-11ea-bdb2-485b3919ee6d.json
DESCRIPTION:Преподаватель: Гуров Виктор Алекс
 андрович
DTSTAMP:20260423T084737Z
DTSTART:20260314T130000Z
DURATION:PT3H15M
LOCATION:7-404
SEQUENCE:0
SUMMARY:[ЛК 2п.]Эксплуатационная технологичн
 ость и надежность (Гуров Виктор Александ
 рович)
UID:51425085-23d3-41fe-b4a4-97b23cbc42f6
END:VEVENT
BEGIN:VEVENT
ATTENDEE;CN=Елкин Александр Сергеевич:https://public
 .mai.ru/schedule/data/25a14460-1f50-11e7-97bf-3cd92bf20bfe.json
DESCRIPTION:Преподаватель: Елкин Александр Се
 ргеевич
DTSTAMP:20260423T084737Z
DTSTART:20260319T130000Z
DURATION:PT3H15M
LOCATION:7-404
SEQUENCE:0
SUMMARY:[ЛК 2п.]Проектирование самолетов (Елк
 ин Александр Сергеевич)
UID:6040375c-5791-4620-8617-13109f2af115
END:VEVENT
BEGIN:VEVENT
ATTENDEE;CN=Титов Егор Иванович:https://public.mai.ru/sche
 dule/data/5dd822f7-26a9-11ec-bbda-ac1f6b64c5eb.json
DESCRIPTION:Преподаватель: Титов Егор Иванови
 ч
DTSTAMP:20260423T084737Z
DTSTART:20260320T090000Z
DURATION:PT3H15M
LOCATION:1-10 ангар
SEQUENCE:0
SUMMARY:[ЛК 2п.]Конструирование шасси и СУ (Ти
 тов Егор Иванович)
UID:ee4a14c9-2bd8-4345-ab4c-b59c400c20fb
END:VEVENT
BEGIN:VEVENT
ATTENDEE;CN=Птицына Анастасия Дмитриевна:https://
 public.mai.ru/schedule/data/23ea1e28-57ab-11ee-bc0e-3cecef1c132f.json
DESCRIPTION:Преподаватель: Птицына Анастасия 
 Дмитриевна
DTSTAMP:20260423T084737Z
DTSTART:20260320T130000Z
DURATION:PT3H15M
LOCATION:7-326\; 7-417
SEQUENCE:0
SUMMARY:[ЛК 2п.]НИРС (Птицына Анастасия Дмитри
 евна)
UID:0f117077-8785-4da2-b5d6-a9787d878df0
END:VEVENT
BEGIN:VEVENT
ATTENDEE;CN=Гуров Виктор Александрович:https://publ
 ic.mai.ru/schedule/data/d24b6a42-0f8a-11ea-bdb2-485b3919ee6d.json
DESCRIPTION:Преподаватель: Гуров Виктор Алекс
 андрович
DTSTAMP:20260423T084737Z
DTSTART:20260321T130000Z
DURATION:PT3H15M
LOCATION:7-404
SEQUENCE:0
SUMMARY:[ЛК 2п.]Эксплуатационная технологичн
 ость и надежность (Гуров Виктор Александ
 рович)
UID:6ea1f9fa-ae72-4670-88f1-a459980a9370
END:VEVENT
BEGIN:VEVENT
ATTENDEE;CN=Денискина Галина Юрьевна:https://public.m
 ai.ru/schedule/data/896e2712-2832-11e8-9a02-485b3919ee6d.json
DESCRIPTION:Преподаватель: Денискина Галина Ю
 рьевна
DTSTAMP:20260423T084737Z
DTSTART:20260325T130000Z
DURATION:PT5H
LOCATION:7-510
SEQUENCE:0
SUMMARY:[ПЗ 3п.]Управление качеством (Дениски
 на Галина Юрьевна)
UID:5f167fb9-e8bf-4f11-a440-154787b03766
END:VEVENT
BEGIN:VEVENT
ATTENDEE;CN=Елкин Александр Сергеевич:https://public
 .mai.ru/schedule/data/25a14460-1f50-11e7-97bf-3cd92bf20bfe.json
DESCRIPTION:Преподаватель: Елкин Александр Се
 ргеевич
DTSTAMP:20260423T084737Z
DTSTART:20260326T130000Z
DURATION:PT3H15M
LOCATION:7-404
SEQUENCE:0
SUMMARY:[ЛК 2п.]Проектирование самолетов (Елк
 ин Александр Сергеевич)
UID:d94df16a-c735-45d1-b489-815eca916203
END:VEVENT
BEGIN:VEVENT
ATTENDEE;CN=Титов Егор Иванович:https://public.mai.ru/sche
 dule/data/5dd822f7-26a9-11ec-bbda-ac1f6b64c5eb.json
DESCRIPTION:Преподаватель: Титов Егор Иванови
 ч
DTSTAMP:20260423T084737Z
DTSTART:20260327T090000Z
DURATION:PT3H15M
LOCATION:1-10 ангар
SEQUENCE:0
SUMMARY:[ЛК 2п.]Конструирование шасси и СУ (Ти
 тов Егор Иванович)
UID:554150e0-2d18-4023-b727-94ce05b07eb9
END:VEVENT
BEGIN:VEVENT
ATTENDEE;CN=Птицына Анастасия Дмитриевна:https://
 public.mai.ru/schedule/data/23ea1e28-57ab-11ee-bc0e-3cecef1c132f.json
DESCRIPTION:Преподаватель: Птицына Анастасия 
 Дмитриевна
DTSTAMP:20260423T084737Z
DTSTART:20260327T130000Z
DURATION:PT3H15M
LOCATION:7-326\; 7-417
SEQUENCE:0
SUMMARY:[ЛК 2п.]НИРС (Птицына Анастасия Дмитри
 евна)
UID:cd237698-f70b-45fd-92cb-87dad089a28e
END:VEVENT
BEGIN:VEVENT
ATTENDEE;CN=Гуров Виктор Александрович:https://publ
 ic.mai.ru/schedule/data/d24b6a42-0f8a-11ea-bdb2-485b3919ee6d.json
DESCRIPTION:Преподаватель: Гуров Виктор Алекс
 андрович
DTSTAMP:20260423T084737Z
DTSTART:20260328T130000Z
DURATION:PT3H15M
LOCATION:7-404
SEQUENCE:0
SUMMARY:[ЛК 2п.]Эксплуатационная технологичн
 ость и надежность (Гуров Виктор Александ
 рович)
UID:2a00ac25-ba2c-4f0b-937d-dc68d57e4d9e
END:VEVENT
BEGIN:VEVENT
ATTENDEE;CN=Елкин Александр Сергеевич:https://public
 .mai.ru/schedule/data/25a14460-1f50-11e7-97bf-3cd92bf20bfe.json
DESCRIPTION:Преподаватель: Елкин Александр Се
 ргеевич
DTSTAMP:20260423T084737Z
DTSTART:20260402T130000Z
DURATION:PT3H15M
LOCATION:7-404
SEQUENCE:0
SUMMARY:[ЛК 2п.]Проектирование самолетов (Елк
 ин Александр Сергеевич)
UID:7af5cb45-8e66-4f32-bfb8-48a72de559f9
END:VEVENT
BEGIN:VEVENT
ATTENDEE;CN=Титов Егор Иванович:https://public.mai.ru/sche
 dule/data/5dd822f7-26a9-11ec-bbda-ac1f6b64c5eb.json
DESCRIPTION:Преподаватель: Титов Егор Иванови
 ч
DTSTAMP:20260423T084737Z
DTSTART:20260403T090000Z
DURATION:PT3H15M
LOCATION:1-10 ангар
SEQUENCE:0
SUMMARY:[ЛК 2п.]Конструирование шасси и СУ (Ти
 тов Егор Иванович)
UID:a68be77d-f495-484b-a32c-9d1085c7bd68
END:VEVENT
BEGIN:VEVENT
ATTENDEE;CN=Птицына Анастасия Дмитриевна:https://
 public.mai.ru/schedule/data/23ea1e28-57ab-11ee-bc0e-3cecef1c132f.json
DESCRIPTION:Преподаватель: Птицына Анастасия 
 Дмитриевна
DTSTAMP:20260423T084737Z
DTSTART:20260403T130000Z
DURATION:PT3H15M
LOCATION:7-326\; 7-417
SEQUENCE:0
SUMMARY:[ЛК 2п.]НИРС (Птицына Анастасия Дмитри
 евна)
UID:0a8aa26e-4aa7-40f4-a41e-0294c2833f95
END:VEVENT
BEGIN:VEVENT
ATTENDEE;CN=Гуров Виктор Александрович:https://publ
 ic.mai.ru/schedule/data/d24b6a42-0f8a-11ea-bdb2-485b3919ee6d.json
DESCRIPTION:Преподаватель: Гуров Виктор Алекс
 андрович
DTSTAMP:20260423T084737Z
DTSTART:20260404T130000Z
DURATION:PT3H15M
LOCATION:7-404
SEQUENCE:0
SUMMARY:[ЛК 2п.]Эксплуатационная технологичн
 ость и надежность (Гуров Виктор Александ
 рович)
UID:5beebaa4-b43c-472c-962f-69888101b042
END:VEVENT
BEGIN:VEVENT
ATTENDEE;CN=Денискина Галина Юрьевна:https://public.m
 ai.ru/schedule/data/896e2712-2832-11e8-9a02-485b3919ee6d.json
DESCRIPTION:Преподаватель: Денискина Галина Ю
 рьевна
DTSTAMP:20260423T084737Z
DTSTART:20260408T130000Z
DURATION:PT3H15M
LOCATION:7-510
SEQUENCE:0
SUMMARY:[ПЗ 2п.]Управление качеством (Дениски
 на Галина Юрьевна)
UID:5b56a8f7-72de-4abd-8a41-4a711573d558
END:VEVENT
BEGIN:VEVENT
ATTENDEE;CN=Елкин Александр Сергеевич:https://public
 .mai.ru/schedule/data/25a14460-1f50-11e7-97bf-3cd92bf20bfe.json
DESCRIPTION:Преподаватель: Елкин Александр Се
 ргеевич
DTSTAMP:20260423T084737Z
DTSTART:20260409T130000Z
DURATION:PT3H15M
LOCATION:7-404
SEQUENCE:0
SUMMARY:[ЛК 2п.]Проектирование самолетов (Елк
 ин Александр Сергеевич)
UID:3780316f-e011-47f4-8a01-16ac7b883ce3
END:VEVENT
BEGIN:VEVENT
ATTENDEE;CN=Титов Егор Иванович:https://public.mai.ru/sche
 dule/data/5dd822f7-26a9-11ec-bbda-ac1f6b64c5eb.json
DESCRIPTION:Преподаватель: Титов Егор Иванови
 ч
DTSTAMP:20260423T084737Z
DTSTART:20260410T090000Z
DURATION:PT3H15M
LOCATION:1-10 ангар
SEQUENCE:0
SUMMARY:[ЛК 2п.]Конструирование шасси и СУ (Ти
 тов Егор Иванович)
UID:09a625e9-c30b-4660-abcc-18fb5119b77f
END:VEVENT
BEGIN:VEVENT
ATTENDEE;CN=Птицына Анастасия Дмитриевна:https://
 public.mai.ru/schedule/data/23ea1e28-57ab-11ee-bc0e-3cecef1c132f.json
DESCRIPTION:Преподаватель: Птицына Анастасия 
 Дмитриевна
DTSTAMP:20260423T084737Z
DTSTART:20260410T130000Z
DURATION:PT3H15M
LOCATION:7-326\; 7-417
SEQUENCE:0
SUMMARY:[ЛК 2п.]НИРС (Птицына Анастасия Дмитри
 евна)
UID:dc5ed094-d97d-4d78-aa8e-7b2156ab9b26
END:VEVENT
BEGIN:VEVENT
ATTENDEE;CN=Гуров Виктор Александрович:https://publ
 ic.mai.ru/schedule/data/d24b6a42-0f8a-11ea-bdb2-485b3919ee6d.json
DESCRIPTION:Преподаватель: Гуров Виктор Алекс
 андрович
DTSTAMP:20260423T084737Z
DTSTART:20260411T130000Z
DURATION:PT3H15M
LOCATION:7-404
SEQUENCE:0
SUMMARY:[ПЗ 2п.]Эксплуатационная технологичн
 ость и надежность (Гуров Виктор Александ
 рович)
UID:8ec789f5-cd65-4158-8be7-35f75d65c7f1
END:VEVENT
BEGIN:VEVENT
ATTENDEE;CN=Елкин Александр Сергеевич:https://public
 .mai.ru/schedule/data/25a14460-1f50-11e7-97bf-3cd92bf20bfe.json
DESCRIPTION:Преподаватель: Елкин Александр Се
 ргеевич
DTSTAMP:20260423T084737Z
DTSTART:20260416T130000Z
DURATION:PT3H15M
LOCATION:7-404
SEQUENCE:0
SUMMARY:[ЛК 2п.]Проектирование самолетов (Елк
 ин Александр Сергеевич)
UID:c9df7f7f-9cd6-4a51-b8e9-3888797ac6b0
END:VEVENT
BEGIN:VEVENT
ATTENDEE;CN=Титов Егор Иванович:https://public.mai.ru/sche
 dule/data/5dd822f7-26a9-11ec-bbda-ac1f6b64c5eb.json
DESCRIPTION:Преподаватель: Титов Егор Иванови
 ч
DTSTAMP:20260423T084737Z
DTSTART:20260417T090000Z
DURATION:PT3H15M
LOCATION:1-10 ангар
SEQUENCE:0
SUMMARY:[ЛК 2п.]Конструирование шасси и СУ (Ти
 тов Егор Иванович)
UID:c80e3ebd-1a5f-4cea-9b25-e8023c1e12d3
END:VEVENT
BEGIN:VEVENT
ATTENDEE;CN=Птицына Анастасия Дмитриевна:https://
 public.mai.ru/schedule/data/23ea1e28-57ab-11ee-bc0e-3cecef1c132f.json
DESCRIPTION:Преподаватель: Птицына Анастасия 
 Дмитриевна
DTSTAMP:20260423T084737Z
DTSTART:20260417T130000Z
DURATION:PT3H15M
LOCATION:7-326\; 7-417
SEQUENCE:0
SUMMARY:[ЛР 2п.]НИРС (Птицына Анастасия Дмитри
 евна)
UID:21dda469-1785-49a6-8802-3a7591d7fd8a
END:VEVENT
BEGIN:VEVENT
ATTENDEE;CN=Гуров Виктор Александрович:https://publ
 ic.mai.ru/schedule/data/d24b6a42-0f8a-11ea-bdb2-485b3919ee6d.json
DESCRIPTION:Преподаватель: Гуров Виктор Алекс
 андрович
DTSTAMP:20260423T084737Z
DTSTART:20260418T130000Z
DURATION:PT3H15M
LOCATION:7-404
SEQUENCE:0
SUMMARY:[ПЗ 2п.]Эксплуатационная технологичн
 ость и надежность (Гуров Виктор Александ
 рович)
UID:3c3702b4-6b67-4f0a-b6e3-ad3f8a85f001
END:VEVENT
BEGIN:VEVENT
ATTENDEE;CN=Денискина Галина Юрьевна:https://public.m
 ai.ru/schedule/data/896e2712-2832-11e8-9a02-485b3919ee6d.json
DESCRIPTION:Преподаватель: Денискина Галина Ю
 рьевна
DTSTAMP:20260423T084737Z
DTSTART:20260422T130000Z
DURATION:PT3H15M
LOCATION:7-510
SEQUENCE:0
SUMMARY:[ЛР 2п.]Управление качеством (Дениски
 на Галина Юрьевна)
UID:f3088b0f-f6f9-4ad7-ae23-812f9b96f4ef
END:VEVENT
BEGIN:VEVENT
ATTENDEE;CN=Елкин Александр Сергеевич:https://public
 .mai.ru/schedule/data/25a14460-1f50-11e7-97bf-3cd92bf20bfe.json
DESCRIPTION:Преподаватель: Елкин Александр Се
 ргеевич
DTSTAMP:20260423T084737Z
DTSTART:20260423T130000Z
DURATION:PT3H15M
LOCATION:7-404
SEQUENCE:0
SUMMARY:[ЛР 2п.]Проектирование самолетов (Елк
 ин Александр Сергеевич)
UID:381aa491-a52c-495d-a565-664903b8e782
END:VEVENT
BEGIN:VEVENT
ATTENDEE;CN=Титов Егор Иванович:https://public.mai.ru/sche
 dule/data/5dd822f7-26a9-11ec-bbda-ac1f6b64c5eb.json
DESCRIPTION:Преподаватель: Титов Егор Иванови
 ч
DTSTAMP:20260423T084737Z
DTSTART:20260424T090000Z
DURATION:PT3H15M
LOCATION:1-10 ангар
SEQUENCE:0
SUMMARY:[ЛК 2п.]Конструирование шасси и СУ (Ти
 тов Егор Иванович)
UID:ba573dfc-522f-482c-8740-7a27a0db7861
END:VEVENT
BEGIN:VEVENT
ATTENDEE;CN=Птицына Анастасия Дмитриевна:https://
 public.mai.ru/schedule/data/23ea1e28-57ab-11ee-bc0e-3cecef1c132f.json
DESCRIPTION:Преподаватель: Птицына Анастасия 
 Дмитриевна
DTSTAMP:20260423T084737Z
DTSTART:20260424T130000Z
DURATION:PT3H15M
LOCATION:7-326\; 7-417
SEQUENCE:0
SUMMARY:[ЛР 2п.]НИРС (Птицына Анастасия Дмитри
 евна)
UID:0cca9e8e-610f-45b6-bdd7-1780797ae28c
END:VEVENT
BEGIN:VEVENT
ATTENDEE;CN=Гуров Виктор Александрович:https://publ
 ic.mai.ru/schedule/data/d24b6a42-0f8a-11ea-bdb2-485b3919ee6d.json
DESCRIPTION:Преподаватель: Гуров Виктор Алекс
 андрович
DTSTAMP:20260423T084737Z
DTSTART:20260425T130000Z
DURATION:PT3H15M
LOCATION:7-404
SEQUENCE:0
SUMMARY:[ПЗ 2п.]Эксплуатационная технологичн
 ость и надежность (Гуров Виктор Александ
 рович)
UID:8c675f7e-4353-4409-80d4-129a9ea3086e
END:VEVENT
BEGIN:VEVENT
ATTENDEE;CN=Елкин Александр Сергеевич:https://public
 .mai.ru/schedule/data/25a14460-1f50-11e7-97bf-3cd92bf20bfe.json
DESCRIPTION:Преподаватель: Елкин Александр Се
 ргеевич
DTSTAMP:20260423T084737Z
DTSTART:20260430T130000Z
DURATION:PT3H15M
LOCATION:7-404
SEQUENCE:0
SUMMARY:[ЛР 2п.]Проектирование самолетов (Елк
 ин Александр Сергеевич)
UID:9b6bb895-1502-42fd-aeca-7eb8163316b9
END:VEVENT
BEGIN:VEVENT
ATTENDEE;CN=Гуров Виктор Александрович:https://publ
 ic.mai.ru/schedule/data/d24b6a42-0f8a-11ea-bdb2-485b3919ee6d.json
DESCRIPTION:Преподаватель: Гуров Виктор Алекс
 андрович
DTSTAMP:20260423T084737Z
DTSTART:20260502T130000Z
DURATION:PT3H15M
LOCATION:7-404
SEQUENCE:0
SUMMARY:[ПЗ 2п.]Эксплуатационная технологичн
 ость и надежность (Гуров Виктор Александ
 рович)
UID:5f6ed43c-77fd-43f8-9f3c-cc393fd5b1ee
END:VEVENT
BEGIN:VEVENT
ATTENDEE;CN=Денискина Галина Юрьевна:https://public.m
 ai.ru/schedule/data/896e2712-2832-11e8-9a02-485b3919ee6d.json
DESCRIPTION:Преподаватель: Денискина Галина Ю
 рьевна
DTSTAMP:20260423T084737Z
DTSTART:20260506T130000Z
DURATION:PT3H15M
LOCATION:7-510
SEQUENCE:0
SUMMARY:[ЛР 2п.]Управление качеством (Дениски
 на Галина Юрьевна)
UID:d0b81ea7-11bd-473d-a3f1-388935aac613
END:VEVENT
BEGIN:VEVENT
ATTENDEE;CN=Елкин Александр Сергеевич:https://public
 .mai.ru/schedule/data/25a14460-1f50-11e7-97bf-3cd92bf20bfe.json
DESCRIPTION:Преподаватель: Елкин Александр Се
 ргеевич
DTSTAMP:20260423T084737Z
DTSTART:20260507T130000Z
DURATION:PT3H15M
LOCATION:7-404
SEQUENCE:0
SUMMARY:[ЛР 2п.]Проектирование самолетов (Елк
 ин Александр Сергеевич)
UID:3d70af9b-94ee-4cf6-b47a-c7959647959b
END:VEVENT
BEGIN:VEVENT
ATTENDEE;CN=Титов Егор Иванович:https://public.mai.ru/sche
 dule/data/5dd822f7-26a9-11ec-bbda-ac1f6b64c5eb.json
DESCRIPTION:Преподаватель: Титов Егор Иванови
 ч
DTSTAMP:20260423T084737Z
DTSTART:20260508T090000Z
DURATION:PT3H15M
LOCATION:1-10 ангар
SEQUENCE:0
SUMMARY:[ЛР 2п.]Конструирование шасси и СУ (Ти
 тов Егор Иванович)
UID:de3be707-2183-4a62-9e4b-f18d616e0166
END:VEVENT
BEGIN:VEVENT
ATTENDEE;CN=Елкин Александр Сергеевич:https://public
 .mai.ru/schedule/data/25a14460-1f50-11e7-97bf-3cd92bf20bfe.json
DESCRIPTION:Преподаватель: Елкин Александр Се
 ргеевич
DTSTAMP:20260423T084737Z
DTSTART:20260514T130000Z
DURATION:PT3H15M
LOCATION:7-404
SEQUENCE:0
SUMMARY:[ЛР 2п.]Проектирование самолетов (Елк
 ин Александр Сергеевич)
UID:a32924e9-647d-4170-9c34-0e47c36607c5
END:VEVENT
BEGIN:VEVENT
ATTENDEE;CN=Титов Егор Иванович:https://public.mai.ru/sche
 dule/data/5dd822f7-26a9-11ec-bbda-ac1f6b64c5eb.json
DESCRIPTION:Преподаватель: Титов Егор Иванови
 ч
DTSTAMP:20260423T084737Z
DTSTART:20260515T090000Z
DURATION:PT3H15M
LOCATION:1-10 ангар
SEQUENCE:0
SUMMARY:[ЛР 2п.]Конструирование шасси и СУ (Ти
 тов Егор Иванович)
UID:717a1276-5540-4e00-9f52-da7cd6db028b
END:VEVENT
BEGIN:VEVENT
ATTENDEE;CN=Птицына Анастасия Дмитриевна:https://
 public.mai.ru/schedule/data/23ea1e28-57ab-11ee-bc0e-3cecef1c132f.json
DESCRIPTION:Преподаватель: Птицына Анастасия 
 Дмитриевна
DTSTAMP:20260423T084737Z
DTSTART:20260515T130000Z
DURATION:PT3H15M
LOCATION:7-326\; 7-417
SEQUENCE:0
SUMMARY:[ЛР 2п.]НИРС (Птицына Анастасия Дмитри
 евна)
UID:87122c01-452c-4096-9982-81ad081f9ed0
END:VEVENT
BEGIN:VEVENT
ATTENDEE;CN=Гуров Виктор Александрович:https://publ
 ic.mai.ru/schedule/data/d24b6a42-0f8a-11ea-bdb2-485b3919ee6d.json
DESCRIPTION:Преподаватель: Гуров Виктор Алекс
 андрович
DTSTAMP:20260423T084737Z
DTSTART:20260516T130000Z
DURATION:PT3H15M
LOCATION:7-404
SEQUENCE:0
SUMMARY:[ЛР 2п.]Эксплуатационная технологичн
 ость и надежность (Гуров Виктор Александ
 рович)
UID:46e7f7eb-a967-4156-b85c-b5a95192fb92
END:VEVENT
BEGIN:VEVENT
ATTENDEE;CN=Денискина Галина Юрьевна:https://public.m
 ai.ru/schedule/data/896e2712-2832-11e8-9a02-485b3919ee6d.json
DESCRIPTION:Преподаватель: Денискина Галина Ю
 рьевна
DTSTAMP:20260423T084737Z
DTSTART:20260520T130000Z
DURATION:PT3H15M
LOCATION:7-510
SEQUENCE:0
SUMMARY:[ЛР 2п.]Управление качеством (Дениски
 на Галина Юрьевна)
UID:3ffd1e6e-e1fc-41ec-ae5e-07077faf09f2
END:VEVENT
BEGIN:VEVENT
ATTENDEE;CN=Елкин Александр Сергеевич:https://public
 .mai.ru/schedule/data/25a14460-1f50-11e7-97bf-3cd92bf20bfe.json
DESCRIPTION:Преподаватель: Елкин Александр Се
 ргеевич
DTSTAMP:20260423T084737Z
DTSTART:20260521T130000Z
DURATION:PT3H15M
LOCATION:7-404
SEQUENCE:0
SUMMARY:[ЛР 2п.]Проектирование самолетов (Елк
 ин Александр Сергеевич)
UID:457ffe58-ae3c-4857-ba2e-1bb96cd39be0
END:VEVENT
BEGIN:VEVENT
ATTENDEE;CN=Титов Егор Иванович:https://public.mai.ru/sche
 dule/data/5dd822f7-26a9-11ec-bbda-ac1f6b64c5eb.json
DESCRIPTION:Преподаватель: Титов Егор Иванови
 ч
DTSTAMP:20260423T084737Z
DTSTART:20260522T090000Z
DURATION:PT3H15M
LOCATION:1-10 ангар
SEQUENCE:0
SUMMARY:[ЛР 2п.]Конструирование шасси и СУ (Ти
 тов Егор Иванович)
UID:61e8c295-a97d-4c93-83a9-0a532da80fec
END:VEVENT
BEGIN:VEVENT
ATTENDEE;CN=Птицына Анастасия Дмитриевна:https://
 public.mai.ru/schedule/data/23ea1e28-57ab-11ee-bc0e-3cecef1c132f.json
DESCRIPTION:Преподаватель: Птицына Анастасия 
 Дмитриевна
DTSTAMP:20260423T084737Z
DTSTART:20260522T130000Z
DURATION:PT3H15M
LOCATION:7-326\; 7-417
SEQUENCE:0
SUMMARY:[ЛР 2п.]НИРС (Птицына Анастасия Дмитри
 евна)
UID:f9810f12-f900-490d-9e05-3e8078e9c52d
END:VEVENT
BEGIN:VEVENT
ATTENDEE;CN=Гуров Виктор Александрович:https://publ
 ic.mai.ru/schedule/data/d24b6a42-0f8a-11ea-bdb2-485b3919ee6d.json
DESCRIPTION:Преподаватель: Гуров Виктор Алекс
 андрович
DTSTAMP:20260423T084737Z
DTSTART:20260523T130000Z
DURATION:PT3H15M
LOCATION:7-404
SEQUENCE:0
SUMMARY:[ЛР 2п.]Эксплуатационная технологичн
 ость и надежность (Гуров Виктор Александ
 рович)
UID:cef74354-50ae-461e-a1db-250fcc193b38
END:VEVENT
BEGIN:VEVENT
ATTENDEE;CN=Титов Егор Иванович:https://public.mai.ru/sche
 dule/data/5dd822f7-26a9-11ec-bbda-ac1f6b64c5eb.json
DESCRIPTION:Преподаватель: Титов Егор Иванови
 ч
DTSTAMP:20260423T084737Z
DTSTART:20260529T090000Z
DURATION:PT3H15M
LOCATION:1-10 ангар
SEQUENCE:0
SUMMARY:[ЛР 2п.]Конструирование шасси и СУ (Ти
 тов Егор Иванович)
UID:c7417dbc-ebc7-4e9a-8d77-4632207ead6d
END:VEVENT
BEGIN:VEVENT
ATTENDEE;CN=Гуров Виктор Александрович:https://publ
 ic.mai.ru/schedule/data/d24b6a42-0f8a-11ea-bdb2-485b3919ee6d.json
DESCRIPTION:Преподаватель: Гуров Виктор Алекс
 андрович
DTSTAMP:20260423T084737Z
DTSTART:20260530T130000Z
DURATION:PT3H15M
LOCATION:7-404
SEQUENCE:0
SUMMARY:[ЛР 2п.]Эксплуатационная технологичн
 ость и надежность (Гуров Виктор Александ
 рович)
UID:6a36e7bf-f4cb-4ae5-9b20-efcb0b455a9f
END:VEVENT
BEGIN:VEVENT
ATTENDEE;CN=Денискина Галина Юрьевна:https://public.m
 ai.ru/schedule/data/896e2712-2832-11e8-9a02-485b3919ee6d.json
DESCRIPTION:Преподаватель: Денискина Галина Ю
 рьевна
DTSTAMP:20260423T084737Z
DTSTART:20260603T130000Z
DURATION:PT3H15M
LOCATION:7-510
SEQUENCE:0
SUMMARY:[ЛР 2п.]Управление качеством (Дениски
 на Галина Юрьевна)
UID:5baac575-4d6c-47e3-a3c5-c12ac2363723
END:VEVENT
BEGIN:VEVENT
ATTENDEE;CN=Титов Егор Иванович:https://public.mai.ru/sche
 dule/data/5dd822f7-26a9-11ec-bbda-ac1f6b64c5eb.json
DESCRIPTION:Преподаватель: Титов Егор Иванови
 ч
DTSTAMP:20260423T084737Z
DTSTART:20260605T090000Z
DURATION:PT3H15M
LOCATION:1-10 ангар
SEQUENCE:0
SUMMARY:[ЛР 2п.]Конструирование шасси и СУ (Ти
 тов Егор Иванович)
UID:c9bf912d-db9b-4e7a-a90c-e78826f77056
END:VEVENT
BEGIN:VEVENT
ATTENDEE;CN=Гуров Виктор Александрович:https://publ
 ic.mai.ru/schedule/data/d24b6a42-0f8a-11ea-bdb2-485b3919ee6d.json
DESCRIPTION:Преподаватель: Гуров Виктор Алекс
 андрович
DTSTAMP:20260423T084737Z
DTSTART:20260606T130000Z
DURATION:PT3H15M
LOCATION:7-404
SEQUENCE:0
SUMMARY:[ЛР 2п.]Эксплуатационная технологичн
 ость и надежность (Гуров Виктор Александ
 рович)
UID:aa4e7a83-f2b7-4401-9339-f3e294289598
END:VEVENT
END:VCALENDAR
