﻿BEGIN:VCALENDAR
CALSCALE:GREGORIAN
METHOD:PUBLISH
PRODID:-//MAI-dep406//MAI Dep406 1.01//RU
VERSION:2.0
X-WR-TIMEZONE:Europe/Moscow
BEGIN:VTIMEZONE
TZID:Europe/Moscow
X-LIC-LOCATION:Europe/Moscow
BEGIN:STANDARD
DTSTART;VALUE=DATE:19700101
TZNAME:GMT+3
TZOFFSETTO:+0300
END:STANDARD
END:VTIMEZONE
BEGIN:VEVENT
ATTENDEE;CN=Ерикова Анастасия Михайловна:https://
 public.mai.ru/schedule/data/6ae56d7c-3f0f-11e4-8698-3cd92bf20bfe.json
DESCRIPTION:Преподаватель: Ерикова Анастасия 
 Михайловна
DTSTAMP:20260420T125755Z
DTSTART:20260209T163000Z
DURATION:PT3H15M
LOCATION:2-211(2А)
SEQUENCE:0
SUMMARY:[ЛК 2п.]Проектирование и графическое 
 программирование измерительных цепей (Е
 рикова Анастасия Михайловна)
UID:cedbea5d-2929-4730-8bbb-2728b27d6980
END:VEVENT
BEGIN:VEVENT
ATTENDEE;CN=Минин-Катанов Арсений Константино
 вич:https://public.mai.ru/schedule/data/b756cabf-0d0b-11ea-bdb2-485b391
 9ee6d.json
DESCRIPTION:Преподаватель: Минин-Катанов Арсе
 ний Константинович
DTSTAMP:20260420T125755Z
DTSTART:20260216T163000Z
DURATION:PT3H15M
LOCATION:2-211(2А)
SEQUENCE:0
SUMMARY:[ПЗ 2п.]Проектирование и графическое 
 программирование измерительных цепей (М
 инин-Катанов Арсений Константинович)
UID:22bd08ad-c980-4c7b-91a5-88167b6c6cd2
END:VEVENT
BEGIN:VEVENT
ATTENDEE;CN=Гордеев Святослав Валерьевич:https://
 public.mai.ru/schedule/data/677e7641-bcfe-11ed-bbf8-3cecef1c132f.json
DESCRIPTION:Преподаватель: Гордеев Святослав 
 Валерьевич
DTSTAMP:20260420T125755Z
DTSTART:20260217T130000Z
DURATION:PT3H15M
LOCATION:2-301(2В)
SEQUENCE:0
SUMMARY:[ЛК 2п.]Введение в искусственный инте
 ллект (Гордеев Святослав Валерьевич)
UID:a6b98ded-ec52-4841-88bd-83cbd54799f7
END:VEVENT
BEGIN:VEVENT
ATTENDEE;CN=Ермакова Мария Олеговна:https://public.mai
 .ru/schedule/data/f8b77a86-1393-11e7-97bf-3cd92bf20bfe.json
DESCRIPTION:Преподаватель: Ермакова Мария Оле
 говна
DTSTAMP:20260420T125755Z
DTSTART:20260217T163000Z
DURATION:PT1H30M
LOCATION:2-314(2В)
SEQUENCE:0
SUMMARY:[ЛК 1п.]Метрологическое обеспечение ж
 изненного цикла изделий (Ермакова Мария 
 Олеговна)
UID:15ade93e-02cd-4066-8a73-8ba9b3affdb6
END:VEVENT
BEGIN:VEVENT
ATTENDEE;CN=Кащеев Игорь Сергеевич:https://public.mai.r
 u/schedule/data/cd557009-ae15-11e9-9275-485b3919ee6d.json
DESCRIPTION:Преподаватель: Кащеев Игорь Серге
 евич
DTSTAMP:20260420T125755Z
DTSTART:20260218T163000Z
DURATION:PT3H15M
LOCATION:2-211(2А)
SEQUENCE:0
SUMMARY:[ПЗ 2п.]Проектирование контрольно-исп
 ытательных стендов и установок (Кащеев И
 горь Сергеевич)
UID:e38bd58f-6a54-4c58-b3d4-06bffe1a4655
END:VEVENT
BEGIN:VEVENT
ATTENDEE;CN=Ермакова Мария Олеговна:https://public.mai
 .ru/schedule/data/f8b77a86-1393-11e7-97bf-3cd92bf20bfe.json
DESCRIPTION:Преподаватель: Ермакова Мария Оле
 говна
DTSTAMP:20260420T125755Z
DTSTART:20260220T104500Z
DURATION:PT3H45M
LOCATION:2-211(2А)
SEQUENCE:0
SUMMARY:[ЛК 2п.]Экономика качества\, стандарти
 зации и метрологического обеспечения (Е
 рмакова Мария Олеговна)
UID:3c7b023b-3b54-4efb-b197-8e32a6f6987e
END:VEVENT
BEGIN:VEVENT
ATTENDEE;CN=Монахова Вероника Павловна:https://publ
 ic.mai.ru/schedule/data/f94601ab-1d99-11e0-9baf-1c6f65450efa.json
DESCRIPTION:Преподаватель: Монахова Вероника 
 Павловна
DTSTAMP:20260420T125755Z
DTSTART:20260224T163000Z
DURATION:PT3H15M
LOCATION:2-301(2В)
SEQUENCE:0
SUMMARY:[ЛК 2п.]Проектирование контрольно-исп
 ытательных стендов и установок (Монахов
 а Вероника Павловна)
UID:867f5a64-41b5-4484-b2bb-456d44558347
END:VEVENT
BEGIN:VEVENT
ATTENDEE;CN=Валиуллин Валерий Владимирович:http
 s://public.mai.ru/schedule/data/b410bbb8-bad7-11e5-8f95-3cd92bf20bfe.json
ATTENDEE;CN=Надирадзе Андрей Борисович:https://publ
 ic.mai.ru/schedule/data/d72d6427-1d99-11e0-9baf-1c6f65450efa.json
DESCRIPTION:Преподаватель: Валиуллин Валерий 
 Владимирович\,Надирадзе Андрей Борисови
 ч
DTSTAMP:20260420T125755Z
DTSTART:20260227T090000Z
DURATION:PT3H15M
LOCATION:2-410-1 (2В)
SEQUENCE:0
SUMMARY:[ПЗ 2п.]Введение в искусственный инте
 ллект (Валиуллин Валерий Владимирович\,Н
 адирадзе Андрей Борисович)
UID:033da091-6967-4beb-b7bd-400dd67f2557
END:VEVENT
BEGIN:VEVENT
ATTENDEE;CN=Минин-Катанов Арсений Константино
 вич:https://public.mai.ru/schedule/data/b756cabf-0d0b-11ea-bdb2-485b391
 9ee6d.json
DESCRIPTION:Преподаватель: Минин-Катанов Арсе
 ний Константинович
DTSTAMP:20260420T125755Z
DTSTART:20260302T163000Z
DURATION:PT3H15M
LOCATION:2-211(2А)
SEQUENCE:0
SUMMARY:[ПЗ 2п.]Проектирование и графическое 
 программирование измерительных цепей (М
 инин-Катанов Арсений Константинович)
UID:bc62a6b2-92a8-491c-b087-79a247c724f4
END:VEVENT
BEGIN:VEVENT
ATTENDEE;CN=Гордеев Святослав Валерьевич:https://
 public.mai.ru/schedule/data/677e7641-bcfe-11ed-bbf8-3cecef1c132f.json
DESCRIPTION:Преподаватель: Гордеев Святослав 
 Валерьевич
DTSTAMP:20260420T125755Z
DTSTART:20260303T130000Z
DURATION:PT3H15M
LOCATION:2-301(2В)
SEQUENCE:0
SUMMARY:[ЛК 2п.]Введение в искусственный инте
 ллект (Гордеев Святослав Валерьевич)
UID:a65123de-ca25-4031-9af1-2328188d9605
END:VEVENT
BEGIN:VEVENT
ATTENDEE;CN=Ермакова Мария Олеговна:https://public.mai
 .ru/schedule/data/f8b77a86-1393-11e7-97bf-3cd92bf20bfe.json
DESCRIPTION:Преподаватель: Ермакова Мария Оле
 говна
DTSTAMP:20260420T125755Z
DTSTART:20260303T163000Z
DURATION:PT1H30M
LOCATION:2-314(2В)
SEQUENCE:0
SUMMARY:[ЛК 1п.]Метрологическое обеспечение ж
 изненного цикла изделий (Ермакова Мария 
 Олеговна)
UID:dacc3625-b30d-4660-94a7-f96bc6001a93
END:VEVENT
BEGIN:VEVENT
ATTENDEE;CN=Кащеев Игорь Сергеевич:https://public.mai.r
 u/schedule/data/cd557009-ae15-11e9-9275-485b3919ee6d.json
DESCRIPTION:Преподаватель: Кащеев Игорь Серге
 евич
DTSTAMP:20260420T125755Z
DTSTART:20260304T163000Z
DURATION:PT3H15M
LOCATION:2-211(2А)
SEQUENCE:0
SUMMARY:[ПЗ 2п.]Проектирование контрольно-исп
 ытательных стендов и установок (Кащеев И
 горь Сергеевич)
UID:c637a64c-070e-4c27-ac1f-67ba45a798e5
END:VEVENT
BEGIN:VEVENT
ATTENDEE;CN=Ермакова Мария Олеговна:https://public.mai
 .ru/schedule/data/f8b77a86-1393-11e7-97bf-3cd92bf20bfe.json
DESCRIPTION:Преподаватель: Ермакова Мария Оле
 говна
DTSTAMP:20260420T125755Z
DTSTART:20260306T104500Z
DURATION:PT3H45M
LOCATION:2-211(2А)
SEQUENCE:0
SUMMARY:[ЛК 2п.]Экономика качества\, стандарти
 зации и метрологического обеспечения (Е
 рмакова Мария Олеговна)
UID:7a8212b5-4a2d-4e39-9c10-13e1c9d53204
END:VEVENT
BEGIN:VEVENT
ATTENDEE;CN=Чапурина Олеся Николаевна:https://public
 .mai.ru/schedule/data/c9643be3-257b-11ea-bdb2-485b3919ee6d.json
DESCRIPTION:Преподаватель: Чапурина Олеся Ник
 олаевна
DTSTAMP:20260420T125755Z
DTSTART:20260310T130000Z
DURATION:PT3H15M
LOCATION:2-211(2А)
SEQUENCE:0
SUMMARY:[ПЗ 2п.]Метрологическое обеспечение ж
 изненного цикла изделий (Чапурина Олеся 
 Николаевна)
UID:0f81c347-590f-4214-b5e8-22484f4c80c7
END:VEVENT
BEGIN:VEVENT
ATTENDEE;CN=Монахова Вероника Павловна:https://publ
 ic.mai.ru/schedule/data/f94601ab-1d99-11e0-9baf-1c6f65450efa.json
DESCRIPTION:Преподаватель: Монахова Вероника 
 Павловна
DTSTAMP:20260420T125755Z
DTSTART:20260310T163000Z
DURATION:PT3H15M
LOCATION:2-301(2В)
SEQUENCE:0
SUMMARY:[ЛК 2п.]Проектирование контрольно-исп
 ытательных стендов и установок (Монахов
 а Вероника Павловна)
UID:6e412a18-ae8d-4385-8fe1-4b169066696e
END:VEVENT
BEGIN:VEVENT
ATTENDEE;CN=Валиуллин Валерий Владимирович:http
 s://public.mai.ru/schedule/data/b410bbb8-bad7-11e5-8f95-3cd92bf20bfe.json
ATTENDEE;CN=Надирадзе Андрей Борисович:https://publ
 ic.mai.ru/schedule/data/d72d6427-1d99-11e0-9baf-1c6f65450efa.json
DESCRIPTION:Преподаватель: Валиуллин Валерий 
 Владимирович\,Надирадзе Андрей Борисови
 ч
DTSTAMP:20260420T125755Z
DTSTART:20260313T090000Z
DURATION:PT3H15M
LOCATION:2-410-1 (2В)
SEQUENCE:0
SUMMARY:[ПЗ 2п.]Введение в искусственный инте
 ллект (Валиуллин Валерий Владимирович\,Н
 адирадзе Андрей Борисович)
UID:16936f2e-ef34-401f-bfa9-d235d34459ff
END:VEVENT
BEGIN:VEVENT
ATTENDEE;CN=Ермакова Мария Олеговна:https://public.mai
 .ru/schedule/data/f8b77a86-1393-11e7-97bf-3cd92bf20bfe.json
DESCRIPTION:Преподаватель: Ермакова Мария Оле
 говна
DTSTAMP:20260420T125755Z
DTSTART:20260313T130000Z
DURATION:PT1H30M
LOCATION:2-211(2А)
SEQUENCE:0
SUMMARY:[ПЗ 1п.]Экономика качества\, стандарти
 зации и метрологического обеспечения (Е
 рмакова Мария Олеговна)
UID:d3ff5860-95f8-4d5a-a1c7-075d83e2c454
END:VEVENT
BEGIN:VEVENT
ATTENDEE;CN=Минин-Катанов Арсений Константино
 вич:https://public.mai.ru/schedule/data/b756cabf-0d0b-11ea-bdb2-485b391
 9ee6d.json
DESCRIPTION:Преподаватель: Минин-Катанов Арсе
 ний Константинович
DTSTAMP:20260420T125755Z
DTSTART:20260316T163000Z
DURATION:PT3H15M
LOCATION:2-211(2А)
SEQUENCE:0
SUMMARY:[ПЗ 2п.]Проектирование и графическое 
 программирование измерительных цепей (М
 инин-Катанов Арсений Константинович)
UID:505c19f6-710a-470d-a012-0de39d9a660b
END:VEVENT
BEGIN:VEVENT
ATTENDEE;CN=Гордеев Святослав Валерьевич:https://
 public.mai.ru/schedule/data/677e7641-bcfe-11ed-bbf8-3cecef1c132f.json
DESCRIPTION:Преподаватель: Гордеев Святослав 
 Валерьевич
DTSTAMP:20260420T125755Z
DTSTART:20260317T130000Z
DURATION:PT3H15M
LOCATION:2-301(2В)
SEQUENCE:0
SUMMARY:[ЛК 2п.]Введение в искусственный инте
 ллект (Гордеев Святослав Валерьевич)
UID:e6a4a526-9959-487d-a226-206515e82b1b
END:VEVENT
BEGIN:VEVENT
ATTENDEE;CN=Ермакова Мария Олеговна:https://public.mai
 .ru/schedule/data/f8b77a86-1393-11e7-97bf-3cd92bf20bfe.json
DESCRIPTION:Преподаватель: Ермакова Мария Оле
 говна
DTSTAMP:20260420T125755Z
DTSTART:20260317T163000Z
DURATION:PT1H30M
LOCATION:2-314(2В)
SEQUENCE:0
SUMMARY:[ЛК 1п.]Метрологическое обеспечение ж
 изненного цикла изделий (Ермакова Мария 
 Олеговна)
UID:c0c6a345-5d0d-426b-bdb8-9eff91258fbd
END:VEVENT
BEGIN:VEVENT
ATTENDEE;CN=Кащеев Игорь Сергеевич:https://public.mai.r
 u/schedule/data/cd557009-ae15-11e9-9275-485b3919ee6d.json
DESCRIPTION:Преподаватель: Кащеев Игорь Серге
 евич
DTSTAMP:20260420T125755Z
DTSTART:20260318T163000Z
DURATION:PT3H15M
LOCATION:2-211(2А)
SEQUENCE:0
SUMMARY:[ПЗ 2п.]Проектирование контрольно-исп
 ытательных стендов и установок (Кащеев И
 горь Сергеевич)
UID:fa1e014e-815d-4768-9ce2-93151127af6d
END:VEVENT
BEGIN:VEVENT
ATTENDEE;CN=Ермакова Мария Олеговна:https://public.mai
 .ru/schedule/data/f8b77a86-1393-11e7-97bf-3cd92bf20bfe.json
DESCRIPTION:Преподаватель: Ермакова Мария Оле
 говна
DTSTAMP:20260420T125755Z
DTSTART:20260320T104500Z
DURATION:PT3H45M
LOCATION:2-211(2А)
SEQUENCE:0
SUMMARY:[ЛК 2п.]Экономика качества\, стандарти
 зации и метрологического обеспечения (Е
 рмакова Мария Олеговна)
UID:1005e118-9a87-4a94-8981-81c79edaa737
END:VEVENT
BEGIN:VEVENT
ATTENDEE;CN=Ерикова Анастасия Михайловна:https://
 public.mai.ru/schedule/data/6ae56d7c-3f0f-11e4-8698-3cd92bf20bfe.json
DESCRIPTION:Преподаватель: Ерикова Анастасия 
 Михайловна
DTSTAMP:20260420T125755Z
DTSTART:20260323T144500Z
DURATION:PT1H30M
LOCATION:2-211(2А)
SEQUENCE:0
SUMMARY:[ЛК 1п.]Проектирование и графическое 
 программирование измерительных цепей (Е
 рикова Анастасия Михайловна)
UID:303450cc-b9db-4b26-8b98-dedbded6ceec
END:VEVENT
BEGIN:VEVENT
ATTENDEE;CN=Кащеев Игорь Сергеевич:https://public.mai.r
 u/schedule/data/cd557009-ae15-11e9-9275-485b3919ee6d.json
DESCRIPTION:Преподаватель: Кащеев Игорь Серге
 евич
DTSTAMP:20260420T125755Z
DTSTART:20260323T163000Z
DURATION:PT3H15M
LOCATION:2-211(2А)
SEQUENCE:0
SUMMARY:[ЛР 2п.]Проектирование контрольно-исп
 ытательных стендов и установок (Кащеев И
 горь Сергеевич)
UID:88250e29-9226-44b7-8032-2c1192d7d0bf
END:VEVENT
BEGIN:VEVENT
ATTENDEE;CN=Чапурина Олеся Николаевна:https://public
 .mai.ru/schedule/data/c9643be3-257b-11ea-bdb2-485b3919ee6d.json
DESCRIPTION:Преподаватель: Чапурина Олеся Ник
 олаевна
DTSTAMP:20260420T125755Z
DTSTART:20260324T130000Z
DURATION:PT3H15M
LOCATION:2-211(2А)
SEQUENCE:0
SUMMARY:[ПЗ 2п.]Метрологическое обеспечение ж
 изненного цикла изделий (Чапурина Олеся 
 Николаевна)
UID:a25b9d66-448d-49cd-b9c9-159764a3ff62
END:VEVENT
BEGIN:VEVENT
ATTENDEE;CN=Монахова Вероника Павловна:https://publ
 ic.mai.ru/schedule/data/f94601ab-1d99-11e0-9baf-1c6f65450efa.json
DESCRIPTION:Преподаватель: Монахова Вероника 
 Павловна
DTSTAMP:20260420T125755Z
DTSTART:20260324T163000Z
DURATION:PT3H15M
LOCATION:2-301(2В)
SEQUENCE:0
SUMMARY:[ЛК 2п.]Проектирование контрольно-исп
 ытательных стендов и установок (Монахов
 а Вероника Павловна)
UID:90bea406-94ff-4215-9e30-9d7a04ae3110
END:VEVENT
BEGIN:VEVENT
ATTENDEE;CN=Валиуллин Валерий Владимирович:http
 s://public.mai.ru/schedule/data/b410bbb8-bad7-11e5-8f95-3cd92bf20bfe.json
ATTENDEE;CN=Надирадзе Андрей Борисович:https://publ
 ic.mai.ru/schedule/data/d72d6427-1d99-11e0-9baf-1c6f65450efa.json
DESCRIPTION:Преподаватель: Валиуллин Валерий 
 Владимирович\,Надирадзе Андрей Борисови
 ч
DTSTAMP:20260420T125755Z
DTSTART:20260327T090000Z
DURATION:PT3H15M
LOCATION:2-410-1 (2В)
SEQUENCE:0
SUMMARY:[ПЗ 2п.]Введение в искусственный инте
 ллект (Валиуллин Валерий Владимирович\,Н
 адирадзе Андрей Борисович)
UID:e22e6fce-b596-4ec3-ab24-a811e51d6442
END:VEVENT
BEGIN:VEVENT
ATTENDEE;CN=Ермакова Мария Олеговна:https://public.mai
 .ru/schedule/data/f8b77a86-1393-11e7-97bf-3cd92bf20bfe.json
DESCRIPTION:Преподаватель: Ермакова Мария Оле
 говна
DTSTAMP:20260420T125755Z
DTSTART:20260327T130000Z
DURATION:PT1H30M
LOCATION:2-211(2А)
SEQUENCE:0
SUMMARY:[ПЗ 1п.]Экономика качества\, стандарти
 зации и метрологического обеспечения (Е
 рмакова Мария Олеговна)
UID:7ee82a08-d770-4aec-97e8-647e3bbab5f2
END:VEVENT
BEGIN:VEVENT
ATTENDEE;CN=Минин-Катанов Арсений Константино
 вич:https://public.mai.ru/schedule/data/b756cabf-0d0b-11ea-bdb2-485b391
 9ee6d.json
DESCRIPTION:Преподаватель: Минин-Катанов Арсе
 ний Константинович
DTSTAMP:20260420T125755Z
DTSTART:20260330T163000Z
DURATION:PT3H15M
LOCATION:2-211(2А)
SEQUENCE:0
SUMMARY:[ПЗ 2п.]Проектирование и графическое 
 программирование измерительных цепей (М
 инин-Катанов Арсений Константинович)
UID:aba7380c-c7cb-44c7-b0d7-47721dfdde5b
END:VEVENT
BEGIN:VEVENT
ATTENDEE;CN=Гордеев Святослав Валерьевич:https://
 public.mai.ru/schedule/data/677e7641-bcfe-11ed-bbf8-3cecef1c132f.json
DESCRIPTION:Преподаватель: Гордеев Святослав 
 Валерьевич
DTSTAMP:20260420T125755Z
DTSTART:20260331T130000Z
DURATION:PT3H15M
LOCATION:2-301(2В)
SEQUENCE:0
SUMMARY:[ЛК 2п.]Введение в искусственный инте
 ллект (Гордеев Святослав Валерьевич)
UID:87e72e6a-c33d-4cf0-b36f-a17e47cd2103
END:VEVENT
BEGIN:VEVENT
ATTENDEE;CN=Ермакова Мария Олеговна:https://public.mai
 .ru/schedule/data/f8b77a86-1393-11e7-97bf-3cd92bf20bfe.json
DESCRIPTION:Преподаватель: Ермакова Мария Оле
 говна
DTSTAMP:20260420T125755Z
DTSTART:20260331T163000Z
DURATION:PT1H30M
LOCATION:2-314(2В)
SEQUENCE:0
SUMMARY:[ЛК 1п.]Метрологическое обеспечение ж
 изненного цикла изделий (Ермакова Мария 
 Олеговна)
UID:ee12a3bb-876e-41e5-b483-46dd779cf5d9
END:VEVENT
BEGIN:VEVENT
ATTENDEE;CN=Кащеев Игорь Сергеевич:https://public.mai.r
 u/schedule/data/cd557009-ae15-11e9-9275-485b3919ee6d.json
DESCRIPTION:Преподаватель: Кащеев Игорь Серге
 евич
DTSTAMP:20260420T125755Z
DTSTART:20260401T163000Z
DURATION:PT3H15M
LOCATION:2-211(2А)
SEQUENCE:0
SUMMARY:[ПЗ 2п.]Проектирование контрольно-исп
 ытательных стендов и установок (Кащеев И
 горь Сергеевич)
UID:0999e794-f829-475f-b8e3-fea68c73338d
END:VEVENT
BEGIN:VEVENT
ATTENDEE;CN=Ермакова Мария Олеговна:https://public.mai
 .ru/schedule/data/f8b77a86-1393-11e7-97bf-3cd92bf20bfe.json
DESCRIPTION:Преподаватель: Ермакова Мария Оле
 говна
DTSTAMP:20260420T125755Z
DTSTART:20260403T104500Z
DURATION:PT3H45M
LOCATION:2-211(2А)
SEQUENCE:0
SUMMARY:[ЛК\,ПЗ 2п.]Экономика качества\, станда
 ртизации и метрологического обеспечени
 я (Ермакова Мария Олеговна)
UID:17c08c5e-3b5f-42f8-8c89-76f739b487a9
END:VEVENT
BEGIN:VEVENT
ATTENDEE;CN=Чапурина Олеся Николаевна:https://public
 .mai.ru/schedule/data/c9643be3-257b-11ea-bdb2-485b3919ee6d.json
DESCRIPTION:Преподаватель: Чапурина Олеся Ник
 олаевна
DTSTAMP:20260420T125755Z
DTSTART:20260406T144500Z
DURATION:PT1H30M
LOCATION:2-211(2А)
SEQUENCE:0
SUMMARY:[ПЗ 1п.]Метрологическое обеспечение ж
 изненного цикла изделий (Чапурина Олеся 
 Николаевна)
UID:46caad38-c682-45c0-98e2-3cce48788d77
END:VEVENT
BEGIN:VEVENT
ATTENDEE;CN=Чапурина Олеся Николаевна:https://public
 .mai.ru/schedule/data/c9643be3-257b-11ea-bdb2-485b3919ee6d.json
DESCRIPTION:Преподаватель: Чапурина Олеся Ник
 олаевна
DTSTAMP:20260420T125755Z
DTSTART:20260407T130000Z
DURATION:PT3H15M
LOCATION:2-211(2А)
SEQUENCE:0
SUMMARY:[ПЗ 2п.]Метрологическое обеспечение ж
 изненного цикла изделий (Чапурина Олеся 
 Николаевна)
UID:ba739042-b00c-43cd-84cf-adf4d68c997a
END:VEVENT
BEGIN:VEVENT
ATTENDEE;CN=Монахова Вероника Павловна:https://publ
 ic.mai.ru/schedule/data/f94601ab-1d99-11e0-9baf-1c6f65450efa.json
DESCRIPTION:Преподаватель: Монахова Вероника 
 Павловна
DTSTAMP:20260420T125755Z
DTSTART:20260407T163000Z
DURATION:PT3H15M
LOCATION:2-301(2В)
SEQUENCE:0
SUMMARY:[ЛК 2п.]Проектирование контрольно-исп
 ытательных стендов и установок (Монахов
 а Вероника Павловна)
UID:e6597e9a-c580-4b55-8348-e2975f21ea02
END:VEVENT
BEGIN:VEVENT
ATTENDEE;CN=Валиуллин Валерий Владимирович:http
 s://public.mai.ru/schedule/data/b410bbb8-bad7-11e5-8f95-3cd92bf20bfe.json
ATTENDEE;CN=Надирадзе Андрей Борисович:https://publ
 ic.mai.ru/schedule/data/d72d6427-1d99-11e0-9baf-1c6f65450efa.json
DESCRIPTION:Преподаватель: Валиуллин Валерий 
 Владимирович\,Надирадзе Андрей Борисови
 ч
DTSTAMP:20260420T125755Z
DTSTART:20260410T090000Z
DURATION:PT3H15M
LOCATION:2-410-1 (2В)
SEQUENCE:0
SUMMARY:[ПЗ 2п.]Введение в искусственный инте
 ллект (Валиуллин Валерий Владимирович\,Н
 адирадзе Андрей Борисович)
UID:7d211d4b-355b-4938-adc5-afa97be67332
END:VEVENT
BEGIN:VEVENT
ATTENDEE;CN=Ермакова Мария Олеговна:https://public.mai
 .ru/schedule/data/f8b77a86-1393-11e7-97bf-3cd92bf20bfe.json
DESCRIPTION:Преподаватель: Ермакова Мария Оле
 говна
DTSTAMP:20260420T125755Z
DTSTART:20260410T130000Z
DURATION:PT1H30M
LOCATION:2-211(2А)
SEQUENCE:0
SUMMARY:[ЛК 1п.]Метрологическое обеспечение ж
 изненного цикла изделий (Ермакова Мария 
 Олеговна)
UID:1828b7a4-f8cc-46cf-83f8-5656496d24e3
END:VEVENT
BEGIN:VEVENT
ATTENDEE;CN=Минин-Катанов Арсений Константино
 вич:https://public.mai.ru/schedule/data/b756cabf-0d0b-11ea-bdb2-485b391
 9ee6d.json
DESCRIPTION:Преподаватель: Минин-Катанов Арсе
 ний Константинович
DTSTAMP:20260420T125755Z
DTSTART:20260413T163000Z
DURATION:PT3H15M
LOCATION:2-211(2А)
SEQUENCE:0
SUMMARY:[ПЗ 2п.]Проектирование и графическое 
 программирование измерительных цепей (М
 инин-Катанов Арсений Константинович)
UID:9cd9d603-9ff0-4f26-9a42-1855d5112533
END:VEVENT
BEGIN:VEVENT
ATTENDEE;CN=Гордеев Святослав Валерьевич:https://
 public.mai.ru/schedule/data/677e7641-bcfe-11ed-bbf8-3cecef1c132f.json
DESCRIPTION:Преподаватель: Гордеев Святослав 
 Валерьевич
DTSTAMP:20260420T125755Z
DTSTART:20260414T130000Z
DURATION:PT3H15M
LOCATION:2-301(2В)
SEQUENCE:0
SUMMARY:[ЛК 2п.]Введение в искусственный инте
 ллект (Гордеев Святослав Валерьевич)
UID:8c4545be-37fa-4e28-88b3-897bb4805dc1
END:VEVENT
BEGIN:VEVENT
ATTENDEE;CN=Ермакова Мария Олеговна:https://public.mai
 .ru/schedule/data/f8b77a86-1393-11e7-97bf-3cd92bf20bfe.json
DESCRIPTION:Преподаватель: Ермакова Мария Оле
 говна
DTSTAMP:20260420T125755Z
DTSTART:20260414T163000Z
DURATION:PT1H30M
LOCATION:2-314(2В)
SEQUENCE:0
SUMMARY:[ЛК 1п.]Метрологическое обеспечение ж
 изненного цикла изделий (Ермакова Мария 
 Олеговна)
UID:2b92fa8f-5426-4985-b125-56a1843e937b
END:VEVENT
BEGIN:VEVENT
ATTENDEE;CN=Кащеев Игорь Сергеевич:https://public.mai.r
 u/schedule/data/cd557009-ae15-11e9-9275-485b3919ee6d.json
DESCRIPTION:Преподаватель: Кащеев Игорь Серге
 евич
DTSTAMP:20260420T125755Z
DTSTART:20260415T163000Z
DURATION:PT3H15M
LOCATION:2-211(2А)
SEQUENCE:0
SUMMARY:[ЛР 2п.]Проектирование контрольно-исп
 ытательных стендов и установок (Кащеев И
 горь Сергеевич)
UID:bf050197-38ac-4601-bfc2-a5c0a394e998
END:VEVENT
BEGIN:VEVENT
ATTENDEE;CN=Ермакова Мария Олеговна:https://public.mai
 .ru/schedule/data/f8b77a86-1393-11e7-97bf-3cd92bf20bfe.json
DESCRIPTION:Преподаватель: Ермакова Мария Оле
 говна
DTSTAMP:20260420T125755Z
DTSTART:20260417T104500Z
DURATION:PT3H45M
LOCATION:2-211(2А)
SEQUENCE:0
SUMMARY:[ЛК\,ПЗ 2п.]Экономика качества\, станда
 ртизации и метрологического обеспечени
 я (Ермакова Мария Олеговна)
UID:e5da645f-dd13-43f0-91d7-200b5508fe70
END:VEVENT
BEGIN:VEVENT
ATTENDEE;CN=Чапурина Олеся Николаевна:https://public
 .mai.ru/schedule/data/c9643be3-257b-11ea-bdb2-485b3919ee6d.json
DESCRIPTION:Преподаватель: Чапурина Олеся Ник
 олаевна
DTSTAMP:20260420T125755Z
DTSTART:20260420T144500Z
DURATION:PT1H30M
LOCATION:2-211(2А)
SEQUENCE:0
SUMMARY:[ПЗ 1п.]Метрологическое обеспечение ж
 изненного цикла изделий (Чапурина Олеся 
 Николаевна)
UID:3adfaf2e-a0c9-4c66-9773-5389f74240f6
END:VEVENT
BEGIN:VEVENT
ATTENDEE;CN=Чапурина Олеся Николаевна:https://public
 .mai.ru/schedule/data/c9643be3-257b-11ea-bdb2-485b3919ee6d.json
DESCRIPTION:Преподаватель: Чапурина Олеся Ник
 олаевна
DTSTAMP:20260420T125755Z
DTSTART:20260421T130000Z
DURATION:PT3H15M
LOCATION:2-211(2А)
SEQUENCE:0
SUMMARY:[ПЗ 2п.]Метрологическое обеспечение ж
 изненного цикла изделий (Чапурина Олеся 
 Николаевна)
UID:bd035e16-6828-40fa-b569-f92eeac841b5
END:VEVENT
BEGIN:VEVENT
ATTENDEE;CN=Монахова Вероника Павловна:https://publ
 ic.mai.ru/schedule/data/f94601ab-1d99-11e0-9baf-1c6f65450efa.json
DESCRIPTION:Преподаватель: Монахова Вероника 
 Павловна
DTSTAMP:20260420T125755Z
DTSTART:20260421T163000Z
DURATION:PT3H15M
LOCATION:2-301(2В)
SEQUENCE:0
SUMMARY:[ЛК 2п.]Проектирование контрольно-исп
 ытательных стендов и установок (Монахов
 а Вероника Павловна)
UID:b0cb8f41-3dd9-4a25-a515-6c6a9082bdd9
END:VEVENT
BEGIN:VEVENT
ATTENDEE;CN=Валиуллин Валерий Владимирович:http
 s://public.mai.ru/schedule/data/b410bbb8-bad7-11e5-8f95-3cd92bf20bfe.json
ATTENDEE;CN=Надирадзе Андрей Борисович:https://publ
 ic.mai.ru/schedule/data/d72d6427-1d99-11e0-9baf-1c6f65450efa.json
DESCRIPTION:Преподаватель: Валиуллин Валерий 
 Владимирович\,Надирадзе Андрей Борисови
 ч
DTSTAMP:20260420T125755Z
DTSTART:20260424T090000Z
DURATION:PT3H15M
LOCATION:2-410-1 (2В)
SEQUENCE:0
SUMMARY:[ПЗ 2п.]Введение в искусственный инте
 ллект (Валиуллин Валерий Владимирович\,Н
 адирадзе Андрей Борисович)
UID:f043370b-07ea-44ac-b6de-0c6fd2d3023d
END:VEVENT
BEGIN:VEVENT
ATTENDEE;CN=Минин-Катанов Арсений Константино
 вич:https://public.mai.ru/schedule/data/b756cabf-0d0b-11ea-bdb2-485b391
 9ee6d.json
DESCRIPTION:Преподаватель: Минин-Катанов Арсе
 ний Константинович
DTSTAMP:20260420T125755Z
DTSTART:20260427T163000Z
DURATION:PT3H15M
LOCATION:2-211(2А)
SEQUENCE:0
SUMMARY:[ПЗ 2п.]Проектирование и графическое 
 программирование измерительных цепей (М
 инин-Катанов Арсений Константинович)
UID:f7832c49-3bd7-4d51-842f-fbd661bfca75
END:VEVENT
BEGIN:VEVENT
ATTENDEE;CN=Ермакова Мария Олеговна:https://public.mai
 .ru/schedule/data/f8b77a86-1393-11e7-97bf-3cd92bf20bfe.json
DESCRIPTION:Преподаватель: Ермакова Мария Оле
 говна
DTSTAMP:20260420T125755Z
DTSTART:20260428T163000Z
DURATION:PT1H30M
LOCATION:2-314(2В)
SEQUENCE:0
SUMMARY:[ЛК 1п.]Метрологическое обеспечение ж
 изненного цикла изделий (Ермакова Мария 
 Олеговна)
UID:d9818745-28fa-4120-a029-c77b98c1bcf6
END:VEVENT
BEGIN:VEVENT
ATTENDEE;CN=Кащеев Игорь Сергеевич:https://public.mai.r
 u/schedule/data/cd557009-ae15-11e9-9275-485b3919ee6d.json
DESCRIPTION:Преподаватель: Кащеев Игорь Серге
 евич
DTSTAMP:20260420T125755Z
DTSTART:20260429T163000Z
DURATION:PT3H15M
LOCATION:2-211(2А)
SEQUENCE:0
SUMMARY:[ЛР 2п.]Проектирование контрольно-исп
 ытательных стендов и установок (Кащеев И
 горь Сергеевич)
UID:38eae35a-f969-4d4b-8cf1-8a4cde5845c4
END:VEVENT
BEGIN:VEVENT
ATTENDEE;CN=Чапурина Олеся Николаевна:https://public
 .mai.ru/schedule/data/c9643be3-257b-11ea-bdb2-485b3919ee6d.json
DESCRIPTION:Преподаватель: Чапурина Олеся Ник
 олаевна
DTSTAMP:20260420T125755Z
DTSTART:20260505T130000Z
DURATION:PT3H15M
LOCATION:2-211(2А)
SEQUENCE:0
SUMMARY:[ПЗ 2п.]Метрологическое обеспечение ж
 изненного цикла изделий (Чапурина Олеся 
 Николаевна)
UID:6b56937f-41b9-4463-af02-96dd93337934
END:VEVENT
BEGIN:VEVENT
ATTENDEE;CN=Монахова Вероника Павловна:https://publ
 ic.mai.ru/schedule/data/f94601ab-1d99-11e0-9baf-1c6f65450efa.json
DESCRIPTION:Преподаватель: Монахова Вероника 
 Павловна
DTSTAMP:20260420T125755Z
DTSTART:20260505T163000Z
DURATION:PT1H30M
LOCATION:2-301(2В)
SEQUENCE:0
SUMMARY:[ЛК 1п.]Проектирование контрольно-исп
 ытательных стендов и установок (Монахов
 а Вероника Павловна)
UID:d1658d8e-089b-46ac-9b7b-c9a7255b2423
END:VEVENT
BEGIN:VEVENT
ATTENDEE;CN=Валиуллин Валерий Владимирович:http
 s://public.mai.ru/schedule/data/b410bbb8-bad7-11e5-8f95-3cd92bf20bfe.json
ATTENDEE;CN=Надирадзе Андрей Борисович:https://publ
 ic.mai.ru/schedule/data/d72d6427-1d99-11e0-9baf-1c6f65450efa.json
DESCRIPTION:Преподаватель: Валиуллин Валерий 
 Владимирович\,Надирадзе Андрей Борисови
 ч
DTSTAMP:20260420T125755Z
DTSTART:20260508T090000Z
DURATION:PT1H30M
LOCATION:2-410-1 (2В)
SEQUENCE:0
SUMMARY:[ПЗ 1п.]Введение в искусственный инте
 ллект (Валиуллин Валерий Владимирович\,Н
 адирадзе Андрей Борисович)
UID:389acbea-08bc-4917-81e3-98021a35c79d
END:VEVENT
BEGIN:VEVENT
ATTENDEE;CN=Ермакова Мария Олеговна:https://public.mai
 .ru/schedule/data/f8b77a86-1393-11e7-97bf-3cd92bf20bfe.json
DESCRIPTION:Преподаватель: Ермакова Мария Оле
 говна
DTSTAMP:20260420T125755Z
DTSTART:20260514T104500Z
DURATION:PT1H30M
LOCATION:2-211(2А)
SEQUENCE:0
SUMMARY:[Экзамен 1п.]Метрологическое обеспеч
 ение жизненного цикла изделий (Ермакова 
 Мария Олеговна)
UID:66dd7086-a62d-445c-a539-028bc13d51de
END:VEVENT
BEGIN:VEVENT
ATTENDEE;CN=Монахова Вероника Павловна:https://publ
 ic.mai.ru/schedule/data/f94601ab-1d99-11e0-9baf-1c6f65450efa.json
DESCRIPTION:Преподаватель: Монахова Вероника 
 Павловна
DTSTAMP:20260420T125755Z
DTSTART:20260519T163000Z
DURATION:PT1H30M
LOCATION:2-301(2В)
SEQUENCE:0
SUMMARY:[Экзамен 1п.]Проектирование контроль
 но-испытательных стендов и установок (Мо
 нахова Вероника Павловна)
UID:5044780b-747a-43ba-9cb1-386177f0fe6e
END:VEVENT
BEGIN:VEVENT
ATTENDEE;CN=Ерикова Анастасия Михайловна:https://
 public.mai.ru/schedule/data/6ae56d7c-3f0f-11e4-8698-3cd92bf20bfe.json
DESCRIPTION:Преподаватель: Ерикова Анастасия 
 Михайловна
DTSTAMP:20260420T125755Z
DTSTART:20260523T104500Z
DURATION:PT1H30M
LOCATION:2-201(2А)
SEQUENCE:0
SUMMARY:[Экзамен 1п.]Проектирование и графиче
 ское программирование измерительных це
 пей (Ерикова Анастасия Михайловна)
UID:c28bef96-3502-4b7e-95ee-1b03dde8872e
END:VEVENT
END:VCALENDAR
