﻿BEGIN:VCALENDAR
CALSCALE:GREGORIAN
METHOD:PUBLISH
PRODID:-//MAI-dep406//MAI Dep406 1.01//RU
VERSION:2.0
X-WR-TIMEZONE:Europe/Moscow
BEGIN:VTIMEZONE
TZID:Europe/Moscow
X-LIC-LOCATION:Europe/Moscow
BEGIN:STANDARD
DTSTART;VALUE=DATE:19700101
TZNAME:GMT+3
TZOFFSETTO:+0300
END:STANDARD
END:VTIMEZONE
BEGIN:VEVENT
ATTENDEE;CN=Абашев Виктор Михайлович:https://public.m
 ai.ru/schedule/data/5eb7f00e-1d99-11e0-9baf-1c6f65450efa.json
DESCRIPTION:Преподаватель: Абашев Виктор Миха
 йлович
DTSTAMP:20260419T133923Z
DTSTART:20260211T130000Z
DURATION:PT3H15M
LOCATION:2-23(2Б)
SEQUENCE:0
SUMMARY:[ЛК 2п.]Конструкция и проектирование 
 жидкостных ракетных двигателей (Абашев 
 Виктор Михайлович)
UID:6b762917-f513-4d8c-8091-f4fe1fd87431
END:VEVENT
BEGIN:VEVENT
ATTENDEE;CN=Клименко Дмитрий Викторович:https://pu
 blic.mai.ru/schedule/data/f5f05766-8178-11e2-91ec-3cd92bf20bfe.json
DESCRIPTION:Преподаватель: Клименко Дмитрий В
 икторович
DTSTAMP:20260419T133923Z
DTSTART:20260212T130000Z
DURATION:PT3H15M
LOCATION:2-201(2А)
SEQUENCE:0
SUMMARY:[ЛК 2п.]Прикладная экология (Клименко 
 Дмитрий Викторович)
UID:95fb034e-4106-4ee0-a019-2b56edd0e5c9
END:VEVENT
BEGIN:VEVENT
ATTENDEE;CN=Ларионова Елена Виталиевна:https://publ
 ic.mai.ru/schedule/data/d6097849-1d9a-11e0-9baf-1c6f65450efa.json
DESCRIPTION:Преподаватель: Ларионова Елена Ви
 талиевна
DTSTAMP:20260419T133923Z
DTSTART:20260212T163000Z
DURATION:PT1H30M
LOCATION:2-301(2В)
SEQUENCE:0
SUMMARY:[ЛК 1п.]Конструкция летательных аппар
 атов (Ларионова Елена Виталиевна)
UID:cf806bcc-3250-4428-934f-e53c78bfacb1
END:VEVENT
BEGIN:VEVENT
ATTENDEE;CN=Еремин Андрей Георгиевич:https://public.m
 ai.ru/schedule/data/15914162-1d9a-11e0-9baf-1c6f65450efa.json
DESCRIPTION:Преподаватель: Еремин Андрей Геор
 гиевич
DTSTAMP:20260419T133923Z
DTSTART:20260212T181500Z
DURATION:PT1H30M
LOCATION:2-22(2Б)
SEQUENCE:0
SUMMARY:[ЛК 1п.]Конструкция и проектирование 
 двигателей и энергоустановок космическ
 их ЛА (Еремин Андрей Георгиевич)
UID:e1c44af5-1c72-4275-ac65-69b539496c26
END:VEVENT
BEGIN:VEVENT
ATTENDEE;CN=Еремин Андрей Георгиевич:https://public.m
 ai.ru/schedule/data/15914162-1d9a-11e0-9baf-1c6f65450efa.json
DESCRIPTION:Преподаватель: Еремин Андрей Геор
 гиевич
DTSTAMP:20260419T133923Z
DTSTART:20260216T144500Z
DURATION:PT3H15M
LOCATION:2-22(2Б)
SEQUENCE:0
SUMMARY:[ЛК\,ПЗ 2п.]Конструкция и проектирован
 ие двигателей и энергоустановок космиче
 ских ЛА (Еремин Андрей Георгиевич)
UID:ae5aef69-e8af-43fb-a299-c1696fca17d5
END:VEVENT
BEGIN:VEVENT
ATTENDEE;CN=Гордеев Святослав Валерьевич:https://
 public.mai.ru/schedule/data/677e7641-bcfe-11ed-bbf8-3cecef1c132f.json
DESCRIPTION:Преподаватель: Гордеев Святослав 
 Валерьевич
DTSTAMP:20260419T133923Z
DTSTART:20260217T130000Z
DURATION:PT3H15M
LOCATION:2-301(2В)
SEQUENCE:0
SUMMARY:[ЛК 2п.]Введение в искусственный инте
 ллект (Гордеев Святослав Валерьевич)
UID:0c20f546-cacf-411e-9030-ce621d43cbf2
END:VEVENT
BEGIN:VEVENT
ATTENDEE;CN=Абашев Виктор Михайлович:https://public.m
 ai.ru/schedule/data/5eb7f00e-1d99-11e0-9baf-1c6f65450efa.json
DESCRIPTION:Преподаватель: Абашев Виктор Миха
 йлович
DTSTAMP:20260419T133923Z
DTSTART:20260218T130000Z
DURATION:PT3H15M
LOCATION:2-23(2Б)
SEQUENCE:0
SUMMARY:[ЛК 2п.]Конструкция и проектирование 
 жидкостных ракетных двигателей (Абашев 
 Виктор Михайлович)
UID:6d3f5e2f-08c0-41f5-ba06-c4c3ef77bd65
END:VEVENT
BEGIN:VEVENT
ATTENDEE;CN=Звонарев Сергей Львович:https://public.mai
 .ru/schedule/data/78858e03-1d9a-11e0-9baf-1c6f65450efa.json
DESCRIPTION:Преподаватель: Звонарев Сергей Ль
 вович
DTSTAMP:20260419T133923Z
DTSTART:20260219T130000Z
DURATION:PT3H15M
LOCATION:2-22(2Б)
SEQUENCE:0
SUMMARY:[ЛК 2п.]Силовые установки и агрегаты В
 РД (Звонарев Сергей Львович)
UID:205f1046-e4cd-4852-9ba2-ffbfa7491c78
END:VEVENT
BEGIN:VEVENT
ATTENDEE;CN=Ларионова Елена Виталиевна:https://publ
 ic.mai.ru/schedule/data/d6097849-1d9a-11e0-9baf-1c6f65450efa.json
DESCRIPTION:Преподаватель: Ларионова Елена Ви
 талиевна
DTSTAMP:20260419T133923Z
DTSTART:20260219T163000Z
DURATION:PT1H30M
LOCATION:2-301(2В)
SEQUENCE:0
SUMMARY:[ЛК 1п.]Конструкция летательных аппар
 атов (Ларионова Елена Виталиевна)
UID:6bee5683-8f95-4fd0-ad59-cd778992f50e
END:VEVENT
BEGIN:VEVENT
ATTENDEE;CN=Абашев Виктор Михайлович:https://public.m
 ai.ru/schedule/data/5eb7f00e-1d99-11e0-9baf-1c6f65450efa.json
DESCRIPTION:Преподаватель: Абашев Виктор Миха
 йлович
DTSTAMP:20260419T133923Z
DTSTART:20260225T130000Z
DURATION:PT3H15M
LOCATION:2-23(2Б)
SEQUENCE:0
SUMMARY:[ЛК 2п.]Конструкция и проектирование 
 жидкостных ракетных двигателей (Абашев 
 Виктор Михайлович)
UID:4bb8a9b3-5597-4876-93e5-d8a59ba9a84f
END:VEVENT
BEGIN:VEVENT
ATTENDEE;CN=Клименко Дмитрий Викторович:https://pu
 blic.mai.ru/schedule/data/f5f05766-8178-11e2-91ec-3cd92bf20bfe.json
DESCRIPTION:Преподаватель: Клименко Дмитрий В
 икторович
DTSTAMP:20260419T133923Z
DTSTART:20260226T130000Z
DURATION:PT3H15M
LOCATION:2-201(2А)
SEQUENCE:0
SUMMARY:[ЛК 2п.]Прикладная экология (Клименко 
 Дмитрий Викторович)
UID:5bb6129b-ca1b-4ad1-9b00-4808222c5c00
END:VEVENT
BEGIN:VEVENT
ATTENDEE;CN=Ларионова Елена Виталиевна:https://publ
 ic.mai.ru/schedule/data/d6097849-1d9a-11e0-9baf-1c6f65450efa.json
DESCRIPTION:Преподаватель: Ларионова Елена Ви
 талиевна
DTSTAMP:20260419T133923Z
DTSTART:20260226T163000Z
DURATION:PT1H30M
LOCATION:2-301(2В)
SEQUENCE:0
SUMMARY:[ЛК 1п.]Конструкция летательных аппар
 атов (Ларионова Елена Виталиевна)
UID:f7159f15-9d37-49f1-b016-4e5c4703f5e4
END:VEVENT
BEGIN:VEVENT
ATTENDEE;CN=Еремин Андрей Георгиевич:https://public.m
 ai.ru/schedule/data/15914162-1d9a-11e0-9baf-1c6f65450efa.json
DESCRIPTION:Преподаватель: Еремин Андрей Геор
 гиевич
DTSTAMP:20260419T133923Z
DTSTART:20260226T181500Z
DURATION:PT1H30M
LOCATION:2-22(2Б)
SEQUENCE:0
SUMMARY:[ЛК 1п.]Конструкция и проектирование 
 двигателей и энергоустановок космическ
 их ЛА (Еремин Андрей Георгиевич)
UID:92af452e-8826-4c27-ac9e-42e42fa72070
END:VEVENT
BEGIN:VEVENT
ATTENDEE;CN=Валиуллин Валерий Владимирович:http
 s://public.mai.ru/schedule/data/b410bbb8-bad7-11e5-8f95-3cd92bf20bfe.json
DESCRIPTION:Преподаватель: Валиуллин Валерий 
 Владимирович
DTSTAMP:20260419T133923Z
DTSTART:20260302T104500Z
DURATION:PT3H45M
LOCATION:2-410-1 (2В)
SEQUENCE:0
SUMMARY:[ПЗ 2п.]Введение в искусственный инте
 ллект (Валиуллин Валерий Владимирович)
UID:276245d7-e9ec-41db-8fe7-0b5abbaa88b3
END:VEVENT
BEGIN:VEVENT
ATTENDEE;CN=Еремин Андрей Георгиевич:https://public.m
 ai.ru/schedule/data/15914162-1d9a-11e0-9baf-1c6f65450efa.json
DESCRIPTION:Преподаватель: Еремин Андрей Геор
 гиевич
DTSTAMP:20260419T133923Z
DTSTART:20260302T144500Z
DURATION:PT3H15M
LOCATION:2-22(2Б)
SEQUENCE:0
SUMMARY:[ПЗ 2п.]Конструкция и проектирование 
 двигателей и энергоустановок космическ
 их ЛА (Еремин Андрей Георгиевич)
UID:981fe8f1-a71a-4eff-bd02-96037a0f48ad
END:VEVENT
BEGIN:VEVENT
ATTENDEE;CN=Гордеев Святослав Валерьевич:https://
 public.mai.ru/schedule/data/677e7641-bcfe-11ed-bbf8-3cecef1c132f.json
DESCRIPTION:Преподаватель: Гордеев Святослав 
 Валерьевич
DTSTAMP:20260419T133923Z
DTSTART:20260303T130000Z
DURATION:PT3H15M
LOCATION:2-301(2В)
SEQUENCE:0
SUMMARY:[ЛК 2п.]Введение в искусственный инте
 ллект (Гордеев Святослав Валерьевич)
UID:789500b5-a7bd-4161-b456-b75c7610eb59
END:VEVENT
BEGIN:VEVENT
ATTENDEE;CN=Абашев Виктор Михайлович:https://public.m
 ai.ru/schedule/data/5eb7f00e-1d99-11e0-9baf-1c6f65450efa.json
DESCRIPTION:Преподаватель: Абашев Виктор Миха
 йлович
DTSTAMP:20260419T133923Z
DTSTART:20260304T130000Z
DURATION:PT3H15M
LOCATION:2-23(2Б)
SEQUENCE:0
SUMMARY:[ЛК 2п.]Конструкция и проектирование 
 жидкостных ракетных двигателей (Абашев 
 Виктор Михайлович)
UID:59bed491-0982-4231-97e7-ab037b02cf99
END:VEVENT
BEGIN:VEVENT
ATTENDEE;CN=Звонарев Сергей Львович:https://public.mai
 .ru/schedule/data/78858e03-1d9a-11e0-9baf-1c6f65450efa.json
DESCRIPTION:Преподаватель: Звонарев Сергей Ль
 вович
DTSTAMP:20260419T133923Z
DTSTART:20260305T130000Z
DURATION:PT3H15M
LOCATION:2-22(2Б)
SEQUENCE:0
SUMMARY:[ЛК 2п.]Силовые установки и агрегаты В
 РД (Звонарев Сергей Львович)
UID:c327fcb4-3aa7-421b-b8c4-ca27fabb9037
END:VEVENT
BEGIN:VEVENT
ATTENDEE;CN=Ларионова Елена Виталиевна:https://publ
 ic.mai.ru/schedule/data/d6097849-1d9a-11e0-9baf-1c6f65450efa.json
DESCRIPTION:Преподаватель: Ларионова Елена Ви
 талиевна
DTSTAMP:20260419T133923Z
DTSTART:20260305T163000Z
DURATION:PT1H30M
LOCATION:2-301(2В)
SEQUENCE:0
SUMMARY:[ЛК 1п.]Конструкция летательных аппар
 атов (Ларионова Елена Виталиевна)
UID:9a4ce5fc-1b39-440a-a046-a7599a121ea2
END:VEVENT
BEGIN:VEVENT
ATTENDEE;CN=Каширин Дмитрий Александрович:https:
 //public.mai.ru/schedule/data/7bb4b109-eb42-11e9-9246-485b3919ee6d.json
DESCRIPTION:Преподаватель: Каширин Дмитрий Ал
 ександрович
DTSTAMP:20260419T133923Z
DTSTART:20260305T181500Z
DURATION:PT1H30M
LOCATION:2-113(2Г)
SEQUENCE:0
SUMMARY:[ПЗ 1п.]Прикладная экология (Каширин Д
 митрий Александрович)
UID:f886946d-d513-4a36-971c-e46c4d92a34d
END:VEVENT
BEGIN:VEVENT
ATTENDEE;CN=Ларионова Елена Виталиевна:https://publ
 ic.mai.ru/schedule/data/d6097849-1d9a-11e0-9baf-1c6f65450efa.json
DESCRIPTION:Преподаватель: Ларионова Елена Ви
 талиевна
DTSTAMP:20260419T133923Z
DTSTART:20260311T090000Z
DURATION:PT3H15M
LOCATION:1-8 ангар
SEQUENCE:0
SUMMARY:[ЛР 2п.]Конструкция летательных аппар
 атов (Ларионова Елена Виталиевна)
UID:a065cc45-2f94-4f30-8ce8-774fd71e596a
END:VEVENT
BEGIN:VEVENT
ATTENDEE;CN=Абашев Виктор Михайлович:https://public.m
 ai.ru/schedule/data/5eb7f00e-1d99-11e0-9baf-1c6f65450efa.json
DESCRIPTION:Преподаватель: Абашев Виктор Миха
 йлович
DTSTAMP:20260419T133923Z
DTSTART:20260311T130000Z
DURATION:PT3H15M
LOCATION:2-23(2Б)
SEQUENCE:0
SUMMARY:[ПЗ 2п.]Конструкция и проектирование 
 жидкостных ракетных двигателей (Абашев 
 Виктор Михайлович)
UID:5e131f70-2da7-48a8-88b0-1fff7e8b9fa4
END:VEVENT
BEGIN:VEVENT
ATTENDEE;CN=Клименко Дмитрий Викторович:https://pu
 blic.mai.ru/schedule/data/f5f05766-8178-11e2-91ec-3cd92bf20bfe.json
DESCRIPTION:Преподаватель: Клименко Дмитрий В
 икторович
DTSTAMP:20260419T133923Z
DTSTART:20260312T130000Z
DURATION:PT3H15M
LOCATION:2-201(2А)
SEQUENCE:0
SUMMARY:[ЛК 2п.]Прикладная экология (Клименко 
 Дмитрий Викторович)
UID:fc2e0446-75d1-4043-b6fe-844c1c502809
END:VEVENT
BEGIN:VEVENT
ATTENDEE;CN=Ларионова Елена Виталиевна:https://publ
 ic.mai.ru/schedule/data/d6097849-1d9a-11e0-9baf-1c6f65450efa.json
DESCRIPTION:Преподаватель: Ларионова Елена Ви
 талиевна
DTSTAMP:20260419T133923Z
DTSTART:20260312T163000Z
DURATION:PT1H30M
LOCATION:2-301(2В)
SEQUENCE:0
SUMMARY:[ЛК 1п.]Конструкция летательных аппар
 атов (Ларионова Елена Виталиевна)
UID:2a9936d1-46da-4b1b-9115-b2fea4161104
END:VEVENT
BEGIN:VEVENT
ATTENDEE;CN=Еремин Андрей Георгиевич:https://public.m
 ai.ru/schedule/data/15914162-1d9a-11e0-9baf-1c6f65450efa.json
DESCRIPTION:Преподаватель: Еремин Андрей Геор
 гиевич
DTSTAMP:20260419T133923Z
DTSTART:20260312T181500Z
DURATION:PT1H30M
LOCATION:2-22(2Б)
SEQUENCE:0
SUMMARY:[ЛК 1п.]Конструкция и проектирование 
 двигателей и энергоустановок космическ
 их ЛА (Еремин Андрей Георгиевич)
UID:b8bb7aab-dc6a-4dba-9746-07fc0966d685
END:VEVENT
BEGIN:VEVENT
ATTENDEE;CN=Валиуллин Валерий Владимирович:http
 s://public.mai.ru/schedule/data/b410bbb8-bad7-11e5-8f95-3cd92bf20bfe.json
DESCRIPTION:Преподаватель: Валиуллин Валерий 
 Владимирович
DTSTAMP:20260419T133923Z
DTSTART:20260316T104500Z
DURATION:PT3H45M
LOCATION:2-410-1 (2В)
SEQUENCE:0
SUMMARY:[ПЗ 2п.]Введение в искусственный инте
 ллект (Валиуллин Валерий Владимирович)
UID:a2725f5e-a098-4e2f-a22d-8e784500b80b
END:VEVENT
BEGIN:VEVENT
ATTENDEE;CN=Еремин Андрей Георгиевич:https://public.m
 ai.ru/schedule/data/15914162-1d9a-11e0-9baf-1c6f65450efa.json
DESCRIPTION:Преподаватель: Еремин Андрей Геор
 гиевич
DTSTAMP:20260419T133923Z
DTSTART:20260316T144500Z
DURATION:PT3H15M
LOCATION:2-22(2Б)
SEQUENCE:0
SUMMARY:[ПЗ 2п.]Конструкция и проектирование 
 двигателей и энергоустановок космическ
 их ЛА (Еремин Андрей Георгиевич)
UID:4aa1b788-a183-44d8-ae95-ff435f868867
END:VEVENT
BEGIN:VEVENT
ATTENDEE;CN=Гордеев Святослав Валерьевич:https://
 public.mai.ru/schedule/data/677e7641-bcfe-11ed-bbf8-3cecef1c132f.json
DESCRIPTION:Преподаватель: Гордеев Святослав 
 Валерьевич
DTSTAMP:20260419T133923Z
DTSTART:20260317T130000Z
DURATION:PT3H15M
LOCATION:2-301(2В)
SEQUENCE:0
SUMMARY:[ЛК 2п.]Введение в искусственный инте
 ллект (Гордеев Святослав Валерьевич)
UID:d5d4dbf7-df81-457d-867c-fa42170085fa
END:VEVENT
BEGIN:VEVENT
ATTENDEE;CN=Абашев Виктор Михайлович:https://public.m
 ai.ru/schedule/data/5eb7f00e-1d99-11e0-9baf-1c6f65450efa.json
DESCRIPTION:Преподаватель: Абашев Виктор Миха
 йлович
DTSTAMP:20260419T133923Z
DTSTART:20260318T130000Z
DURATION:PT3H15M
LOCATION:2-23(2Б)
SEQUENCE:0
SUMMARY:[ПЗ 2п.]Конструкция и проектирование 
 жидкостных ракетных двигателей (Абашев 
 Виктор Михайлович)
UID:5bbe98f6-c8b2-4e22-ad3a-d354f7665e1d
END:VEVENT
BEGIN:VEVENT
ATTENDEE;CN=Звонарев Сергей Львович:https://public.mai
 .ru/schedule/data/78858e03-1d9a-11e0-9baf-1c6f65450efa.json
DESCRIPTION:Преподаватель: Звонарев Сергей Ль
 вович
DTSTAMP:20260419T133923Z
DTSTART:20260319T130000Z
DURATION:PT3H15M
LOCATION:2-22(2Б)
SEQUENCE:0
SUMMARY:[ЛК 2п.]Силовые установки и агрегаты В
 РД (Звонарев Сергей Львович)
UID:6b5876ff-84ba-41de-a4f4-b6d40f2bcd11
END:VEVENT
BEGIN:VEVENT
ATTENDEE;CN=Ларионова Елена Виталиевна:https://publ
 ic.mai.ru/schedule/data/d6097849-1d9a-11e0-9baf-1c6f65450efa.json
DESCRIPTION:Преподаватель: Ларионова Елена Ви
 талиевна
DTSTAMP:20260419T133923Z
DTSTART:20260319T163000Z
DURATION:PT1H30M
LOCATION:2-301(2В)
SEQUENCE:0
SUMMARY:[ЛК 1п.]Конструкция летательных аппар
 атов (Ларионова Елена Виталиевна)
UID:d9683359-e348-44d5-bbac-8582da116594
END:VEVENT
BEGIN:VEVENT
ATTENDEE;CN=Каширин Дмитрий Александрович:https:
 //public.mai.ru/schedule/data/7bb4b109-eb42-11e9-9246-485b3919ee6d.json
DESCRIPTION:Преподаватель: Каширин Дмитрий Ал
 ександрович
DTSTAMP:20260419T133923Z
DTSTART:20260319T181500Z
DURATION:PT1H30M
LOCATION:2-113(2Г)
SEQUENCE:0
SUMMARY:[ПЗ 1п.]Прикладная экология (Каширин Д
 митрий Александрович)
UID:f8c18ef0-7c95-4ab4-bcc3-bd2d8af3e4f0
END:VEVENT
BEGIN:VEVENT
ATTENDEE;CN=Ларионова Елена Виталиевна:https://publ
 ic.mai.ru/schedule/data/d6097849-1d9a-11e0-9baf-1c6f65450efa.json
DESCRIPTION:Преподаватель: Ларионова Елена Ви
 талиевна
DTSTAMP:20260419T133923Z
DTSTART:20260325T090000Z
DURATION:PT3H15M
LOCATION:1-8 ангар
SEQUENCE:0
SUMMARY:[ЛР 2п.]Конструкция летательных аппар
 атов (Ларионова Елена Виталиевна)
UID:2bd8f708-8efb-4c24-83e4-8597e1de9658
END:VEVENT
BEGIN:VEVENT
ATTENDEE;CN=Абашев Виктор Михайлович:https://public.m
 ai.ru/schedule/data/5eb7f00e-1d99-11e0-9baf-1c6f65450efa.json
DESCRIPTION:Преподаватель: Абашев Виктор Миха
 йлович
DTSTAMP:20260419T133923Z
DTSTART:20260325T130000Z
DURATION:PT1H30M
LOCATION:2-23(2Б)
SEQUENCE:0
SUMMARY:[ПЗ 1п.]Конструкция и проектирование 
 жидкостных ракетных двигателей (Абашев 
 Виктор Михайлович)
UID:89ca16d6-db12-4eca-9c17-ad820deab014
END:VEVENT
BEGIN:VEVENT
ATTENDEE;CN=Клименко Дмитрий Викторович:https://pu
 blic.mai.ru/schedule/data/f5f05766-8178-11e2-91ec-3cd92bf20bfe.json
DESCRIPTION:Преподаватель: Клименко Дмитрий В
 икторович
DTSTAMP:20260419T133923Z
DTSTART:20260326T130000Z
DURATION:PT3H15M
LOCATION:2-201(2А)
SEQUENCE:0
SUMMARY:[ЛК 2п.]Прикладная экология (Клименко 
 Дмитрий Викторович)
UID:48654304-00c6-4dc8-a253-2c08a5ded0e2
END:VEVENT
BEGIN:VEVENT
ATTENDEE;CN=Ларионова Елена Виталиевна:https://publ
 ic.mai.ru/schedule/data/d6097849-1d9a-11e0-9baf-1c6f65450efa.json
DESCRIPTION:Преподаватель: Ларионова Елена Ви
 талиевна
DTSTAMP:20260419T133923Z
DTSTART:20260326T163000Z
DURATION:PT1H30M
LOCATION:2-301(2В)
SEQUENCE:0
SUMMARY:[ЛК 1п.]Конструкция летательных аппар
 атов (Ларионова Елена Виталиевна)
UID:508e211c-4ed7-44bd-832f-551f184e9d92
END:VEVENT
BEGIN:VEVENT
ATTENDEE;CN=Еремин Андрей Георгиевич:https://public.m
 ai.ru/schedule/data/15914162-1d9a-11e0-9baf-1c6f65450efa.json
DESCRIPTION:Преподаватель: Еремин Андрей Геор
 гиевич
DTSTAMP:20260419T133923Z
DTSTART:20260326T181500Z
DURATION:PT1H30M
LOCATION:2-22(2Б)
SEQUENCE:0
SUMMARY:[ЛК 1п.]Конструкция и проектирование 
 двигателей и энергоустановок космическ
 их ЛА (Еремин Андрей Георгиевич)
UID:55930063-d7d2-464d-8e05-a70c19439a4f
END:VEVENT
BEGIN:VEVENT
ATTENDEE;CN=Валиуллин Валерий Владимирович:http
 s://public.mai.ru/schedule/data/b410bbb8-bad7-11e5-8f95-3cd92bf20bfe.json
DESCRIPTION:Преподаватель: Валиуллин Валерий 
 Владимирович
DTSTAMP:20260419T133923Z
DTSTART:20260330T104500Z
DURATION:PT3H45M
LOCATION:2-410-1 (2В)
SEQUENCE:0
SUMMARY:[ПЗ 2п.]Введение в искусственный инте
 ллект (Валиуллин Валерий Владимирович)
UID:bc34fefa-a3fa-485c-a751-3278de9652ce
END:VEVENT
BEGIN:VEVENT
ATTENDEE;CN=Еремин Андрей Георгиевич:https://public.m
 ai.ru/schedule/data/15914162-1d9a-11e0-9baf-1c6f65450efa.json
DESCRIPTION:Преподаватель: Еремин Андрей Геор
 гиевич
DTSTAMP:20260419T133923Z
DTSTART:20260330T144500Z
DURATION:PT3H15M
LOCATION:2-22(2Б)
SEQUENCE:0
SUMMARY:[ЛР 2п.]Конструкция и проектирование 
 двигателей и энергоустановок космическ
 их ЛА (Еремин Андрей Георгиевич)
UID:1ea0b754-391a-4c03-8544-b249cec1453c
END:VEVENT
BEGIN:VEVENT
ATTENDEE;CN=Гордеев Святослав Валерьевич:https://
 public.mai.ru/schedule/data/677e7641-bcfe-11ed-bbf8-3cecef1c132f.json
DESCRIPTION:Преподаватель: Гордеев Святослав 
 Валерьевич
DTSTAMP:20260419T133923Z
DTSTART:20260331T130000Z
DURATION:PT3H15M
LOCATION:2-301(2В)
SEQUENCE:0
SUMMARY:[ЛК 2п.]Введение в искусственный инте
 ллект (Гордеев Святослав Валерьевич)
UID:1035626c-ef93-4fc6-bb82-cc361c0104eb
END:VEVENT
BEGIN:VEVENT
ATTENDEE;CN=Абашев Виктор Михайлович:https://public.m
 ai.ru/schedule/data/5eb7f00e-1d99-11e0-9baf-1c6f65450efa.json
DESCRIPTION:Преподаватель: Абашев Виктор Миха
 йлович
DTSTAMP:20260419T133923Z
DTSTART:20260401T130000Z
DURATION:PT3H15M
LOCATION:2-23(2Б)
SEQUENCE:0
SUMMARY:[ЛР 2п.]Конструкция и проектирование 
 жидкостных ракетных двигателей (Абашев 
 Виктор Михайлович)
UID:11117bc7-d565-4335-8ae0-94e1ad4ffab0
END:VEVENT
BEGIN:VEVENT
ATTENDEE;CN=Звонарев Сергей Львович:https://public.mai
 .ru/schedule/data/78858e03-1d9a-11e0-9baf-1c6f65450efa.json
DESCRIPTION:Преподаватель: Звонарев Сергей Ль
 вович
DTSTAMP:20260419T133923Z
DTSTART:20260402T130000Z
DURATION:PT3H15M
LOCATION:2-22(2Б)
SEQUENCE:0
SUMMARY:[ЛК 2п.]Силовые установки и агрегаты В
 РД (Звонарев Сергей Львович)
UID:a3570a3d-7c8b-44c1-be11-e717c4e567d7
END:VEVENT
BEGIN:VEVENT
ATTENDEE;CN=Ларионова Елена Виталиевна:https://publ
 ic.mai.ru/schedule/data/d6097849-1d9a-11e0-9baf-1c6f65450efa.json
DESCRIPTION:Преподаватель: Ларионова Елена Ви
 талиевна
DTSTAMP:20260419T133923Z
DTSTART:20260402T163000Z
DURATION:PT1H30M
LOCATION:2-301(2В)
SEQUENCE:0
SUMMARY:[ЛК 1п.]Конструкция летательных аппар
 атов (Ларионова Елена Виталиевна)
UID:cb773135-0623-4feb-b7dd-86b751b88191
END:VEVENT
BEGIN:VEVENT
ATTENDEE;CN=Каширин Дмитрий Александрович:https:
 //public.mai.ru/schedule/data/7bb4b109-eb42-11e9-9246-485b3919ee6d.json
DESCRIPTION:Преподаватель: Каширин Дмитрий Ал
 ександрович
DTSTAMP:20260419T133923Z
DTSTART:20260402T181500Z
DURATION:PT1H30M
LOCATION:2-113(2Г)
SEQUENCE:0
SUMMARY:[ПЗ 1п.]Прикладная экология (Каширин Д
 митрий Александрович)
UID:db4a00e5-11a3-4b02-ae95-7c0e1d17cf4d
END:VEVENT
BEGIN:VEVENT
ATTENDEE;CN=Ларионова Елена Виталиевна:https://publ
 ic.mai.ru/schedule/data/d6097849-1d9a-11e0-9baf-1c6f65450efa.json
DESCRIPTION:Преподаватель: Ларионова Елена Ви
 талиевна
DTSTAMP:20260419T133923Z
DTSTART:20260408T090000Z
DURATION:PT3H15M
LOCATION:1-8 ангар
SEQUENCE:0
SUMMARY:[ЛР 2п.]Конструкция летательных аппар
 атов (Ларионова Елена Виталиевна)
UID:ee9876c0-a7f2-45ff-8e81-d11e904baeba
END:VEVENT
BEGIN:VEVENT
ATTENDEE;CN=Абашев Виктор Михайлович:https://public.m
 ai.ru/schedule/data/5eb7f00e-1d99-11e0-9baf-1c6f65450efa.json
DESCRIPTION:Преподаватель: Абашев Виктор Миха
 йлович
DTSTAMP:20260419T133923Z
DTSTART:20260408T130000Z
DURATION:PT3H15M
LOCATION:2-23(2Б)
SEQUENCE:0
SUMMARY:[ЛР 2п.]Конструкция и проектирование 
 жидкостных ракетных двигателей (Абашев 
 Виктор Михайлович)
UID:9cbd63d6-cd34-4876-ad43-f5ea88172b5e
END:VEVENT
BEGIN:VEVENT
ATTENDEE;CN=Клименко Дмитрий Викторович:https://pu
 blic.mai.ru/schedule/data/f5f05766-8178-11e2-91ec-3cd92bf20bfe.json
DESCRIPTION:Преподаватель: Клименко Дмитрий В
 икторович
DTSTAMP:20260419T133923Z
DTSTART:20260409T130000Z
DURATION:PT1H30M
LOCATION:2-201(2А)
SEQUENCE:0
SUMMARY:[ЛК 1п.]Прикладная экология (Клименко 
 Дмитрий Викторович)
UID:7e690b8d-511d-4460-823c-a91742d90748
END:VEVENT
BEGIN:VEVENT
ATTENDEE;CN=Ларионова Елена Виталиевна:https://publ
 ic.mai.ru/schedule/data/d6097849-1d9a-11e0-9baf-1c6f65450efa.json
DESCRIPTION:Преподаватель: Ларионова Елена Ви
 талиевна
DTSTAMP:20260419T133923Z
DTSTART:20260409T163000Z
DURATION:PT1H30M
LOCATION:2-301(2В)
SEQUENCE:0
SUMMARY:[ЛК 1п.]Конструкция летательных аппар
 атов (Ларионова Елена Виталиевна)
UID:24c586e9-788f-4023-ad74-289772899f45
END:VEVENT
BEGIN:VEVENT
ATTENDEE;CN=Еремин Андрей Георгиевич:https://public.m
 ai.ru/schedule/data/15914162-1d9a-11e0-9baf-1c6f65450efa.json
DESCRIPTION:Преподаватель: Еремин Андрей Геор
 гиевич
DTSTAMP:20260419T133923Z
DTSTART:20260409T181500Z
DURATION:PT1H30M
LOCATION:2-22(2Б)
SEQUENCE:0
SUMMARY:[ЛК 1п.]Конструкция и проектирование 
 двигателей и энергоустановок космическ
 их ЛА (Еремин Андрей Георгиевич)
UID:8e631baa-d7b3-40c8-bc8e-8dd08150cf98
END:VEVENT
BEGIN:VEVENT
ATTENDEE;CN=Валиуллин Валерий Владимирович:http
 s://public.mai.ru/schedule/data/b410bbb8-bad7-11e5-8f95-3cd92bf20bfe.json
DESCRIPTION:Преподаватель: Валиуллин Валерий 
 Владимирович
DTSTAMP:20260419T133923Z
DTSTART:20260413T104500Z
DURATION:PT3H45M
LOCATION:2-410-1 (2В)
SEQUENCE:0
SUMMARY:[ПЗ 2п.]Введение в искусственный инте
 ллект (Валиуллин Валерий Владимирович)
UID:66b6e09c-9d6b-40ae-bde4-adb2753f0bc7
END:VEVENT
BEGIN:VEVENT
ATTENDEE;CN=Еремин Андрей Георгиевич:https://public.m
 ai.ru/schedule/data/15914162-1d9a-11e0-9baf-1c6f65450efa.json
DESCRIPTION:Преподаватель: Еремин Андрей Геор
 гиевич
DTSTAMP:20260419T133923Z
DTSTART:20260413T144500Z
DURATION:PT3H15M
LOCATION:2-22(2Б)
SEQUENCE:0
SUMMARY:[ЛР 2п.]Конструкция и проектирование 
 двигателей и энергоустановок космическ
 их ЛА (Еремин Андрей Георгиевич)
UID:1fa328a3-9c75-4778-aa7c-b2dda069a577
END:VEVENT
BEGIN:VEVENT
ATTENDEE;CN=Гордеев Святослав Валерьевич:https://
 public.mai.ru/schedule/data/677e7641-bcfe-11ed-bbf8-3cecef1c132f.json
DESCRIPTION:Преподаватель: Гордеев Святослав 
 Валерьевич
DTSTAMP:20260419T133923Z
DTSTART:20260414T130000Z
DURATION:PT3H15M
LOCATION:2-301(2В)
SEQUENCE:0
SUMMARY:[ЛК 2п.]Введение в искусственный инте
 ллект (Гордеев Святослав Валерьевич)
UID:ad13174a-30d9-4373-99f2-0d0dd117ba96
END:VEVENT
BEGIN:VEVENT
ATTENDEE;CN=Абашев Виктор Михайлович:https://public.m
 ai.ru/schedule/data/5eb7f00e-1d99-11e0-9baf-1c6f65450efa.json
DESCRIPTION:Преподаватель: Абашев Виктор Миха
 йлович
DTSTAMP:20260419T133923Z
DTSTART:20260415T130000Z
DURATION:PT3H15M
LOCATION:2-23(2Б)
SEQUENCE:0
SUMMARY:[ЛР 2п.]Конструкция и проектирование 
 жидкостных ракетных двигателей (Абашев 
 Виктор Михайлович)
UID:8264df1a-5163-42df-a2f2-8820ced68b5f
END:VEVENT
BEGIN:VEVENT
ATTENDEE;CN=Звонарев Сергей Львович:https://public.mai
 .ru/schedule/data/78858e03-1d9a-11e0-9baf-1c6f65450efa.json
DESCRIPTION:Преподаватель: Звонарев Сергей Ль
 вович
DTSTAMP:20260419T133923Z
DTSTART:20260416T130000Z
DURATION:PT3H15M
LOCATION:2-22(2Б)
SEQUENCE:0
SUMMARY:[ЛК 2п.]Силовые установки и агрегаты В
 РД (Звонарев Сергей Львович)
UID:bb57ebf6-e7ab-4c5f-9066-43b44448fbe3
END:VEVENT
BEGIN:VEVENT
ATTENDEE;CN=Ларионова Елена Виталиевна:https://publ
 ic.mai.ru/schedule/data/d6097849-1d9a-11e0-9baf-1c6f65450efa.json
DESCRIPTION:Преподаватель: Ларионова Елена Ви
 талиевна
DTSTAMP:20260419T133923Z
DTSTART:20260416T163000Z
DURATION:PT1H30M
LOCATION:2-301(2В)
SEQUENCE:0
SUMMARY:[ЛК 1п.]Конструкция летательных аппар
 атов (Ларионова Елена Виталиевна)
UID:92175f7a-02f3-45bd-adfd-be74e3ea8c38
END:VEVENT
BEGIN:VEVENT
ATTENDEE;CN=Каширин Дмитрий Александрович:https:
 //public.mai.ru/schedule/data/7bb4b109-eb42-11e9-9246-485b3919ee6d.json
DESCRIPTION:Преподаватель: Каширин Дмитрий Ал
 ександрович
DTSTAMP:20260419T133923Z
DTSTART:20260416T181500Z
DURATION:PT1H30M
LOCATION:2-113(2Г)
SEQUENCE:0
SUMMARY:[ПЗ 1п.]Прикладная экология (Каширин Д
 митрий Александрович)
UID:f61d364d-1544-4f9e-a0cc-c59ed6445fb5
END:VEVENT
BEGIN:VEVENT
ATTENDEE;CN=Ларионова Елена Виталиевна:https://publ
 ic.mai.ru/schedule/data/d6097849-1d9a-11e0-9baf-1c6f65450efa.json
DESCRIPTION:Преподаватель: Ларионова Елена Ви
 талиевна
DTSTAMP:20260419T133923Z
DTSTART:20260422T090000Z
DURATION:PT3H15M
LOCATION:1-8 ангар
SEQUENCE:0
SUMMARY:[ЛР 2п.]Конструкция летательных аппар
 атов (Ларионова Елена Виталиевна)
UID:4ef11be1-1f9a-4b97-980b-7486bec4fc89
END:VEVENT
BEGIN:VEVENT
ATTENDEE;CN=Звонарев Сергей Львович:https://public.mai
 .ru/schedule/data/78858e03-1d9a-11e0-9baf-1c6f65450efa.json
DESCRIPTION:Преподаватель: Звонарев Сергей Ль
 вович
DTSTAMP:20260419T133923Z
DTSTART:20260422T130000Z
DURATION:PT3H15M
LOCATION:2-22(2Б)
SEQUENCE:0
SUMMARY:[ЛР 2п.]Силовые установки и агрегаты В
 РД (Звонарев Сергей Львович)
UID:20564300-ffb7-47d8-865f-96ee9addca01
END:VEVENT
BEGIN:VEVENT
ATTENDEE;CN=Ларионова Елена Виталиевна:https://publ
 ic.mai.ru/schedule/data/d6097849-1d9a-11e0-9baf-1c6f65450efa.json
DESCRIPTION:Преподаватель: Ларионова Елена Ви
 талиевна
DTSTAMP:20260419T133923Z
DTSTART:20260423T163000Z
DURATION:PT1H30M
LOCATION:2-301(2В)
SEQUENCE:0
SUMMARY:[ЛК 1п.]Конструкция летательных аппар
 атов (Ларионова Елена Виталиевна)
UID:a8d7b145-7ff9-4a25-a45e-d97a65f04db4
END:VEVENT
BEGIN:VEVENT
ATTENDEE;CN=Еремин Андрей Георгиевич:https://public.m
 ai.ru/schedule/data/15914162-1d9a-11e0-9baf-1c6f65450efa.json
DESCRIPTION:Преподаватель: Еремин Андрей Геор
 гиевич
DTSTAMP:20260419T133923Z
DTSTART:20260423T181500Z
DURATION:PT1H30M
LOCATION:2-22(2Б)
SEQUENCE:0
SUMMARY:[ЛК 1п.]Конструкция и проектирование 
 двигателей и энергоустановок космическ
 их ЛА (Еремин Андрей Георгиевич)
UID:f582adb7-263c-470d-a666-209d04f0994f
END:VEVENT
BEGIN:VEVENT
ATTENDEE;CN=Валиуллин Валерий Владимирович:http
 s://public.mai.ru/schedule/data/b410bbb8-bad7-11e5-8f95-3cd92bf20bfe.json
DESCRIPTION:Преподаватель: Валиуллин Валерий 
 Владимирович
DTSTAMP:20260419T133923Z
DTSTART:20260427T104500Z
DURATION:PT3H45M
LOCATION:2-410-1 (2В)
SEQUENCE:0
SUMMARY:[ПЗ 2п.]Введение в искусственный инте
 ллект (Валиуллин Валерий Владимирович)
UID:7eb3972f-717a-44b6-869f-3d69c09a3722
END:VEVENT
BEGIN:VEVENT
ATTENDEE;CN=Еремин Андрей Георгиевич:https://public.m
 ai.ru/schedule/data/15914162-1d9a-11e0-9baf-1c6f65450efa.json
DESCRIPTION:Преподаватель: Еремин Андрей Геор
 гиевич
DTSTAMP:20260419T133923Z
DTSTART:20260427T144500Z
DURATION:PT3H15M
LOCATION:2-22(2Б)
SEQUENCE:0
SUMMARY:[ЛР 2п.]Конструкция и проектирование 
 двигателей и энергоустановок космическ
 их ЛА (Еремин Андрей Георгиевич)
UID:7db3a884-ce32-40d8-b8a8-168b233f3609
END:VEVENT
BEGIN:VEVENT
ATTENDEE;CN=Звонарев Сергей Львович:https://public.mai
 .ru/schedule/data/78858e03-1d9a-11e0-9baf-1c6f65450efa.json
DESCRIPTION:Преподаватель: Звонарев Сергей Ль
 вович
DTSTAMP:20260419T133923Z
DTSTART:20260428T130000Z
DURATION:PT3H15M
LOCATION:2-22(2Б)
SEQUENCE:0
SUMMARY:[ЛР 2п.]Силовые установки и агрегаты В
 РД (Звонарев Сергей Львович)
UID:3777d396-f946-42af-80c5-8e131a198a2c
END:VEVENT
BEGIN:VEVENT
ATTENDEE;CN=Звонарев Сергей Львович:https://public.mai
 .ru/schedule/data/78858e03-1d9a-11e0-9baf-1c6f65450efa.json
DESCRIPTION:Преподаватель: Звонарев Сергей Ль
 вович
DTSTAMP:20260419T133923Z
DTSTART:20260429T130000Z
DURATION:PT3H15M
LOCATION:2-22(2Б)
SEQUENCE:0
SUMMARY:[ЛР 2п.]Силовые установки и агрегаты В
 РД (Звонарев Сергей Львович)
UID:1f274be5-f801-4cc2-ad92-a44476ebc99a
END:VEVENT
BEGIN:VEVENT
ATTENDEE;CN=Звонарев Сергей Львович:https://public.mai
 .ru/schedule/data/78858e03-1d9a-11e0-9baf-1c6f65450efa.json
DESCRIPTION:Преподаватель: Звонарев Сергей Ль
 вович
DTSTAMP:20260419T133923Z
DTSTART:20260430T130000Z
DURATION:PT3H15M
LOCATION:2-22(2Б)
SEQUENCE:0
SUMMARY:[ЛР 2п.]Силовые установки и агрегаты В
 РД (Звонарев Сергей Львович)
UID:9ded51ce-af46-4aa6-a05b-912708e32bb9
END:VEVENT
BEGIN:VEVENT
ATTENDEE;CN=Еремин Андрей Георгиевич:https://public.m
 ai.ru/schedule/data/15914162-1d9a-11e0-9baf-1c6f65450efa.json
DESCRIPTION:Преподаватель: Еремин Андрей Геор
 гиевич
DTSTAMP:20260419T133923Z
DTSTART:20260507T181500Z
DURATION:PT1H30M
LOCATION:2-22(2Б)
SEQUENCE:0
SUMMARY:[ЛК 1п.]Конструкция и проектирование 
 двигателей и энергоустановок космическ
 их ЛА (Еремин Андрей Георгиевич)
UID:982d993d-fde1-4d5e-9cf5-49897346d331
END:VEVENT
END:VCALENDAR
