﻿BEGIN:VCALENDAR
CALSCALE:GREGORIAN
METHOD:PUBLISH
PRODID:-//MAI-dep406//MAI Dep406 1.01//RU
VERSION:2.0
X-WR-TIMEZONE:Europe/Moscow
BEGIN:VTIMEZONE
TZID:Europe/Moscow
X-LIC-LOCATION:Europe/Moscow
BEGIN:STANDARD
DTSTART;VALUE=DATE:19700101
TZNAME:GMT+3
TZOFFSETTO:+0300
END:STANDARD
END:VTIMEZONE
BEGIN:VEVENT
ATTENDEE;CN=Суркова Екатерина Валерьевна:https://
 public.mai.ru/schedule/data/d0c047f5-1d99-11e0-9baf-1c6f65450efa.json
DESCRIPTION:Преподаватель: Суркова Екатерина 
 Валерьевна
DTSTAMP:20260419T122407Z
DTSTART:20260209T181500Z
DURATION:PT3H15M
LOCATION:5-227
SEQUENCE:0
SUMMARY:[ЛК 2п.]Введение в профессиональную д
 еятельность (Суркова Екатерина Валерьев
 на)
UID:d7fd93b0-f09e-45c6-a990-6975d8f44fcd
END:VEVENT
BEGIN:VEVENT
ATTENDEE;CN=Побережский Сергей Юрьевич:https://publ
 ic.mai.ru/schedule/data/423dcfbd-84c6-11e3-8d1b-3cd92bf20bfe.json
DESCRIPTION:Преподаватель: Побережский Сергей
  Юрьевич
DTSTAMP:20260419T122407Z
DTSTART:20260210T181500Z
DURATION:PT3H15M
LOCATION:Орш. В-306
SEQUENCE:0
SUMMARY:[ЛК\,ПЗ 2п.]Общая физика (Побережский С
 ергей Юрьевич)
UID:0e21bb3e-caff-4050-95f3-bdca6f2d09e2
END:VEVENT
BEGIN:VEVENT
ATTENDEE;CN=Калачанов Вячеслав Дмитриевич:https:
 //public.mai.ru/schedule/data/e4a9bce2-1d99-11e0-9baf-1c6f65450efa.json
DESCRIPTION:Преподаватель: Калачанов Вячеслав
  Дмитриевич
DTSTAMP:20260419T122407Z
DTSTART:20260211T181500Z
DURATION:PT3H15M
LOCATION:5-413
SEQUENCE:0
SUMMARY:[ЛК 2п.]Информационные технологии (Ка
 лачанов Вячеслав Дмитриевич)
UID:27916192-570d-4cc6-8b6c-86a51cea90f4
END:VEVENT
BEGIN:VEVENT
ATTENDEE;CN=Курнаева Екатерина Ивановна:https://pu
 blic.mai.ru/schedule/data/74840c4f-9693-11ef-bc26-3cecef1c132f.json
DESCRIPTION:Преподаватель: Курнаева Екатерина
  Ивановна
DTSTAMP:20260419T122407Z
DTSTART:20260212T181500Z
DURATION:PT3H15M
LOCATION:Орш. В-502
SEQUENCE:0
SUMMARY:[ЛК 2п.]История России (Курнаева Екате
 рина Ивановна)
UID:0a987bcb-f8db-41d1-a3e9-45b948c11efc
END:VEVENT
BEGIN:VEVENT
ATTENDEE;CN=Жаринова Евгения Геннадьевна:https://
 public.mai.ru/schedule/data/32928c4c-052e-11e1-9626-00304866c649.json
DESCRIPTION:Преподаватель: Жаринова Евгения Г
 еннадьевна
DTSTAMP:20260419T122407Z
DTSTART:20260213T181500Z
DURATION:PT3H15M
LOCATION:Орш. Б-612
SEQUENCE:0
SUMMARY:[ПЗ 2п.]Иностранный язык (Жаринова Евг
 ения Геннадьевна)
UID:a23c0fd5-9c5b-4d08-b58c-6e0303c76c3a
END:VEVENT
BEGIN:VEVENT
ATTENDEE;CN=Суркова Екатерина Валерьевна:https://
 public.mai.ru/schedule/data/d0c047f5-1d99-11e0-9baf-1c6f65450efa.json
DESCRIPTION:Преподаватель: Суркова Екатерина 
 Валерьевна
DTSTAMP:20260419T122407Z
DTSTART:20260216T181500Z
DURATION:PT3H15M
LOCATION:5-227
SEQUENCE:0
SUMMARY:[ЛК 2п.]Управление высокотехнологичн
 ым производством (Суркова Екатерина Вал
 ерьевна)
UID:9e05b605-8e7e-4e32-ae0f-b7a3d1d129de
END:VEVENT
BEGIN:VEVENT
ATTENDEE;CN=Ляпин Андрей Сергеевич:https://public.mai.r
 u/schedule/data/e4df86c6-1d9a-11e0-9baf-1c6f65450efa.json
DESCRIPTION:Преподаватель: Ляпин Андрей Серге
 евич
DTSTAMP:20260419T122407Z
DTSTART:20260217T181500Z
DURATION:PT3H15M
LOCATION:Орш. В-204
SEQUENCE:0
SUMMARY:[ЛК 2п.]Математический анализ (Ляпин А
 ндрей Сергеевич)
UID:8ef85285-6918-4ced-a65a-bb1d623145a0
END:VEVENT
BEGIN:VEVENT
ATTENDEE;CN=Яковлева Маргарита Владимировна:ht
 tps://public.mai.ru/schedule/data/e4a9bcc1-1d99-11e0-9baf-1c6f65450efa.jso
 n
DESCRIPTION:Преподаватель: Яковлева Маргарита
  Владимировна
DTSTAMP:20260419T122407Z
DTSTART:20260218T181500Z
DURATION:PT3H15M
LOCATION:5-414В
SEQUENCE:0
SUMMARY:[ЛК\,ПЗ 2п.]Информационное право (Яков
 лева Маргарита Владимировна)
UID:5386e71c-6c20-4e61-9436-28919e57ee10
END:VEVENT
BEGIN:VEVENT
ATTENDEE;CN=Калачанов Вячеслав Дмитриевич:https:
 //public.mai.ru/schedule/data/e4a9bce2-1d99-11e0-9baf-1c6f65450efa.json
DESCRIPTION:Преподаватель: Калачанов Вячеслав
  Дмитриевич
DTSTAMP:20260419T122407Z
DTSTART:20260219T181500Z
DURATION:PT3H15M
LOCATION:5-414А
SEQUENCE:0
SUMMARY:[ЛР 2п.]Информационные технологии (Ка
 лачанов Вячеслав Дмитриевич)
UID:0eb753e2-5629-4b3b-92bf-710d30504556
END:VEVENT
BEGIN:VEVENT
ATTENDEE;CN=МИХАЙЛОВА ЕКАТЕРИНА ОЛЕГОВНА:https://
 public.mai.ru/schedule/data/deb75c8d-0d8f-11e4-b897-005056c00008.json
DESCRIPTION:Преподаватель: МИХАЙЛОВА ЕКАТЕРИН
 А ОЛЕГОВНА
DTSTAMP:20260419T122407Z
DTSTART:20260220T181500Z
DURATION:PT3H15M
LOCATION:5-423
SEQUENCE:0
SUMMARY:[ЛК\,ПЗ 2п.]Общественный проект "Обуче
 ние служением" (МИХАЙЛОВА ЕКАТЕРИНА ОЛЕГ
 ОВНА)
UID:49881a3b-a996-495f-9227-31b090d69a57
END:VEVENT
BEGIN:VEVENT
ATTENDEE;CN=Побережский Сергей Юрьевич:https://publ
 ic.mai.ru/schedule/data/423dcfbd-84c6-11e3-8d1b-3cd92bf20bfe.json
DESCRIPTION:Преподаватель: Побережский Сергей
  Юрьевич
DTSTAMP:20260419T122407Z
DTSTART:20260224T181500Z
DURATION:PT3H15M
LOCATION:Орш. В-306
SEQUENCE:0
SUMMARY:[ЛК\,ПЗ 2п.]Общая физика (Побережский С
 ергей Юрьевич)
UID:16c4b610-f2b2-49ef-a5ae-71ba0ba1d63c
END:VEVENT
BEGIN:VEVENT
ATTENDEE;CN=Калачанов Вячеслав Дмитриевич:https:
 //public.mai.ru/schedule/data/e4a9bce2-1d99-11e0-9baf-1c6f65450efa.json
DESCRIPTION:Преподаватель: Калачанов Вячеслав
  Дмитриевич
DTSTAMP:20260419T122407Z
DTSTART:20260225T181500Z
DURATION:PT3H15M
LOCATION:5-413
SEQUENCE:0
SUMMARY:[ЛК 2п.]Информационные технологии (Ка
 лачанов Вячеслав Дмитриевич)
UID:76c1d453-68ff-486a-9f4b-fed4cc556694
END:VEVENT
BEGIN:VEVENT
ATTENDEE;CN=Курнаева Екатерина Ивановна:https://pu
 blic.mai.ru/schedule/data/74840c4f-9693-11ef-bc26-3cecef1c132f.json
DESCRIPTION:Преподаватель: Курнаева Екатерина
  Ивановна
DTSTAMP:20260419T122407Z
DTSTART:20260226T181500Z
DURATION:PT3H15M
LOCATION:Орш. В-502
SEQUENCE:0
SUMMARY:[ЛК 2п.]История России (Курнаева Екате
 рина Ивановна)
UID:b72cd011-513f-43e6-b56d-4c68aa0970f9
END:VEVENT
BEGIN:VEVENT
ATTENDEE;CN=Суркова Екатерина Валерьевна:https://
 public.mai.ru/schedule/data/d0c047f5-1d99-11e0-9baf-1c6f65450efa.json
DESCRIPTION:Преподаватель: Суркова Екатерина 
 Валерьевна
DTSTAMP:20260419T122407Z
DTSTART:20260302T181500Z
DURATION:PT3H15M
LOCATION:5-227
SEQUENCE:0
SUMMARY:[ЛК 2п.]Управление высокотехнологичн
 ым производством (Суркова Екатерина Вал
 ерьевна)
UID:3c842b37-3139-43e7-851f-ffdbcfb63cc8
END:VEVENT
BEGIN:VEVENT
ATTENDEE;CN=Ляпин Андрей Сергеевич:https://public.mai.r
 u/schedule/data/e4df86c6-1d9a-11e0-9baf-1c6f65450efa.json
DESCRIPTION:Преподаватель: Ляпин Андрей Серге
 евич
DTSTAMP:20260419T122407Z
DTSTART:20260303T181500Z
DURATION:PT3H15M
LOCATION:Орш. В-204
SEQUENCE:0
SUMMARY:[ЛК 2п.]Математический анализ (Ляпин А
 ндрей Сергеевич)
UID:1e8481d7-4e5e-4ee9-a30d-b92ed273d53a
END:VEVENT
BEGIN:VEVENT
ATTENDEE;CN=Яковлева Маргарита Владимировна:ht
 tps://public.mai.ru/schedule/data/e4a9bcc1-1d99-11e0-9baf-1c6f65450efa.jso
 n
DESCRIPTION:Преподаватель: Яковлева Маргарита
  Владимировна
DTSTAMP:20260419T122407Z
DTSTART:20260304T181500Z
DURATION:PT3H15M
LOCATION:5-414В
SEQUENCE:0
SUMMARY:[ЛК\,ПЗ 2п.]Информационное право (Яков
 лева Маргарита Владимировна)
UID:62976900-e4be-41fc-b751-3a35e0926896
END:VEVENT
BEGIN:VEVENT
ATTENDEE;CN=Калачанов Вячеслав Дмитриевич:https:
 //public.mai.ru/schedule/data/e4a9bce2-1d99-11e0-9baf-1c6f65450efa.json
DESCRIPTION:Преподаватель: Калачанов Вячеслав
  Дмитриевич
DTSTAMP:20260419T122407Z
DTSTART:20260305T181500Z
DURATION:PT3H15M
LOCATION:5-414А
SEQUENCE:0
SUMMARY:[ЛР 2п.]Информационные технологии (Ка
 лачанов Вячеслав Дмитриевич)
UID:55782fe3-72f8-418a-9d68-1015fae93482
END:VEVENT
BEGIN:VEVENT
ATTENDEE;CN=МИХАЙЛОВА ЕКАТЕРИНА ОЛЕГОВНА:https://
 public.mai.ru/schedule/data/deb75c8d-0d8f-11e4-b897-005056c00008.json
DESCRIPTION:Преподаватель: МИХАЙЛОВА ЕКАТЕРИН
 А ОЛЕГОВНА
DTSTAMP:20260419T122407Z
DTSTART:20260306T181500Z
DURATION:PT3H15M
LOCATION:5-423
SEQUENCE:0
SUMMARY:[ЛК\,ПЗ 2п.]Общественный проект "Обуче
 ние служением" (МИХАЙЛОВА ЕКАТЕРИНА ОЛЕГ
 ОВНА)
UID:2324eee8-3689-42ce-a807-e64422b42f43
END:VEVENT
BEGIN:VEVENT
ATTENDEE;CN=Побережский Сергей Юрьевич:https://publ
 ic.mai.ru/schedule/data/423dcfbd-84c6-11e3-8d1b-3cd92bf20bfe.json
DESCRIPTION:Преподаватель: Побережский Сергей
  Юрьевич
DTSTAMP:20260419T122407Z
DTSTART:20260310T181500Z
DURATION:PT3H15M
LOCATION:Орш. В-306
SEQUENCE:0
SUMMARY:[ЛК\,ПЗ 2п.]Общая физика (Побережский С
 ергей Юрьевич)
UID:7d7a1ead-707a-4c1f-adc5-bb4654ba34fe
END:VEVENT
BEGIN:VEVENT
ATTENDEE;CN=Калачанов Вячеслав Дмитриевич:https:
 //public.mai.ru/schedule/data/e4a9bce2-1d99-11e0-9baf-1c6f65450efa.json
DESCRIPTION:Преподаватель: Калачанов Вячеслав
  Дмитриевич
DTSTAMP:20260419T122407Z
DTSTART:20260311T181500Z
DURATION:PT3H15M
LOCATION:5-413
SEQUENCE:0
SUMMARY:[ЛК 2п.]Информационные технологии (Ка
 лачанов Вячеслав Дмитриевич)
UID:519e4a0b-c98b-45e6-aff1-d4900af5e8c8
END:VEVENT
BEGIN:VEVENT
ATTENDEE;CN=Курнаева Екатерина Ивановна:https://pu
 blic.mai.ru/schedule/data/74840c4f-9693-11ef-bc26-3cecef1c132f.json
DESCRIPTION:Преподаватель: Курнаева Екатерина
  Ивановна
DTSTAMP:20260419T122407Z
DTSTART:20260312T181500Z
DURATION:PT3H15M
LOCATION:Орш. В-502
SEQUENCE:0
SUMMARY:[ЛК 2п.]История России (Курнаева Екате
 рина Ивановна)
UID:847baaae-4068-470a-8716-3c938d5b5e38
END:VEVENT
BEGIN:VEVENT
ATTENDEE;CN=Суркова Екатерина Валерьевна:https://
 public.mai.ru/schedule/data/d0c047f5-1d99-11e0-9baf-1c6f65450efa.json
DESCRIPTION:Преподаватель: Суркова Екатерина 
 Валерьевна
DTSTAMP:20260419T122407Z
DTSTART:20260316T181500Z
DURATION:PT3H15M
LOCATION:5-227
SEQUENCE:0
SUMMARY:[ЛК 2п.]Управление высокотехнологичн
 ым производством (Суркова Екатерина Вал
 ерьевна)
UID:cdb06740-8eac-4f05-99a4-64e0bf4614a8
END:VEVENT
BEGIN:VEVENT
ATTENDEE;CN=Ляпин Андрей Сергеевич:https://public.mai.r
 u/schedule/data/e4df86c6-1d9a-11e0-9baf-1c6f65450efa.json
DESCRIPTION:Преподаватель: Ляпин Андрей Серге
 евич
DTSTAMP:20260419T122407Z
DTSTART:20260317T181500Z
DURATION:PT3H15M
LOCATION:Орш. В-204
SEQUENCE:0
SUMMARY:[ЛК 2п.]Математический анализ (Ляпин А
 ндрей Сергеевич)
UID:44018bd4-4a03-4413-8291-785f7d924f67
END:VEVENT
BEGIN:VEVENT
ATTENDEE;CN=Яковлева Маргарита Владимировна:ht
 tps://public.mai.ru/schedule/data/e4a9bcc1-1d99-11e0-9baf-1c6f65450efa.jso
 n
DESCRIPTION:Преподаватель: Яковлева Маргарита
  Владимировна
DTSTAMP:20260419T122407Z
DTSTART:20260318T181500Z
DURATION:PT3H15M
LOCATION:5-414В
SEQUENCE:0
SUMMARY:[ЛК\,ПЗ 2п.]Информационное право (Яков
 лева Маргарита Владимировна)
UID:0c8c80a5-14c8-4776-85e3-a901908ffaac
END:VEVENT
BEGIN:VEVENT
ATTENDEE;CN=Калачанов Вячеслав Дмитриевич:https:
 //public.mai.ru/schedule/data/e4a9bce2-1d99-11e0-9baf-1c6f65450efa.json
DESCRIPTION:Преподаватель: Калачанов Вячеслав
  Дмитриевич
DTSTAMP:20260419T122407Z
DTSTART:20260319T181500Z
DURATION:PT3H15M
LOCATION:5-414А
SEQUENCE:0
SUMMARY:[ЛР 2п.]Информационные технологии (Ка
 лачанов Вячеслав Дмитриевич)
UID:dc3caef4-fcd2-4f0e-96ca-a1c087d18035
END:VEVENT
BEGIN:VEVENT
ATTENDEE;CN=МИХАЙЛОВА ЕКАТЕРИНА ОЛЕГОВНА:https://
 public.mai.ru/schedule/data/deb75c8d-0d8f-11e4-b897-005056c00008.json
DESCRIPTION:Преподаватель: МИХАЙЛОВА ЕКАТЕРИН
 А ОЛЕГОВНА
DTSTAMP:20260419T122407Z
DTSTART:20260320T181500Z
DURATION:PT3H15M
LOCATION:5-423
SEQUENCE:0
SUMMARY:[ЛК\,ПЗ 2п.]Общественный проект "Обуче
 ние служением" (МИХАЙЛОВА ЕКАТЕРИНА ОЛЕГ
 ОВНА)
UID:24a2155b-246b-4763-9bc8-308f2a2c68ca
END:VEVENT
BEGIN:VEVENT
ATTENDEE;CN=Суркова Екатерина Валерьевна:https://
 public.mai.ru/schedule/data/d0c047f5-1d99-11e0-9baf-1c6f65450efa.json
DESCRIPTION:Преподаватель: Суркова Екатерина 
 Валерьевна
DTSTAMP:20260419T122407Z
DTSTART:20260323T181500Z
DURATION:PT3H15M
LOCATION:5-227
SEQUENCE:0
SUMMARY:[ЛК 2п.]Введение в профессиональную д
 еятельность (Суркова Екатерина Валерьев
 на)
UID:d6f90247-6493-4a31-90a5-5759b2235fed
END:VEVENT
BEGIN:VEVENT
ATTENDEE;CN=Побережский Сергей Юрьевич:https://publ
 ic.mai.ru/schedule/data/423dcfbd-84c6-11e3-8d1b-3cd92bf20bfe.json
DESCRIPTION:Преподаватель: Побережский Сергей
  Юрьевич
DTSTAMP:20260419T122407Z
DTSTART:20260324T181500Z
DURATION:PT3H15M
LOCATION:Орш. В-306
SEQUENCE:0
SUMMARY:[ЛК\,ПЗ 2п.]Общая физика (Побережский С
 ергей Юрьевич)
UID:6f9b4576-6109-41c2-9a0a-61c43ae7e122
END:VEVENT
BEGIN:VEVENT
ATTENDEE;CN=Калачанов Вячеслав Дмитриевич:https:
 //public.mai.ru/schedule/data/e4a9bce2-1d99-11e0-9baf-1c6f65450efa.json
DESCRIPTION:Преподаватель: Калачанов Вячеслав
  Дмитриевич
DTSTAMP:20260419T122407Z
DTSTART:20260325T181500Z
DURATION:PT3H15M
LOCATION:5-413
SEQUENCE:0
SUMMARY:[ЛК 2п.]Информационные технологии (Ка
 лачанов Вячеслав Дмитриевич)
UID:3c3b48df-0716-45aa-91ac-6eadab904e87
END:VEVENT
BEGIN:VEVENT
ATTENDEE;CN=Курнаева Екатерина Ивановна:https://pu
 blic.mai.ru/schedule/data/74840c4f-9693-11ef-bc26-3cecef1c132f.json
DESCRIPTION:Преподаватель: Курнаева Екатерина
  Ивановна
DTSTAMP:20260419T122407Z
DTSTART:20260326T181500Z
DURATION:PT3H15M
LOCATION:Орш. В-502
SEQUENCE:0
SUMMARY:[ЛК 2п.]История России (Курнаева Екате
 рина Ивановна)
UID:c8bc6c20-d824-4985-905d-151cbacfce4f
END:VEVENT
BEGIN:VEVENT
ATTENDEE;CN=Суркова Екатерина Валерьевна:https://
 public.mai.ru/schedule/data/d0c047f5-1d99-11e0-9baf-1c6f65450efa.json
DESCRIPTION:Преподаватель: Суркова Екатерина 
 Валерьевна
DTSTAMP:20260419T122407Z
DTSTART:20260330T181500Z
DURATION:PT3H15M
LOCATION:5-227
SEQUENCE:0
SUMMARY:[ЛК 2п.]Управление высокотехнологичн
 ым производством (Суркова Екатерина Вал
 ерьевна)
UID:c3506e67-2993-4e5f-8595-9f190cdb1317
END:VEVENT
BEGIN:VEVENT
ATTENDEE;CN=Ляпин Андрей Сергеевич:https://public.mai.r
 u/schedule/data/e4df86c6-1d9a-11e0-9baf-1c6f65450efa.json
DESCRIPTION:Преподаватель: Ляпин Андрей Серге
 евич
DTSTAMP:20260419T122407Z
DTSTART:20260331T181500Z
DURATION:PT3H15M
LOCATION:Орш. В-204
SEQUENCE:0
SUMMARY:[ЛК 2п.]Математический анализ (Ляпин А
 ндрей Сергеевич)
UID:21861bd1-d16e-454e-a8a6-91f4e06ed6b3
END:VEVENT
BEGIN:VEVENT
ATTENDEE;CN=Яковлева Маргарита Владимировна:ht
 tps://public.mai.ru/schedule/data/e4a9bcc1-1d99-11e0-9baf-1c6f65450efa.jso
 n
DESCRIPTION:Преподаватель: Яковлева Маргарита
  Владимировна
DTSTAMP:20260419T122407Z
DTSTART:20260401T181500Z
DURATION:PT3H15M
LOCATION:5-414В
SEQUENCE:0
SUMMARY:[ЛК\,ПЗ 2п.]Информационное право (Яков
 лева Маргарита Владимировна)
UID:f8fbffc8-acc0-4905-8db9-1fc52d431b6b
END:VEVENT
BEGIN:VEVENT
ATTENDEE;CN=Калачанов Вячеслав Дмитриевич:https:
 //public.mai.ru/schedule/data/e4a9bce2-1d99-11e0-9baf-1c6f65450efa.json
DESCRIPTION:Преподаватель: Калачанов Вячеслав
  Дмитриевич
DTSTAMP:20260419T122407Z
DTSTART:20260402T181500Z
DURATION:PT3H15M
LOCATION:5-414А
SEQUENCE:0
SUMMARY:[ЛР 2п.]Информационные технологии (Ка
 лачанов Вячеслав Дмитриевич)
UID:9cdc0ba9-26fb-47eb-993c-35c63fccac60
END:VEVENT
BEGIN:VEVENT
ATTENDEE;CN=МИХАЙЛОВА ЕКАТЕРИНА ОЛЕГОВНА:https://
 public.mai.ru/schedule/data/deb75c8d-0d8f-11e4-b897-005056c00008.json
DESCRIPTION:Преподаватель: МИХАЙЛОВА ЕКАТЕРИН
 А ОЛЕГОВНА
DTSTAMP:20260419T122407Z
DTSTART:20260403T181500Z
DURATION:PT3H15M
LOCATION:5-423
SEQUENCE:0
SUMMARY:[ЛК\,ПЗ 2п.]Общественный проект "Обуче
 ние служением" (МИХАЙЛОВА ЕКАТЕРИНА ОЛЕГ
 ОВНА)
UID:077dbb0d-d618-4f82-b5af-016f04aef316
END:VEVENT
BEGIN:VEVENT
ATTENDEE;CN=Суркова Екатерина Валерьевна:https://
 public.mai.ru/schedule/data/d0c047f5-1d99-11e0-9baf-1c6f65450efa.json
DESCRIPTION:Преподаватель: Суркова Екатерина 
 Валерьевна
DTSTAMP:20260419T122407Z
DTSTART:20260406T181500Z
DURATION:PT3H15M
LOCATION:5-227
SEQUENCE:0
SUMMARY:[ЛК 2п.]Введение в профессиональную д
 еятельность (Суркова Екатерина Валерьев
 на)
UID:08918d69-4ba3-4a42-8de8-e34d90bcdf59
END:VEVENT
BEGIN:VEVENT
DESCRIPTION:Преподаватель: 
DTSTAMP:20260419T122407Z
DTSTART:20260407T181500Z
DURATION:PT3H15M
LOCATION:Орш. В-601
SEQUENCE:0
SUMMARY:[ЛР 2п.]Общая физика ()
UID:b8d235cc-89a0-4051-806b-962b4dec7132
END:VEVENT
BEGIN:VEVENT
ATTENDEE;CN=Курнаева Екатерина Ивановна:https://pu
 blic.mai.ru/schedule/data/74840c4f-9693-11ef-bc26-3cecef1c132f.json
DESCRIPTION:Преподаватель: Курнаева Екатерина
  Ивановна
DTSTAMP:20260419T122407Z
DTSTART:20260409T181500Z
DURATION:PT3H15M
LOCATION:Орш. В-502
SEQUENCE:0
SUMMARY:[ПЗ 2п.]История России (Курнаева Екате
 рина Ивановна)
UID:fc413ffb-f62b-45e8-927f-00604abf1ca7
END:VEVENT
BEGIN:VEVENT
ATTENDEE;CN=Суркова Екатерина Валерьевна:https://
 public.mai.ru/schedule/data/d0c047f5-1d99-11e0-9baf-1c6f65450efa.json
DESCRIPTION:Преподаватель: Суркова Екатерина 
 Валерьевна
DTSTAMP:20260419T122407Z
DTSTART:20260413T181500Z
DURATION:PT3H15M
LOCATION:5-227
SEQUENCE:0
SUMMARY:[ЛК 2п.]Управление высокотехнологичн
 ым производством (Суркова Екатерина Вал
 ерьевна)
UID:4b29bcf8-1f75-4526-a892-379a079c4bb8
END:VEVENT
BEGIN:VEVENT
ATTENDEE;CN=Ляпин Андрей Сергеевич:https://public.mai.r
 u/schedule/data/e4df86c6-1d9a-11e0-9baf-1c6f65450efa.json
DESCRIPTION:Преподаватель: Ляпин Андрей Серге
 евич
DTSTAMP:20260419T122407Z
DTSTART:20260414T181500Z
DURATION:PT3H15M
LOCATION:Орш. В-204
SEQUENCE:0
SUMMARY:[ПЗ 2п.]Математический анализ (Ляпин А
 ндрей Сергеевич)
UID:c9e23595-9055-488d-870c-730db8debceb
END:VEVENT
BEGIN:VEVENT
ATTENDEE;CN=Яковлева Маргарита Владимировна:ht
 tps://public.mai.ru/schedule/data/e4a9bcc1-1d99-11e0-9baf-1c6f65450efa.jso
 n
DESCRIPTION:Преподаватель: Яковлева Маргарита
  Владимировна
DTSTAMP:20260419T122407Z
DTSTART:20260415T181500Z
DURATION:PT3H15M
LOCATION:5-414В
SEQUENCE:0
SUMMARY:[ПЗ 2п.]Информационное право (Яковлев
 а Маргарита Владимировна)
UID:3293589b-065d-4193-a1a2-5c5f25127e93
END:VEVENT
BEGIN:VEVENT
ATTENDEE;CN=Калачанов Вячеслав Дмитриевич:https:
 //public.mai.ru/schedule/data/e4a9bce2-1d99-11e0-9baf-1c6f65450efa.json
DESCRIPTION:Преподаватель: Калачанов Вячеслав
  Дмитриевич
DTSTAMP:20260419T122407Z
DTSTART:20260416T181500Z
DURATION:PT3H15M
LOCATION:5-414А
SEQUENCE:0
SUMMARY:[ЛР 2п.]Информационные технологии (Ка
 лачанов Вячеслав Дмитриевич)
UID:f3cc96ac-a0b5-479d-b991-8a8b95ab4528
END:VEVENT
BEGIN:VEVENT
ATTENDEE;CN=Ряполов Сергей Владимирович:https://pu
 blic.mai.ru/schedule/data/14f13822-c652-11ee-bc10-3cecef1c132e.json
DESCRIPTION:Преподаватель: Ряполов Сергей Вла
 димирович
DTSTAMP:20260419T122407Z
DTSTART:20260417T181500Z
DURATION:PT3H15M
LOCATION:Орш. В-514
SEQUENCE:0
SUMMARY:[ЛК\,ПЗ 2п.]Социология (Ряполов Сергей 
 Владимирович)
UID:5a3ee3fc-7e32-4d79-a28d-1ec1db34bb30
END:VEVENT
BEGIN:VEVENT
ATTENDEE;CN=Суркова Екатерина Валерьевна:https://
 public.mai.ru/schedule/data/d0c047f5-1d99-11e0-9baf-1c6f65450efa.json
DESCRIPTION:Преподаватель: Суркова Екатерина 
 Валерьевна
DTSTAMP:20260419T122407Z
DTSTART:20260420T181500Z
DURATION:PT3H15M
LOCATION:5-227
SEQUENCE:0
SUMMARY:[ПЗ 2п.]Введение в профессиональную д
 еятельность (Суркова Екатерина Валерьев
 на)
UID:60d0ce4f-45bc-4379-b343-2d3530719fd8
END:VEVENT
BEGIN:VEVENT
DESCRIPTION:Преподаватель: 
DTSTAMP:20260419T122407Z
DTSTART:20260421T181500Z
DURATION:PT3H15M
LOCATION:Орш. В-606
SEQUENCE:0
SUMMARY:[ЛР 2п.]Общая физика ()
UID:cfbcbeb2-15ef-45de-847f-343dfd5545c9
END:VEVENT
BEGIN:VEVENT
ATTENDEE;CN=Курнаева Екатерина Ивановна:https://pu
 blic.mai.ru/schedule/data/74840c4f-9693-11ef-bc26-3cecef1c132f.json
DESCRIPTION:Преподаватель: Курнаева Екатерина
  Ивановна
DTSTAMP:20260419T122407Z
DTSTART:20260423T181500Z
DURATION:PT3H15M
LOCATION:Орш. В-502
SEQUENCE:0
SUMMARY:[ПЗ 2п.]История России (Курнаева Екате
 рина Ивановна)
UID:19dabeb8-6e37-435e-8e98-6843d3521541
END:VEVENT
BEGIN:VEVENT
ATTENDEE;CN=Суркова Екатерина Валерьевна:https://
 public.mai.ru/schedule/data/d0c047f5-1d99-11e0-9baf-1c6f65450efa.json
DESCRIPTION:Преподаватель: Суркова Екатерина 
 Валерьевна
DTSTAMP:20260419T122407Z
DTSTART:20260427T181500Z
DURATION:PT3H15M
LOCATION:5-227
SEQUENCE:0
SUMMARY:[ЛК 2п.]Управление высокотехнологичн
 ым производством (Суркова Екатерина Вал
 ерьевна)
UID:96ab1f1d-031c-4c6a-8696-1ee895eb9a7a
END:VEVENT
BEGIN:VEVENT
ATTENDEE;CN=Ляпин Андрей Сергеевич:https://public.mai.r
 u/schedule/data/e4df86c6-1d9a-11e0-9baf-1c6f65450efa.json
DESCRIPTION:Преподаватель: Ляпин Андрей Серге
 евич
DTSTAMP:20260419T122407Z
DTSTART:20260428T181500Z
DURATION:PT3H15M
LOCATION:Орш. В-204
SEQUENCE:0
SUMMARY:[ПЗ 2п.]Математический анализ (Ляпин А
 ндрей Сергеевич)
UID:19ebe8c2-9369-4a51-8282-87e27c61f848
END:VEVENT
BEGIN:VEVENT
ATTENDEE;CN=Яковлева Маргарита Владимировна:ht
 tps://public.mai.ru/schedule/data/e4a9bcc1-1d99-11e0-9baf-1c6f65450efa.jso
 n
DESCRIPTION:Преподаватель: Яковлева Маргарита
  Владимировна
DTSTAMP:20260419T122407Z
DTSTART:20260429T181500Z
DURATION:PT3H15M
LOCATION:5-414В
SEQUENCE:0
SUMMARY:[ПЗ 2п.]Информационное право (Яковлев
 а Маргарита Владимировна)
UID:1ba8cc5c-29ca-427f-bd42-a8778f4b2217
END:VEVENT
BEGIN:VEVENT
ATTENDEE;CN=Суркова Екатерина Валерьевна:https://
 public.mai.ru/schedule/data/d0c047f5-1d99-11e0-9baf-1c6f65450efa.json
DESCRIPTION:Преподаватель: Суркова Екатерина 
 Валерьевна
DTSTAMP:20260419T122407Z
DTSTART:20260504T181500Z
DURATION:PT3H15M
LOCATION:5-227
SEQUENCE:0
SUMMARY:[ПЗ 2п.]Управление высокотехнологичн
 ым производством (Суркова Екатерина Вал
 ерьевна)
UID:9a47838a-d603-40c5-9606-4144f85402c6
END:VEVENT
BEGIN:VEVENT
DESCRIPTION:Преподаватель: 
DTSTAMP:20260419T122407Z
DTSTART:20260505T181500Z
DURATION:PT3H15M
LOCATION:Орш. В-606
SEQUENCE:0
SUMMARY:[ЛР 2п.]Общая физика ()
UID:671aa662-ac66-48a6-b318-bbc0d53d0ec6
END:VEVENT
BEGIN:VEVENT
ATTENDEE;CN=Курнаева Екатерина Ивановна:https://pu
 blic.mai.ru/schedule/data/74840c4f-9693-11ef-bc26-3cecef1c132f.json
DESCRIPTION:Преподаватель: Курнаева Екатерина
  Ивановна
DTSTAMP:20260419T122407Z
DTSTART:20260507T181500Z
DURATION:PT3H15M
LOCATION:Орш. В-502
SEQUENCE:0
SUMMARY:[ПЗ 2п.]История России (Курнаева Екате
 рина Ивановна)
UID:3dc7f532-888a-4c5f-9508-916d5e699ab3
END:VEVENT
BEGIN:VEVENT
ATTENDEE;CN=Суркова Екатерина Валерьевна:https://
 public.mai.ru/schedule/data/d0c047f5-1d99-11e0-9baf-1c6f65450efa.json
DESCRIPTION:Преподаватель: Суркова Екатерина 
 Валерьевна
DTSTAMP:20260419T122407Z
DTSTART:20260511T181500Z
DURATION:PT3H15M
LOCATION:5-227
SEQUENCE:0
SUMMARY:[ПЗ 2п.]Управление высокотехнологичн
 ым производством (Суркова Екатерина Вал
 ерьевна)
UID:169ae3bd-ed13-4360-96dd-b8f3b5594394
END:VEVENT
BEGIN:VEVENT
ATTENDEE;CN=Ляпин Андрей Сергеевич:https://public.mai.r
 u/schedule/data/e4df86c6-1d9a-11e0-9baf-1c6f65450efa.json
DESCRIPTION:Преподаватель: Ляпин Андрей Серге
 евич
DTSTAMP:20260419T122407Z
DTSTART:20260512T181500Z
DURATION:PT3H15M
LOCATION:Орш. В-204
SEQUENCE:0
SUMMARY:[ПЗ 2п.]Математический анализ (Ляпин А
 ндрей Сергеевич)
UID:8010b8ed-4412-449e-81d9-13fde01b86b8
END:VEVENT
BEGIN:VEVENT
ATTENDEE;CN=Калачанов Вячеслав Дмитриевич:https:
 //public.mai.ru/schedule/data/e4a9bce2-1d99-11e0-9baf-1c6f65450efa.json
DESCRIPTION:Преподаватель: Калачанов Вячеслав
  Дмитриевич
DTSTAMP:20260419T122407Z
DTSTART:20260514T181500Z
DURATION:PT3H15M
LOCATION:5-414А
SEQUENCE:0
SUMMARY:[ЛР 2п.]Информационные технологии (Ка
 лачанов Вячеслав Дмитриевич)
UID:ed8b05ce-fffb-4a0f-a0f0-45dd5cea4f3e
END:VEVENT
BEGIN:VEVENT
ATTENDEE;CN=Ряполов Сергей Владимирович:https://pu
 blic.mai.ru/schedule/data/14f13822-c652-11ee-bc10-3cecef1c132e.json
DESCRIPTION:Преподаватель: Ряполов Сергей Вла
 димирович
DTSTAMP:20260419T122407Z
DTSTART:20260515T181500Z
DURATION:PT3H15M
LOCATION:Орш. В-514
SEQUENCE:0
SUMMARY:[ЛК\,ПЗ 2п.]Социология (Ряполов Сергей 
 Владимирович)
UID:c9dec9e8-f033-4cea-acac-503bdd396318
END:VEVENT
BEGIN:VEVENT
ATTENDEE;CN=Суркова Екатерина Валерьевна:https://
 public.mai.ru/schedule/data/d0c047f5-1d99-11e0-9baf-1c6f65450efa.json
DESCRIPTION:Преподаватель: Суркова Екатерина 
 Валерьевна
DTSTAMP:20260419T122407Z
DTSTART:20260518T181500Z
DURATION:PT3H15M
LOCATION:5-227
SEQUENCE:0
SUMMARY:[ПЗ 2п.]Управление высокотехнологичн
 ым производством (Суркова Екатерина Вал
 ерьевна)
UID:579eb019-6ba2-455a-a6e9-76150c802109
END:VEVENT
BEGIN:VEVENT
DESCRIPTION:Преподаватель: 
DTSTAMP:20260419T122407Z
DTSTART:20260519T181500Z
DURATION:PT3H15M
LOCATION:Орш. В-314
SEQUENCE:0
SUMMARY:[ЛР 2п.]Общая физика ()
UID:969ed39b-6ba5-4dad-aa8f-b3eba6e48d84
END:VEVENT
BEGIN:VEVENT
ATTENDEE;CN=Суркова Екатерина Валерьевна:https://
 public.mai.ru/schedule/data/d0c047f5-1d99-11e0-9baf-1c6f65450efa.json
DESCRIPTION:Преподаватель: Суркова Екатерина 
 Валерьевна
DTSTAMP:20260419T122407Z
DTSTART:20260525T181500Z
DURATION:PT3H15M
LOCATION:5-227
SEQUENCE:0
SUMMARY:[ПЗ 2п.]Управление высокотехнологичн
 ым производством (Суркова Екатерина Вал
 ерьевна)
UID:5114ba70-66b2-4c30-b8a1-ef44dac5beb6
END:VEVENT
BEGIN:VEVENT
ATTENDEE;CN=Ляпин Андрей Сергеевич:https://public.mai.r
 u/schedule/data/e4df86c6-1d9a-11e0-9baf-1c6f65450efa.json
DESCRIPTION:Преподаватель: Ляпин Андрей Серге
 евич
DTSTAMP:20260419T122407Z
DTSTART:20260526T181500Z
DURATION:PT3H15M
LOCATION:Орш. В-204
SEQUENCE:0
SUMMARY:[ПЗ 2п.]Математический анализ (Ляпин А
 ндрей Сергеевич)
UID:4763cb40-5f48-4660-ac5e-c8fb5525ae82
END:VEVENT
BEGIN:VEVENT
ATTENDEE;CN=Калачанов Вячеслав Дмитриевич:https:
 //public.mai.ru/schedule/data/e4a9bce2-1d99-11e0-9baf-1c6f65450efa.json
DESCRIPTION:Преподаватель: Калачанов Вячеслав
  Дмитриевич
DTSTAMP:20260419T122407Z
DTSTART:20260528T181500Z
DURATION:PT3H15M
LOCATION:5-414А
SEQUENCE:0
SUMMARY:[ЛР 2п.]Информационные технологии (Ка
 лачанов Вячеслав Дмитриевич)
UID:c33deda4-4786-4dbd-8850-5b349e0c07c3
END:VEVENT
BEGIN:VEVENT
ATTENDEE;CN=Ряполов Сергей Владимирович:https://pu
 blic.mai.ru/schedule/data/14f13822-c652-11ee-bc10-3cecef1c132e.json
DESCRIPTION:Преподаватель: Ряполов Сергей Вла
 димирович
DTSTAMP:20260419T122407Z
DTSTART:20260529T181500Z
DURATION:PT3H15M
LOCATION:Орш. В-514
SEQUENCE:0
SUMMARY:[ЛК\,ПЗ 2п.]Социология (Ряполов Сергей 
 Владимирович)
UID:f6c7a08d-4082-4c3f-a21b-2a6be0f6b91a
END:VEVENT
BEGIN:VEVENT
ATTENDEE;CN=Суркова Екатерина Валерьевна:https://
 public.mai.ru/schedule/data/d0c047f5-1d99-11e0-9baf-1c6f65450efa.json
DESCRIPTION:Преподаватель: Суркова Екатерина 
 Валерьевна
DTSTAMP:20260419T122407Z
DTSTART:20260601T181500Z
DURATION:PT3H15M
LOCATION:5-227
SEQUENCE:0
SUMMARY:[ПЗ 2п.]Управление высокотехнологичн
 ым производством (Суркова Екатерина Вал
 ерьевна)
UID:1caf775a-548c-4c14-98e9-959737ab0c3a
END:VEVENT
BEGIN:VEVENT
ATTENDEE;CN=Суркова Екатерина Валерьевна:https://
 public.mai.ru/schedule/data/d0c047f5-1d99-11e0-9baf-1c6f65450efa.json
DESCRIPTION:Преподаватель: Суркова Екатерина 
 Валерьевна
DTSTAMP:20260419T122407Z
DTSTART:20260608T181500Z
DURATION:PT3H15M
LOCATION:5-227
SEQUENCE:0
SUMMARY:[ПЗ 2п.]Управление высокотехнологичн
 ым производством (Суркова Екатерина Вал
 ерьевна)
UID:7d42f5d5-f233-4084-8e7d-072477bf8644
END:VEVENT
BEGIN:VEVENT
ATTENDEE;CN=Ляпин Андрей Сергеевич:https://public.mai.r
 u/schedule/data/e4df86c6-1d9a-11e0-9baf-1c6f65450efa.json
DESCRIPTION:Преподаватель: Ляпин Андрей Серге
 евич
DTSTAMP:20260419T122407Z
DTSTART:20260615T163000Z
DURATION:PT3H15M
LOCATION:Орш. В-204
SEQUENCE:0
SUMMARY:[Экзамен 2п.]Математический анализ (Л
 япин Андрей Сергеевич)
UID:66c17b7d-f63b-4796-82a7-d203cde72cf6
END:VEVENT
BEGIN:VEVENT
ATTENDEE;CN=Ефимова Наталья Сергеевна:https://public
 .mai.ru/schedule/data/d0c0484a-1d99-11e0-9baf-1c6f65450efa.json
DESCRIPTION:Преподаватель: Ефимова Наталья Се
 ргеевна
DTSTAMP:20260419T122407Z
DTSTART:20260619T163000Z
DURATION:PT1H30M
LOCATION:5-227
SEQUENCE:0
SUMMARY:[Экзамен 1п.]Информационные технолог
 ии (Ефимова Наталья Сергеевна)
UID:eaf04645-e1c8-40dd-9845-31badb521d42
END:VEVENT
BEGIN:VEVENT
ATTENDEE;CN=Побережский Сергей Юрьевич:https://publ
 ic.mai.ru/schedule/data/423dcfbd-84c6-11e3-8d1b-3cd92bf20bfe.json
DESCRIPTION:Преподаватель: Побережский Сергей
  Юрьевич
DTSTAMP:20260419T122407Z
DTSTART:20260624T163000Z
DURATION:PT1H30M
LOCATION:Орш. В-309
SEQUENCE:0
SUMMARY:[Экзамен 1п.]Общая физика (Побережски
 й Сергей Юрьевич)
UID:10e78af3-9c88-4874-982d-bf85642356ca
END:VEVENT
END:VCALENDAR
