﻿BEGIN:VCALENDAR
CALSCALE:GREGORIAN
METHOD:PUBLISH
PRODID:-//MAI-dep406//MAI Dep406 1.01//RU
VERSION:2.0
X-WR-TIMEZONE:Europe/Moscow
BEGIN:VTIMEZONE
TZID:Europe/Moscow
X-LIC-LOCATION:Europe/Moscow
BEGIN:STANDARD
DTSTART;VALUE=DATE:19700101
TZNAME:GMT+3
TZOFFSETTO:+0300
END:STANDARD
END:VTIMEZONE
BEGIN:VEVENT
ATTENDEE;CN=Лысаков Николай Дмитриевич:https://publ
 ic.mai.ru/schedule/data/e5d29ea9-5b22-11e2-91ec-3cd92bf20bfe.json
DESCRIPTION:Преподаватель: Лысаков Николай Дм
 итриевич
DTSTAMP:20260423T084733Z
DTSTART:20260304T163000Z
DURATION:PT3H15M
LOCATION:Орш. В-501
SEQUENCE:0
SUMMARY:[ЛК 2п.]Педагогика и психология высше
 й школы (Лысаков Николай Дмитриевич)
UID:8446ba1a-6149-473f-8358-ba00e3194051
END:VEVENT
BEGIN:VEVENT
ATTENDEE;CN=Ефимова Наталья Сергеевна:https://public
 .mai.ru/schedule/data/d0c0484a-1d99-11e0-9baf-1c6f65450efa.json
DESCRIPTION:Преподаватель: Ефимова Наталья Се
 ргеевна
DTSTAMP:20260423T084733Z
DTSTART:20260305T090000Z
DURATION:PT5H30M
LOCATION:5-227
SEQUENCE:0
SUMMARY:[ЛК\,ПЗ 3п.]Математические\, статистич
 еские и инструментальные методы в эконо
 мике (Ефимова Наталья Сергеевна)
UID:7a4083e6-beb8-4cf2-86ff-0422dadb24a1
END:VEVENT
BEGIN:VEVENT
ATTENDEE;CN=Ефимова Наталья Сергеевна:https://public
 .mai.ru/schedule/data/d0c0484a-1d99-11e0-9baf-1c6f65450efa.json
DESCRIPTION:Преподаватель: Ефимова Наталья Се
 ргеевна
DTSTAMP:20260423T084733Z
DTSTART:20260312T090000Z
DURATION:PT3H15M
LOCATION:5-227
SEQUENCE:0
SUMMARY:[ЛК\,ПЗ 2п.]Математические\, статистич
 еские и инструментальные методы в эконо
 мике (Ефимова Наталья Сергеевна)
UID:c5a931aa-ed44-4fd1-a3b5-e797f03b6da0
END:VEVENT
BEGIN:VEVENT
ATTENDEE;CN=Лысаков Николай Дмитриевич:https://publ
 ic.mai.ru/schedule/data/e5d29ea9-5b22-11e2-91ec-3cd92bf20bfe.json
DESCRIPTION:Преподаватель: Лысаков Николай Дм
 итриевич
DTSTAMP:20260423T084733Z
DTSTART:20260318T163000Z
DURATION:PT3H15M
LOCATION:Орш. В-501
SEQUENCE:0
SUMMARY:[ЛК 2п.]Педагогика и психология высше
 й школы (Лысаков Николай Дмитриевич)
UID:3576c4db-1a60-4fae-acde-174878d9cc08
END:VEVENT
BEGIN:VEVENT
ATTENDEE;CN=Ефимова Наталья Сергеевна:https://public
 .mai.ru/schedule/data/d0c0484a-1d99-11e0-9baf-1c6f65450efa.json
DESCRIPTION:Преподаватель: Ефимова Наталья Се
 ргеевна
DTSTAMP:20260423T084733Z
DTSTART:20260319T090000Z
DURATION:PT5H30M
LOCATION:5-227
SEQUENCE:0
SUMMARY:[ЛК\,ПЗ 3п.]Математические\, статистич
 еские и инструментальные методы в эконо
 мике (Ефимова Наталья Сергеевна)
UID:38bbb071-440d-499b-bf46-190be293cd31
END:VEVENT
BEGIN:VEVENT
ATTENDEE;CN=Ефимова Наталья Сергеевна:https://public
 .mai.ru/schedule/data/d0c0484a-1d99-11e0-9baf-1c6f65450efa.json
DESCRIPTION:Преподаватель: Ефимова Наталья Се
 ргеевна
DTSTAMP:20260423T084733Z
DTSTART:20260326T090000Z
DURATION:PT3H15M
LOCATION:5-227
SEQUENCE:0
SUMMARY:[ЛК\,ПЗ 2п.]Математические\, статистич
 еские и инструментальные методы в эконо
 мике (Ефимова Наталья Сергеевна)
UID:65275fec-9721-4b05-a1d4-2b3af55e2b49
END:VEVENT
BEGIN:VEVENT
ATTENDEE;CN=Лысаков Николай Дмитриевич:https://publ
 ic.mai.ru/schedule/data/e5d29ea9-5b22-11e2-91ec-3cd92bf20bfe.json
DESCRIPTION:Преподаватель: Лысаков Николай Дм
 итриевич
DTSTAMP:20260423T084733Z
DTSTART:20260401T163000Z
DURATION:PT1H30M
LOCATION:Орш. В-501
SEQUENCE:0
SUMMARY:[ЛК 1п.]Педагогика и психология высше
 й школы (Лысаков Николай Дмитриевич)
UID:14a26845-3143-4e6f-b42c-ec5f1c81f2f7
END:VEVENT
BEGIN:VEVENT
ATTENDEE;CN=Ефимова Наталья Сергеевна:https://public
 .mai.ru/schedule/data/d0c0484a-1d99-11e0-9baf-1c6f65450efa.json
DESCRIPTION:Преподаватель: Ефимова Наталья Се
 ргеевна
DTSTAMP:20260423T084733Z
DTSTART:20260402T090000Z
DURATION:PT5H30M
LOCATION:5-227
SEQUENCE:0
SUMMARY:[ЛК\,ПЗ 3п.]Математические\, статистич
 еские и инструментальные методы в эконо
 мике (Ефимова Наталья Сергеевна)
UID:11b6c245-bce9-4321-9a2e-fb5dcdc69f65
END:VEVENT
BEGIN:VEVENT
ATTENDEE;CN=Ефимова Наталья Сергеевна:https://public
 .mai.ru/schedule/data/d0c0484a-1d99-11e0-9baf-1c6f65450efa.json
DESCRIPTION:Преподаватель: Ефимова Наталья Се
 ргеевна
DTSTAMP:20260423T084733Z
DTSTART:20260409T090000Z
DURATION:PT3H15M
LOCATION:5-227
SEQUENCE:0
SUMMARY:[ЛК\,ПЗ 2п.]Математические\, статистич
 еские и инструментальные методы в эконо
 мике (Ефимова Наталья Сергеевна)
UID:0e85b81c-87d3-44b3-af2e-fe799900d622
END:VEVENT
BEGIN:VEVENT
ATTENDEE;CN=Лысаков Николай Дмитриевич:https://publ
 ic.mai.ru/schedule/data/e5d29ea9-5b22-11e2-91ec-3cd92bf20bfe.json
DESCRIPTION:Преподаватель: Лысаков Николай Дм
 итриевич
DTSTAMP:20260423T084733Z
DTSTART:20260415T163000Z
DURATION:PT3H15M
LOCATION:Орш. В-514
SEQUENCE:0
SUMMARY:[ПЗ 2п.]Педагогика и психология высше
 й школы (Лысаков Николай Дмитриевич)
UID:f2707625-3fc8-4c6c-9fda-e22497d6dd7f
END:VEVENT
BEGIN:VEVENT
ATTENDEE;CN=Ефимова Наталья Сергеевна:https://public
 .mai.ru/schedule/data/d0c0484a-1d99-11e0-9baf-1c6f65450efa.json
DESCRIPTION:Преподаватель: Ефимова Наталья Се
 ргеевна
DTSTAMP:20260423T084733Z
DTSTART:20260416T090000Z
DURATION:PT5H30M
LOCATION:5-227
SEQUENCE:0
SUMMARY:[ЛК\,ПЗ 3п.]Математические\, статистич
 еские и инструментальные методы в эконо
 мике (Ефимова Наталья Сергеевна)
UID:394d6565-ed98-4a88-bf7f-5fabb984d599
END:VEVENT
BEGIN:VEVENT
ATTENDEE;CN=Ефимова Наталья Сергеевна:https://public
 .mai.ru/schedule/data/d0c0484a-1d99-11e0-9baf-1c6f65450efa.json
DESCRIPTION:Преподаватель: Ефимова Наталья Се
 ргеевна
DTSTAMP:20260423T084733Z
DTSTART:20260423T090000Z
DURATION:PT3H15M
LOCATION:5-227
SEQUENCE:0
SUMMARY:[ЛК\,ПЗ 2п.]Математические\, статистич
 еские и инструментальные методы в эконо
 мике (Ефимова Наталья Сергеевна)
UID:8fa0b6ab-10d8-498b-b61d-ff170c239306
END:VEVENT
BEGIN:VEVENT
ATTENDEE;CN=Лысаков Николай Дмитриевич:https://publ
 ic.mai.ru/schedule/data/e5d29ea9-5b22-11e2-91ec-3cd92bf20bfe.json
DESCRIPTION:Преподаватель: Лысаков Николай Дм
 итриевич
DTSTAMP:20260423T084733Z
DTSTART:20260429T163000Z
DURATION:PT3H15M
LOCATION:Орш. В-514
SEQUENCE:0
SUMMARY:[ПЗ 2п.]Педагогика и психология высше
 й школы (Лысаков Николай Дмитриевич)
UID:586ae6c8-de3f-4823-a38c-c31cb46bddf9
END:VEVENT
BEGIN:VEVENT
ATTENDEE;CN=Ефимова Наталья Сергеевна:https://public
 .mai.ru/schedule/data/d0c0484a-1d99-11e0-9baf-1c6f65450efa.json
DESCRIPTION:Преподаватель: Ефимова Наталья Се
 ргеевна
DTSTAMP:20260423T084733Z
DTSTART:20260430T090000Z
DURATION:PT3H15M
LOCATION:5-227
SEQUENCE:0
SUMMARY:[ЛК\,ПЗ 2п.]Математические\, статистич
 еские и инструментальные методы в эконо
 мике (Ефимова Наталья Сергеевна)
UID:b62de803-afe0-480f-9517-02ccb67c755c
END:VEVENT
BEGIN:VEVENT
ATTENDEE;CN=Ефимова Наталья Сергеевна:https://public
 .mai.ru/schedule/data/d0c0484a-1d99-11e0-9baf-1c6f65450efa.json
DESCRIPTION:Преподаватель: Ефимова Наталья Се
 ргеевна
DTSTAMP:20260423T084733Z
DTSTART:20260507T090000Z
DURATION:PT3H15M
LOCATION:5-227
SEQUENCE:0
SUMMARY:[ЛК\,ПЗ 2п.]Математические\, статистич
 еские и инструментальные методы в эконо
 мике (Ефимова Наталья Сергеевна)
UID:b57637a1-bd36-468c-92f3-0aa8389f8b88
END:VEVENT
BEGIN:VEVENT
ATTENDEE;CN=Ефимова Наталья Сергеевна:https://public
 .mai.ru/schedule/data/d0c0484a-1d99-11e0-9baf-1c6f65450efa.json
DESCRIPTION:Преподаватель: Ефимова Наталья Се
 ргеевна
DTSTAMP:20260423T084733Z
DTSTART:20260514T090000Z
DURATION:PT3H15M
LOCATION:5-227
SEQUENCE:0
SUMMARY:[ЛК\,ПЗ 2п.]Математические\, статистич
 еские и инструментальные методы в эконо
 мике (Ефимова Наталья Сергеевна)
UID:cb66ba8f-40c4-4ab3-9d91-b66662be08b4
END:VEVENT
BEGIN:VEVENT
ATTENDEE;CN=Ефимова Наталья Сергеевна:https://public
 .mai.ru/schedule/data/d0c0484a-1d99-11e0-9baf-1c6f65450efa.json
DESCRIPTION:Преподаватель: Ефимова Наталья Се
 ргеевна
DTSTAMP:20260423T084733Z
DTSTART:20260521T090000Z
DURATION:PT3H15M
LOCATION:5-227
SEQUENCE:0
SUMMARY:[ЛК\,ПЗ 2п.]Математические\, статистич
 еские и инструментальные методы в эконо
 мике (Ефимова Наталья Сергеевна)
UID:c61beefc-4235-4a6b-be68-61123c889722
END:VEVENT
BEGIN:VEVENT
ATTENDEE;CN=Ефимова Наталья Сергеевна:https://public
 .mai.ru/schedule/data/d0c0484a-1d99-11e0-9baf-1c6f65450efa.json
DESCRIPTION:Преподаватель: Ефимова Наталья Се
 ргеевна
DTSTAMP:20260423T084733Z
DTSTART:20260528T090000Z
DURATION:PT3H15M
LOCATION:5-227
SEQUENCE:0
SUMMARY:[ЛК\,ПЗ 2п.]Математические\, статистич
 еские и инструментальные методы в эконо
 мике (Ефимова Наталья Сергеевна)
UID:70f7d4f5-d2af-48e5-90a4-efa5080883e3
END:VEVENT
BEGIN:VEVENT
ATTENDEE;CN=Ефимова Наталья Сергеевна:https://public
 .mai.ru/schedule/data/d0c0484a-1d99-11e0-9baf-1c6f65450efa.json
DESCRIPTION:Преподаватель: Ефимова Наталья Се
 ргеевна
DTSTAMP:20260423T084733Z
DTSTART:20260604T090000Z
DURATION:PT3H15M
LOCATION:5-227
SEQUENCE:0
SUMMARY:[ЛК\,ПЗ 2п.]Математические\, статистич
 еские и инструментальные методы в эконо
 мике (Ефимова Наталья Сергеевна)
UID:bb2caabb-5e93-44e3-86a1-8bbe475506f5
END:VEVENT
BEGIN:VEVENT
ATTENDEE;CN=Ефимова Наталья Сергеевна:https://public
 .mai.ru/schedule/data/d0c0484a-1d99-11e0-9baf-1c6f65450efa.json
DESCRIPTION:Преподаватель: Ефимова Наталья Се
 ргеевна
DTSTAMP:20260423T084733Z
DTSTART:20260625T104500Z
DURATION:PT1H30M
LOCATION:5-232
SEQUENCE:0
SUMMARY:[Экзамен 1п.]Математические\, статист
 ические и инструментальные методы в эко
 номике (Ефимова Наталья Сергеевна)
UID:a8cff044-c714-426a-8724-aa3fb9e337fc
END:VEVENT
END:VCALENDAR
