﻿BEGIN:VCALENDAR
CALSCALE:GREGORIAN
METHOD:PUBLISH
PRODID:-//MAI-dep406//MAI Dep406 1.01//RU
VERSION:2.0
X-WR-TIMEZONE:Europe/Moscow
BEGIN:VTIMEZONE
TZID:Europe/Moscow
X-LIC-LOCATION:Europe/Moscow
BEGIN:STANDARD
DTSTART;VALUE=DATE:19700101
TZNAME:GMT+3
TZOFFSETTO:+0300
END:STANDARD
END:VTIMEZONE
BEGIN:VEVENT
ATTENDEE;CN=Буянов Сергей Васильевич:https://public.m
 ai.ru/schedule/data/50771c48-3196-11ec-bbdb-ac1f6b64c5eb.json
DESCRIPTION:Преподаватель: Буянов Сергей Васи
 льевич
DTSTAMP:20260421T084020Z
DTSTART:20260209T104500Z
DURATION:PT1H30M
LOCATION:3-Зал А
SEQUENCE:0
SUMMARY:[ЛК 1п.]Нейрокомпьютерные системы (Бу
 янов Сергей Васильевич)
UID:bb87be71-c28f-4a76-aa20-307924569612
END:VEVENT
BEGIN:VEVENT
ATTENDEE;CN=Ратников Максим Олегович:https://public.m
 ai.ru/schedule/data/966bef4d-1d99-11e0-9baf-1c6f65450efa.json
DESCRIPTION:Преподаватель: Ратников Максим Ол
 егович
DTSTAMP:20260421T084020Z
DTSTART:20260209T130000Z
DURATION:PT3H15M
LOCATION:3-240а
SEQUENCE:0
SUMMARY:[ЛК 2п.]Методы оптимизации в САПР (Рат
 ников Максим Олегович)
UID:f26e0098-9c40-4c6a-8bec-bceaaab8838d
END:VEVENT
BEGIN:VEVENT
DESCRIPTION:Преподаватель: 
DTSTAMP:20260421T084020Z
DTSTART:20260212T130000Z
DURATION:PT3H15M
LOCATION:3-240а
SEQUENCE:0
SUMMARY:[ЛК 2п.]Компьютерная графика ()
UID:b83b8aa0-03ee-4014-b6fd-9ce759e87a95
END:VEVENT
BEGIN:VEVENT
ATTENDEE;CN=Ходоровский Александр Зиновьевич:
 https://public.mai.ru/schedule/data/1caa074d-1d9a-11e0-9baf-1c6f65450efa.j
 son
DESCRIPTION:Преподаватель: Ходоровский Алекса
 ндр Зиновьевич
DTSTAMP:20260421T084020Z
DTSTART:20260213T104500Z
DURATION:PT3H45M
LOCATION:3-207
SEQUENCE:0
SUMMARY:[ЛК 2п.]Микропроцессорные системы (Хо
 доровский Александр Зиновьевич)
UID:12371b7e-efd7-418a-bb13-bd9491cc9252
END:VEVENT
BEGIN:VEVENT
ATTENDEE;CN=Буянов Сергей Васильевич:https://public.m
 ai.ru/schedule/data/50771c48-3196-11ec-bbdb-ac1f6b64c5eb.json
DESCRIPTION:Преподаватель: Буянов Сергей Васи
 льевич
DTSTAMP:20260421T084020Z
DTSTART:20260216T104500Z
DURATION:PT1H30M
LOCATION:3-Зал А
SEQUENCE:0
SUMMARY:[ЛК 1п.]Нейрокомпьютерные системы (Бу
 янов Сергей Васильевич)
UID:9d54b5b2-a887-4d36-b9e3-e7430a19c00c
END:VEVENT
BEGIN:VEVENT
ATTENDEE;CN=Ратников Максим Олегович:https://public.m
 ai.ru/schedule/data/966bef4d-1d99-11e0-9baf-1c6f65450efa.json
DESCRIPTION:Преподаватель: Ратников Максим Ол
 егович
DTSTAMP:20260421T084020Z
DTSTART:20260216T130000Z
DURATION:PT3H15M
LOCATION:3-240а
SEQUENCE:0
SUMMARY:[ЛК 2п.]Методы оптимизации в САПР (Рат
 ников Максим Олегович)
UID:e07f85ee-7462-4c37-afb1-43215c4036b8
END:VEVENT
BEGIN:VEVENT
DESCRIPTION:Преподаватель: 
DTSTAMP:20260421T084020Z
DTSTART:20260219T130000Z
DURATION:PT3H15M
LOCATION:3-240а
SEQUENCE:0
SUMMARY:[ЛК 2п.]Компьютерная графика ()
UID:f12c9714-965d-4624-b2f9-ec6aa874bf76
END:VEVENT
BEGIN:VEVENT
ATTENDEE;CN=Ходоровский Александр Зиновьевич:
 https://public.mai.ru/schedule/data/1caa074d-1d9a-11e0-9baf-1c6f65450efa.j
 son
DESCRIPTION:Преподаватель: Ходоровский Алекса
 ндр Зиновьевич
DTSTAMP:20260421T084020Z
DTSTART:20260220T104500Z
DURATION:PT3H45M
LOCATION:3-207
SEQUENCE:0
SUMMARY:[ЛК 2п.]Микропроцессорные системы (Хо
 доровский Александр Зиновьевич)
UID:c5ff89b7-4be7-4333-b8f6-31cf2a116d23
END:VEVENT
BEGIN:VEVENT
DESCRIPTION:Преподаватель: 
DTSTAMP:20260421T084020Z
DTSTART:20260226T130000Z
DURATION:PT3H15M
LOCATION:3-240а
SEQUENCE:0
SUMMARY:[ЛК 2п.]Компьютерная графика ()
UID:df1169e7-87f5-4dd5-8d4b-5668f3c2293e
END:VEVENT
BEGIN:VEVENT
ATTENDEE;CN=Ходоровский Александр Зиновьевич:
 https://public.mai.ru/schedule/data/1caa074d-1d9a-11e0-9baf-1c6f65450efa.j
 son
DESCRIPTION:Преподаватель: Ходоровский Алекса
 ндр Зиновьевич
DTSTAMP:20260421T084020Z
DTSTART:20260227T104500Z
DURATION:PT3H45M
LOCATION:3-207
SEQUENCE:0
SUMMARY:[ЛК 2п.]Микропроцессорные системы (Хо
 доровский Александр Зиновьевич)
UID:16cc7a88-8965-4896-92a1-1e054881f403
END:VEVENT
BEGIN:VEVENT
ATTENDEE;CN=Буянов Сергей Васильевич:https://public.m
 ai.ru/schedule/data/50771c48-3196-11ec-bbdb-ac1f6b64c5eb.json
DESCRIPTION:Преподаватель: Буянов Сергей Васи
 льевич
DTSTAMP:20260421T084020Z
DTSTART:20260302T104500Z
DURATION:PT1H30M
LOCATION:3-Зал А
SEQUENCE:0
SUMMARY:[ЛК 1п.]Нейрокомпьютерные системы (Бу
 янов Сергей Васильевич)
UID:8aa40522-387b-4fef-ace4-0660530c4670
END:VEVENT
BEGIN:VEVENT
ATTENDEE;CN=Ратников Максим Олегович:https://public.m
 ai.ru/schedule/data/966bef4d-1d99-11e0-9baf-1c6f65450efa.json
DESCRIPTION:Преподаватель: Ратников Максим Ол
 егович
DTSTAMP:20260421T084020Z
DTSTART:20260302T130000Z
DURATION:PT3H15M
LOCATION:3-240а
SEQUENCE:0
SUMMARY:[ЛК 2п.]Методы оптимизации в САПР (Рат
 ников Максим Олегович)
UID:6a5f2596-2582-4dd3-a036-7af9a2bab422
END:VEVENT
BEGIN:VEVENT
DESCRIPTION:Преподаватель: 
DTSTAMP:20260421T084020Z
DTSTART:20260305T130000Z
DURATION:PT3H15M
LOCATION:3-240а
SEQUENCE:0
SUMMARY:[ЛК 2п.]Компьютерная графика ()
UID:e42533dd-42fb-4fc0-afe5-f734333d40f1
END:VEVENT
BEGIN:VEVENT
ATTENDEE;CN=Ходоровский Александр Зиновьевич:
 https://public.mai.ru/schedule/data/1caa074d-1d9a-11e0-9baf-1c6f65450efa.j
 son
DESCRIPTION:Преподаватель: Ходоровский Алекса
 ндр Зиновьевич
DTSTAMP:20260421T084020Z
DTSTART:20260306T104500Z
DURATION:PT3H45M
LOCATION:3-207
SEQUENCE:0
SUMMARY:[ЛК 2п.]Микропроцессорные системы (Хо
 доровский Александр Зиновьевич)
UID:00b81b39-8895-4e96-a1a3-3173cfe5c146
END:VEVENT
BEGIN:VEVENT
DESCRIPTION:Преподаватель: 
DTSTAMP:20260421T084020Z
DTSTART:20260312T130000Z
DURATION:PT3H15M
LOCATION:3-240а
SEQUENCE:0
SUMMARY:[ЛК 2п.]Компьютерная графика ()
UID:fc0a77bd-a5a0-45e5-9088-e6d33308c59b
END:VEVENT
BEGIN:VEVENT
ATTENDEE;CN=Ходоровский Александр Зиновьевич:
 https://public.mai.ru/schedule/data/1caa074d-1d9a-11e0-9baf-1c6f65450efa.j
 son
DESCRIPTION:Преподаватель: Ходоровский Алекса
 ндр Зиновьевич
DTSTAMP:20260421T084020Z
DTSTART:20260313T104500Z
DURATION:PT3H45M
LOCATION:3-207
SEQUENCE:0
SUMMARY:[ЛК 2п.]Микропроцессорные системы (Хо
 доровский Александр Зиновьевич)
UID:c86c50e6-222a-4da1-8311-a07c3968d442
END:VEVENT
BEGIN:VEVENT
ATTENDEE;CN=Буянов Сергей Васильевич:https://public.m
 ai.ru/schedule/data/50771c48-3196-11ec-bbdb-ac1f6b64c5eb.json
DESCRIPTION:Преподаватель: Буянов Сергей Васи
 льевич
DTSTAMP:20260421T084020Z
DTSTART:20260316T104500Z
DURATION:PT1H30M
LOCATION:3-Зал А
SEQUENCE:0
SUMMARY:[ЛК 1п.]Нейрокомпьютерные системы (Бу
 янов Сергей Васильевич)
UID:94441d73-ffd6-456c-a98f-cec072eb37af
END:VEVENT
BEGIN:VEVENT
ATTENDEE;CN=Ратников Максим Олегович:https://public.m
 ai.ru/schedule/data/966bef4d-1d99-11e0-9baf-1c6f65450efa.json
DESCRIPTION:Преподаватель: Ратников Максим Ол
 егович
DTSTAMP:20260421T084020Z
DTSTART:20260316T130000Z
DURATION:PT3H15M
LOCATION:3-240а
SEQUENCE:0
SUMMARY:[ЛК 2п.]Методы оптимизации в САПР (Рат
 ников Максим Олегович)
UID:10a846d8-f15e-4440-b20c-97b71a7e7ad0
END:VEVENT
BEGIN:VEVENT
ATTENDEE;CN=Филимонов Илья Андреевич:https://public.m
 ai.ru/schedule/data/8fa652f9-b145-11ee-bc0f-3cecef1c132e.json
DESCRIPTION:Преподаватель: Филимонов Илья Анд
 реевич
DTSTAMP:20260421T084020Z
DTSTART:20260317T090000Z
DURATION:PT3H15M
LOCATION:3-446
SEQUENCE:0
SUMMARY:[ЛР 2п.]Нейрокомпьютерные системы (Фи
 лимонов Илья Андреевич)
UID:e3414ddd-73d4-4a9e-a8e7-b53e86d989ba
END:VEVENT
BEGIN:VEVENT
DESCRIPTION:Преподаватель: 
DTSTAMP:20260421T084020Z
DTSTART:20260319T130000Z
DURATION:PT3H15M
LOCATION:3-240а
SEQUENCE:0
SUMMARY:[ЛК 2п.]Компьютерная графика ()
UID:f5b276dc-8d76-4fda-bdcb-15e281ef3a3e
END:VEVENT
BEGIN:VEVENT
ATTENDEE;CN=Ходоровский Александр Зиновьевич:
 https://public.mai.ru/schedule/data/1caa074d-1d9a-11e0-9baf-1c6f65450efa.j
 son
DESCRIPTION:Преподаватель: Ходоровский Алекса
 ндр Зиновьевич
DTSTAMP:20260421T084020Z
DTSTART:20260320T104500Z
DURATION:PT3H45M
LOCATION:3-207
SEQUENCE:0
SUMMARY:[ЛК 2п.]Микропроцессорные системы (Хо
 доровский Александр Зиновьевич)
UID:08a07e7e-a3ca-4c10-b8f5-ab0825eb3ae1
END:VEVENT
BEGIN:VEVENT
ATTENDEE;CN=Буянов Сергей Васильевич:https://public.m
 ai.ru/schedule/data/50771c48-3196-11ec-bbdb-ac1f6b64c5eb.json
DESCRIPTION:Преподаватель: Буянов Сергей Васи
 льевич
DTSTAMP:20260421T084020Z
DTSTART:20260323T104500Z
DURATION:PT1H30M
LOCATION:3-Зал А
SEQUENCE:0
SUMMARY:[ЛК 1п.]Нейрокомпьютерные системы (Бу
 янов Сергей Васильевич)
UID:a6be7c55-8cb0-4f32-89d3-586f6dc0c451
END:VEVENT
BEGIN:VEVENT
ATTENDEE;CN=Ратников Максим Олегович:https://public.m
 ai.ru/schedule/data/966bef4d-1d99-11e0-9baf-1c6f65450efa.json
DESCRIPTION:Преподаватель: Ратников Максим Ол
 егович
DTSTAMP:20260421T084020Z
DTSTART:20260323T130000Z
DURATION:PT3H15M
LOCATION:3-240а
SEQUENCE:0
SUMMARY:[ЛК 2п.]Методы оптимизации в САПР (Рат
 ников Максим Олегович)
UID:0ac2ad65-53c5-47a5-b820-77bfbe0b3081
END:VEVENT
BEGIN:VEVENT
DESCRIPTION:Преподаватель: 
DTSTAMP:20260421T084020Z
DTSTART:20260326T130000Z
DURATION:PT3H15M
LOCATION:3-240а
SEQUENCE:0
SUMMARY:[ЛК 2п.]Компьютерная графика ()
UID:b9b2fbdd-fe19-420c-9950-8f463691b4da
END:VEVENT
BEGIN:VEVENT
ATTENDEE;CN=Ходоровский Александр Зиновьевич:
 https://public.mai.ru/schedule/data/1caa074d-1d9a-11e0-9baf-1c6f65450efa.j
 son
DESCRIPTION:Преподаватель: Ходоровский Алекса
 ндр Зиновьевич
DTSTAMP:20260421T084020Z
DTSTART:20260327T104500Z
DURATION:PT3H45M
LOCATION:3-207
SEQUENCE:0
SUMMARY:[ЛК 2п.]Микропроцессорные системы (Хо
 доровский Александр Зиновьевич)
UID:c1856589-3179-4256-a4e8-1172f54b8bed
END:VEVENT
BEGIN:VEVENT
ATTENDEE;CN=Буянов Сергей Васильевич:https://public.m
 ai.ru/schedule/data/50771c48-3196-11ec-bbdb-ac1f6b64c5eb.json
DESCRIPTION:Преподаватель: Буянов Сергей Васи
 льевич
DTSTAMP:20260421T084020Z
DTSTART:20260330T104500Z
DURATION:PT1H30M
LOCATION:3-Зал А
SEQUENCE:0
SUMMARY:[ЛК 1п.]Нейрокомпьютерные системы (Бу
 янов Сергей Васильевич)
UID:a82d3b72-3641-471a-aeb3-905ca487ace1
END:VEVENT
BEGIN:VEVENT
ATTENDEE;CN=Ратников Максим Олегович:https://public.m
 ai.ru/schedule/data/966bef4d-1d99-11e0-9baf-1c6f65450efa.json
DESCRIPTION:Преподаватель: Ратников Максим Ол
 егович
DTSTAMP:20260421T084020Z
DTSTART:20260330T130000Z
DURATION:PT3H15M
LOCATION:3-240а
SEQUENCE:0
SUMMARY:[ЛР 2п.]Методы оптимизации в САПР (Рат
 ников Максим Олегович)
UID:19ec322f-21ce-4cef-b24c-2282cbf0526a
END:VEVENT
BEGIN:VEVENT
ATTENDEE;CN=Филимонов Илья Андреевич:https://public.m
 ai.ru/schedule/data/8fa652f9-b145-11ee-bc0f-3cecef1c132e.json
DESCRIPTION:Преподаватель: Филимонов Илья Анд
 реевич
DTSTAMP:20260421T084020Z
DTSTART:20260331T090000Z
DURATION:PT3H15M
LOCATION:3-446
SEQUENCE:0
SUMMARY:[ЛР 2п.]Нейрокомпьютерные системы (Фи
 лимонов Илья Андреевич)
UID:a98febc7-5c16-41ed-ae90-41794d76add4
END:VEVENT
BEGIN:VEVENT
DESCRIPTION:Преподаватель: 
DTSTAMP:20260421T084020Z
DTSTART:20260402T130000Z
DURATION:PT3H15M
LOCATION:3-240а
SEQUENCE:0
SUMMARY:[ЛК 2п.]Компьютерная графика ()
UID:a2bd0721-c039-4a7a-94f7-475eb3b5a8d2
END:VEVENT
BEGIN:VEVENT
ATTENDEE;CN=Ходоровский Александр Зиновьевич:
 https://public.mai.ru/schedule/data/1caa074d-1d9a-11e0-9baf-1c6f65450efa.j
 son
DESCRIPTION:Преподаватель: Ходоровский Алекса
 ндр Зиновьевич
DTSTAMP:20260421T084020Z
DTSTART:20260403T104500Z
DURATION:PT3H45M
LOCATION:3-207
SEQUENCE:0
SUMMARY:[ЛР 2п.]Микропроцессорные системы (Хо
 доровский Александр Зиновьевич)
UID:cee5d8e6-e3f6-49f9-995e-8e064179b546
END:VEVENT
BEGIN:VEVENT
ATTENDEE;CN=Буянов Сергей Васильевич:https://public.m
 ai.ru/schedule/data/50771c48-3196-11ec-bbdb-ac1f6b64c5eb.json
DESCRIPTION:Преподаватель: Буянов Сергей Васи
 льевич
DTSTAMP:20260421T084020Z
DTSTART:20260406T104500Z
DURATION:PT1H30M
LOCATION:3-Зал А
SEQUENCE:0
SUMMARY:[ЛК 1п.]Нейрокомпьютерные системы (Бу
 янов Сергей Васильевич)
UID:8842627a-ed69-4b2e-b766-35859d17c85d
END:VEVENT
BEGIN:VEVENT
ATTENDEE;CN=Ратников Максим Олегович:https://public.m
 ai.ru/schedule/data/966bef4d-1d99-11e0-9baf-1c6f65450efa.json
DESCRIPTION:Преподаватель: Ратников Максим Ол
 егович
DTSTAMP:20260421T084020Z
DTSTART:20260406T130000Z
DURATION:PT3H15M
LOCATION:3-240а
SEQUENCE:0
SUMMARY:[ЛР 2п.]Методы оптимизации в САПР (Рат
 ников Максим Олегович)
UID:da19102b-e31c-4242-a16c-0ab70a46bef9
END:VEVENT
BEGIN:VEVENT
DESCRIPTION:Преподаватель: 
DTSTAMP:20260421T084020Z
DTSTART:20260409T130000Z
DURATION:PT3H15M
LOCATION:3-240а
SEQUENCE:0
SUMMARY:[ЛР 2п.]Компьютерная графика ()
UID:58bdb3ec-cfd7-4743-92cb-3e9704cad2fc
END:VEVENT
BEGIN:VEVENT
ATTENDEE;CN=Ходоровский Александр Зиновьевич:
 https://public.mai.ru/schedule/data/1caa074d-1d9a-11e0-9baf-1c6f65450efa.j
 son
DESCRIPTION:Преподаватель: Ходоровский Алекса
 ндр Зиновьевич
DTSTAMP:20260421T084020Z
DTSTART:20260410T104500Z
DURATION:PT3H45M
LOCATION:3-207
SEQUENCE:0
SUMMARY:[ЛР 2п.]Микропроцессорные системы (Хо
 доровский Александр Зиновьевич)
UID:19b9f115-6b45-4746-bcaa-cc6db415721d
END:VEVENT
BEGIN:VEVENT
ATTENDEE;CN=Буянов Сергей Васильевич:https://public.m
 ai.ru/schedule/data/50771c48-3196-11ec-bbdb-ac1f6b64c5eb.json
DESCRIPTION:Преподаватель: Буянов Сергей Васи
 льевич
DTSTAMP:20260421T084020Z
DTSTART:20260413T104500Z
DURATION:PT1H30M
LOCATION:3-Зал А
SEQUENCE:0
SUMMARY:[ЛК 1п.]Нейрокомпьютерные системы (Бу
 янов Сергей Васильевич)
UID:d034719b-2fd3-42b1-a71b-79194b60a7f8
END:VEVENT
BEGIN:VEVENT
ATTENDEE;CN=Ратников Максим Олегович:https://public.m
 ai.ru/schedule/data/966bef4d-1d99-11e0-9baf-1c6f65450efa.json
DESCRIPTION:Преподаватель: Ратников Максим Ол
 егович
DTSTAMP:20260421T084020Z
DTSTART:20260413T130000Z
DURATION:PT3H15M
LOCATION:3-240а
SEQUENCE:0
SUMMARY:[ЛР 2п.]Методы оптимизации в САПР (Рат
 ников Максим Олегович)
UID:5a704c47-a132-43c4-8690-ce0dc402dc8a
END:VEVENT
BEGIN:VEVENT
ATTENDEE;CN=Филимонов Илья Андреевич:https://public.m
 ai.ru/schedule/data/8fa652f9-b145-11ee-bc0f-3cecef1c132e.json
DESCRIPTION:Преподаватель: Филимонов Илья Анд
 реевич
DTSTAMP:20260421T084020Z
DTSTART:20260414T090000Z
DURATION:PT3H15M
LOCATION:3-446
SEQUENCE:0
SUMMARY:[ЛР 2п.]Нейрокомпьютерные системы (Фи
 лимонов Илья Андреевич)
UID:d4b6ea04-f24d-4526-bbd2-bd31bdd3f61b
END:VEVENT
BEGIN:VEVENT
DESCRIPTION:Преподаватель: 
DTSTAMP:20260421T084020Z
DTSTART:20260416T130000Z
DURATION:PT3H15M
LOCATION:3-240а
SEQUENCE:0
SUMMARY:[ЛР 2п.]Компьютерная графика ()
UID:58bf6f92-b54a-47b7-914d-853e34cd2e6a
END:VEVENT
BEGIN:VEVENT
ATTENDEE;CN=Ходоровский Александр Зиновьевич:
 https://public.mai.ru/schedule/data/1caa074d-1d9a-11e0-9baf-1c6f65450efa.j
 son
DESCRIPTION:Преподаватель: Ходоровский Алекса
 ндр Зиновьевич
DTSTAMP:20260421T084020Z
DTSTART:20260417T104500Z
DURATION:PT3H45M
LOCATION:3-207
SEQUENCE:0
SUMMARY:[ЛР 2п.]Микропроцессорные системы (Хо
 доровский Александр Зиновьевич)
UID:efb6bdd7-2304-4583-bbf1-68f067fae576
END:VEVENT
BEGIN:VEVENT
ATTENDEE;CN=Буянов Сергей Васильевич:https://public.m
 ai.ru/schedule/data/50771c48-3196-11ec-bbdb-ac1f6b64c5eb.json
DESCRIPTION:Преподаватель: Буянов Сергей Васи
 льевич
DTSTAMP:20260421T084020Z
DTSTART:20260420T104500Z
DURATION:PT1H30M
LOCATION:3-Зал А
SEQUENCE:0
SUMMARY:[ЛК 1п.]Нейрокомпьютерные системы (Бу
 янов Сергей Васильевич)
UID:f3bb1bb1-e11e-45e4-a612-ad8783b96b82
END:VEVENT
BEGIN:VEVENT
DESCRIPTION:Преподаватель: 
DTSTAMP:20260421T084020Z
DTSTART:20260423T130000Z
DURATION:PT3H15M
LOCATION:3-240а
SEQUENCE:0
SUMMARY:[ЛР 2п.]Компьютерная графика ()
UID:4d80e260-0243-427a-b02a-76dd64b6917f
END:VEVENT
BEGIN:VEVENT
ATTENDEE;CN=Ходоровский Александр Зиновьевич:
 https://public.mai.ru/schedule/data/1caa074d-1d9a-11e0-9baf-1c6f65450efa.j
 son
DESCRIPTION:Преподаватель: Ходоровский Алекса
 ндр Зиновьевич
DTSTAMP:20260421T084020Z
DTSTART:20260424T104500Z
DURATION:PT3H45M
LOCATION:3-207
SEQUENCE:0
SUMMARY:[ЛР 2п.]Микропроцессорные системы (Хо
 доровский Александр Зиновьевич)
UID:1df32d5d-2104-43cc-b570-a7238761b5ec
END:VEVENT
BEGIN:VEVENT
ATTENDEE;CN=Буянов Сергей Васильевич:https://public.m
 ai.ru/schedule/data/50771c48-3196-11ec-bbdb-ac1f6b64c5eb.json
DESCRIPTION:Преподаватель: Буянов Сергей Васи
 льевич
DTSTAMP:20260421T084020Z
DTSTART:20260427T104500Z
DURATION:PT1H30M
LOCATION:3-Зал А
SEQUENCE:0
SUMMARY:[ЛК 1п.]Нейрокомпьютерные системы (Бу
 янов Сергей Васильевич)
UID:82f633ee-55a2-4ac1-a8f3-9b4aff3df2bb
END:VEVENT
BEGIN:VEVENT
DESCRIPTION:Преподаватель: 
DTSTAMP:20260421T084020Z
DTSTART:20260430T130000Z
DURATION:PT3H15M
LOCATION:3-240а
SEQUENCE:0
SUMMARY:[ЛР 2п.]Компьютерная графика ()
UID:ecad6679-69f0-4b56-88ce-259dbe461cb9
END:VEVENT
BEGIN:VEVENT
ATTENDEE;CN=Буянов Сергей Васильевич:https://public.m
 ai.ru/schedule/data/50771c48-3196-11ec-bbdb-ac1f6b64c5eb.json
DESCRIPTION:Преподаватель: Буянов Сергей Васи
 льевич
DTSTAMP:20260421T084020Z
DTSTART:20260504T104500Z
DURATION:PT1H30M
LOCATION:3-Зал А
SEQUENCE:0
SUMMARY:[ЛК 1п.]Нейрокомпьютерные системы (Бу
 янов Сергей Васильевич)
UID:97d57690-a5d2-4178-a84a-e7247a50cb40
END:VEVENT
BEGIN:VEVENT
ATTENDEE;CN=Ходоровский Александр Зиновьевич:
 https://public.mai.ru/schedule/data/1caa074d-1d9a-11e0-9baf-1c6f65450efa.j
 son
DESCRIPTION:Преподаватель: Ходоровский Алекса
 ндр Зиновьевич
DTSTAMP:20260421T084020Z
DTSTART:20260508T104500Z
DURATION:PT3H45M
LOCATION:3-207
SEQUENCE:0
SUMMARY:[ЛР 2п.]Микропроцессорные системы (Хо
 доровский Александр Зиновьевич)
UID:c1b8bfe7-8e25-4bd8-b1cd-14a8653fed58
END:VEVENT
BEGIN:VEVENT
ATTENDEE;CN=Ходоровский Александр Зиновьевич:
 https://public.mai.ru/schedule/data/1caa074d-1d9a-11e0-9baf-1c6f65450efa.j
 son
DESCRIPTION:Преподаватель: Ходоровский Алекса
 ндр Зиновьевич
DTSTAMP:20260421T084020Z
DTSTART:20260515T104500Z
DURATION:PT3H45M
LOCATION:3-207
SEQUENCE:0
SUMMARY:[Экзамен 2п.]Микропроцессорные систе
 мы (Ходоровский Александр Зиновьевич)
UID:222e08ab-5b86-48e9-a7ff-79609173a55b
END:VEVENT
BEGIN:VEVENT
ATTENDEE;CN=Буянов Сергей Васильевич:https://public.m
 ai.ru/schedule/data/50771c48-3196-11ec-bbdb-ac1f6b64c5eb.json
DESCRIPTION:Преподаватель: Буянов Сергей Васи
 льевич
DTSTAMP:20260421T084020Z
DTSTART:20260519T130000Z
DURATION:PT3H15M
LOCATION:3-434а
SEQUENCE:0
SUMMARY:[Экзамен 2п.]Нейрокомпьютерные систе
 мы (Буянов Сергей Васильевич)
UID:f39e4d9f-3d42-4947-b045-1206bbfd2cb4
END:VEVENT
END:VCALENDAR
