﻿BEGIN:VCALENDAR
CALSCALE:GREGORIAN
METHOD:PUBLISH
PRODID:-//MAI-dep406//MAI Dep406 1.01//RU
VERSION:2.0
X-WR-TIMEZONE:Europe/Moscow
BEGIN:VTIMEZONE
TZID:Europe/Moscow
X-LIC-LOCATION:Europe/Moscow
BEGIN:STANDARD
DTSTART;VALUE=DATE:19700101
TZNAME:GMT+3
TZOFFSETTO:+0300
END:STANDARD
END:VTIMEZONE
BEGIN:VEVENT
ATTENDEE;CN=Буянов Сергей Васильевич:https://public.m
 ai.ru/schedule/data/50771c48-3196-11ec-bbdb-ac1f6b64c5eb.json
DESCRIPTION:Преподаватель: Буянов Сергей Васи
 льевич
DTSTAMP:20260420T142128Z
DTSTART:20260209T090000Z
DURATION:PT1H30M
LOCATION:3-Зал А
SEQUENCE:0
SUMMARY:[ЛК 1п.]Теория вычислительных процесс
 ов (Буянов Сергей Васильевич)
UID:fabe9fc2-d546-4fb0-8afa-ba958f11b7b1
END:VEVENT
BEGIN:VEVENT
ATTENDEE;CN=Буянов Сергей Васильевич:https://public.m
 ai.ru/schedule/data/50771c48-3196-11ec-bbdb-ac1f6b64c5eb.json
DESCRIPTION:Преподаватель: Буянов Сергей Васи
 льевич
DTSTAMP:20260420T142128Z
DTSTART:20260209T104500Z
DURATION:PT1H30M
LOCATION:3-Зал А
SEQUENCE:0
SUMMARY:[ЛК 1п.]Нейрокомпьютерные системы (Бу
 янов Сергей Васильевич)
UID:aef00935-ca58-4ca8-8a6b-82c39498e36f
END:VEVENT
BEGIN:VEVENT
ATTENDEE;CN=Давыдкина Елена Александровна:https:
 //public.mai.ru/schedule/data/8062e13e-1d99-11e0-9baf-1c6f65450efa.json
DESCRIPTION:Преподаватель: Давыдкина Елена Ал
 ександровна
DTSTAMP:20260420T142128Z
DTSTART:20260209T130000Z
DURATION:PT1H30M
LOCATION:3-404
SEQUENCE:0
SUMMARY:[ЛК 1п.]Статистические методы обработ
 ки данных (Давыдкина Елена Александровн
 а)
UID:4fee15d1-1414-4a66-889b-578ab226ece7
END:VEVENT
BEGIN:VEVENT
ATTENDEE;CN=Жигалов Владимир Иванович:https://public
 .mai.ru/schedule/data/8062e1a0-1d99-11e0-9baf-1c6f65450efa.json
DESCRIPTION:Преподаватель: Жигалов Владимир И
 ванович
DTSTAMP:20260420T142128Z
DTSTART:20260212T130000Z
DURATION:PT3H15M
LOCATION:ГАК-320
SEQUENCE:0
SUMMARY:[ЛК 2п.]Теория языков программировани
 я и трансляции (Жигалов Владимир Иванови
 ч)
UID:1d27d956-a9dc-4035-bd4c-4c0c44d97997
END:VEVENT
BEGIN:VEVENT
ATTENDEE;CN=Буянов Сергей Васильевич:https://public.m
 ai.ru/schedule/data/50771c48-3196-11ec-bbdb-ac1f6b64c5eb.json
DESCRIPTION:Преподаватель: Буянов Сергей Васи
 льевич
DTSTAMP:20260420T142128Z
DTSTART:20260216T090000Z
DURATION:PT1H30M
LOCATION:3-Зал А
SEQUENCE:0
SUMMARY:[ЛК 1п.]Теория вычислительных процесс
 ов (Буянов Сергей Васильевич)
UID:bd90869b-1b9a-4243-99f1-4ae19f0690fe
END:VEVENT
BEGIN:VEVENT
ATTENDEE;CN=Буянов Сергей Васильевич:https://public.m
 ai.ru/schedule/data/50771c48-3196-11ec-bbdb-ac1f6b64c5eb.json
DESCRIPTION:Преподаватель: Буянов Сергей Васи
 льевич
DTSTAMP:20260420T142128Z
DTSTART:20260216T104500Z
DURATION:PT1H30M
LOCATION:3-Зал А
SEQUENCE:0
SUMMARY:[ЛК 1п.]Нейрокомпьютерные системы (Бу
 янов Сергей Васильевич)
UID:91fb647f-be78-4026-94f4-946a84fbb129
END:VEVENT
BEGIN:VEVENT
ATTENDEE;CN=Давыдкина Елена Александровна:https:
 //public.mai.ru/schedule/data/8062e13e-1d99-11e0-9baf-1c6f65450efa.json
DESCRIPTION:Преподаватель: Давыдкина Елена Ал
 ександровна
DTSTAMP:20260420T142128Z
DTSTART:20260216T130000Z
DURATION:PT1H30M
LOCATION:3-404
SEQUENCE:0
SUMMARY:[ЛК 1п.]Статистические методы обработ
 ки данных (Давыдкина Елена Александровн
 а)
UID:16fc0f05-4134-42ff-b623-e8869da5e832
END:VEVENT
BEGIN:VEVENT
ATTENDEE;CN=Буянов Сергей Васильевич:https://public.m
 ai.ru/schedule/data/50771c48-3196-11ec-bbdb-ac1f6b64c5eb.json
DESCRIPTION:Преподаватель: Буянов Сергей Васи
 льевич
DTSTAMP:20260420T142128Z
DTSTART:20260217T090000Z
DURATION:PT3H15M
LOCATION:3-434а
SEQUENCE:0
SUMMARY:[ПЗ 2п.]Теория вычислительных процесс
 ов (Буянов Сергей Васильевич)
UID:36bdcb9b-4917-476b-bde1-c5ade99fcffa
END:VEVENT
BEGIN:VEVENT
ATTENDEE;CN=Жигалов Владимир Иванович:https://public
 .mai.ru/schedule/data/8062e1a0-1d99-11e0-9baf-1c6f65450efa.json
DESCRIPTION:Преподаватель: Жигалов Владимир И
 ванович
DTSTAMP:20260420T142128Z
DTSTART:20260217T130000Z
DURATION:PT3H15M
LOCATION:3-444
SEQUENCE:0
SUMMARY:[ЛР 2п.]Теория языков программировани
 я и трансляции (Жигалов Владимир Иванови
 ч)
UID:21c149b0-c1dc-465f-9b4d-7e423bdc9059
END:VEVENT
BEGIN:VEVENT
ATTENDEE;CN=Жигалов Владимир Иванович:https://public
 .mai.ru/schedule/data/8062e1a0-1d99-11e0-9baf-1c6f65450efa.json
DESCRIPTION:Преподаватель: Жигалов Владимир И
 ванович
DTSTAMP:20260420T142128Z
DTSTART:20260226T130000Z
DURATION:PT3H15M
LOCATION:ГАК-320
SEQUENCE:0
SUMMARY:[ЛК 2п.]Теория языков программировани
 я и трансляции (Жигалов Владимир Иванови
 ч)
UID:fb63ca05-8a1d-4b1e-b8b8-01ae9a90c32a
END:VEVENT
BEGIN:VEVENT
ATTENDEE;CN=Буянов Сергей Васильевич:https://public.m
 ai.ru/schedule/data/50771c48-3196-11ec-bbdb-ac1f6b64c5eb.json
DESCRIPTION:Преподаватель: Буянов Сергей Васи
 льевич
DTSTAMP:20260420T142128Z
DTSTART:20260302T090000Z
DURATION:PT1H30M
LOCATION:3-Зал А
SEQUENCE:0
SUMMARY:[ЛК 1п.]Теория вычислительных процесс
 ов (Буянов Сергей Васильевич)
UID:325cad41-98e8-4489-854f-3c4bb30d5dab
END:VEVENT
BEGIN:VEVENT
ATTENDEE;CN=Буянов Сергей Васильевич:https://public.m
 ai.ru/schedule/data/50771c48-3196-11ec-bbdb-ac1f6b64c5eb.json
DESCRIPTION:Преподаватель: Буянов Сергей Васи
 льевич
DTSTAMP:20260420T142128Z
DTSTART:20260302T104500Z
DURATION:PT1H30M
LOCATION:3-Зал А
SEQUENCE:0
SUMMARY:[ЛК 1п.]Нейрокомпьютерные системы (Бу
 янов Сергей Васильевич)
UID:465fe154-a0fd-46bb-b87b-d8bdaf370949
END:VEVENT
BEGIN:VEVENT
ATTENDEE;CN=Давыдкина Елена Александровна:https:
 //public.mai.ru/schedule/data/8062e13e-1d99-11e0-9baf-1c6f65450efa.json
DESCRIPTION:Преподаватель: Давыдкина Елена Ал
 ександровна
DTSTAMP:20260420T142128Z
DTSTART:20260302T130000Z
DURATION:PT1H30M
LOCATION:3-404
SEQUENCE:0
SUMMARY:[ЛК 1п.]Статистические методы обработ
 ки данных (Давыдкина Елена Александровн
 а)
UID:1c79a4e6-d274-400d-bb61-a383a0b2f787
END:VEVENT
BEGIN:VEVENT
ATTENDEE;CN=Буянов Сергей Васильевич:https://public.m
 ai.ru/schedule/data/50771c48-3196-11ec-bbdb-ac1f6b64c5eb.json
DESCRIPTION:Преподаватель: Буянов Сергей Васи
 льевич
DTSTAMP:20260420T142128Z
DTSTART:20260303T090000Z
DURATION:PT3H15M
LOCATION:3-434а
SEQUENCE:0
SUMMARY:[ЛР 2п.]Теория вычислительных процесс
 ов (Буянов Сергей Васильевич)
UID:72d57bb7-fc1a-4d32-b1ab-1841e2829263
END:VEVENT
BEGIN:VEVENT
ATTENDEE;CN=Жигалов Владимир Иванович:https://public
 .mai.ru/schedule/data/8062e1a0-1d99-11e0-9baf-1c6f65450efa.json
DESCRIPTION:Преподаватель: Жигалов Владимир И
 ванович
DTSTAMP:20260420T142128Z
DTSTART:20260303T130000Z
DURATION:PT3H15M
LOCATION:3-444
SEQUENCE:0
SUMMARY:[ЛР 2п.]Теория языков программировани
 я и трансляции (Жигалов Владимир Иванови
 ч)
UID:4f32c5a0-2fad-4764-aaea-2e51f75d11e6
END:VEVENT
BEGIN:VEVENT
ATTENDEE;CN=Жигалов Владимир Иванович:https://public
 .mai.ru/schedule/data/8062e1a0-1d99-11e0-9baf-1c6f65450efa.json
DESCRIPTION:Преподаватель: Жигалов Владимир И
 ванович
DTSTAMP:20260420T142128Z
DTSTART:20260312T130000Z
DURATION:PT3H15M
LOCATION:ГАК-320
SEQUENCE:0
SUMMARY:[ЛК 2п.]Теория языков программировани
 я и трансляции (Жигалов Владимир Иванови
 ч)
UID:ed9d14d9-007f-4dfc-9e68-fe8a2e14b380
END:VEVENT
BEGIN:VEVENT
ATTENDEE;CN=Буянов Сергей Васильевич:https://public.m
 ai.ru/schedule/data/50771c48-3196-11ec-bbdb-ac1f6b64c5eb.json
DESCRIPTION:Преподаватель: Буянов Сергей Васи
 льевич
DTSTAMP:20260420T142128Z
DTSTART:20260316T090000Z
DURATION:PT1H30M
LOCATION:3-Зал А
SEQUENCE:0
SUMMARY:[ЛК 1п.]Теория вычислительных процесс
 ов (Буянов Сергей Васильевич)
UID:dd41e27e-ff92-48c6-bfd5-2b99fd466d79
END:VEVENT
BEGIN:VEVENT
ATTENDEE;CN=Буянов Сергей Васильевич:https://public.m
 ai.ru/schedule/data/50771c48-3196-11ec-bbdb-ac1f6b64c5eb.json
DESCRIPTION:Преподаватель: Буянов Сергей Васи
 льевич
DTSTAMP:20260420T142128Z
DTSTART:20260316T104500Z
DURATION:PT1H30M
LOCATION:3-Зал А
SEQUENCE:0
SUMMARY:[ЛК 1п.]Нейрокомпьютерные системы (Бу
 янов Сергей Васильевич)
UID:afb3ccee-92cb-4082-adbf-a54b420b6af7
END:VEVENT
BEGIN:VEVENT
ATTENDEE;CN=Давыдкина Елена Александровна:https:
 //public.mai.ru/schedule/data/8062e13e-1d99-11e0-9baf-1c6f65450efa.json
DESCRIPTION:Преподаватель: Давыдкина Елена Ал
 ександровна
DTSTAMP:20260420T142128Z
DTSTART:20260316T130000Z
DURATION:PT1H30M
LOCATION:3-404
SEQUENCE:0
SUMMARY:[ЛК 1п.]Статистические методы обработ
 ки данных (Давыдкина Елена Александровн
 а)
UID:9594628f-d822-4550-ab6d-33c3e6bccfc9
END:VEVENT
BEGIN:VEVENT
ATTENDEE;CN=Буянов Сергей Васильевич:https://public.m
 ai.ru/schedule/data/50771c48-3196-11ec-bbdb-ac1f6b64c5eb.json
DESCRIPTION:Преподаватель: Буянов Сергей Васи
 льевич
DTSTAMP:20260420T142128Z
DTSTART:20260317T090000Z
DURATION:PT3H15M
LOCATION:3-434а
SEQUENCE:0
SUMMARY:[ЛР 2п.]Теория вычислительных процесс
 ов (Буянов Сергей Васильевич)
UID:46455afb-bd4e-418e-ae65-37c2ceffe722
END:VEVENT
BEGIN:VEVENT
ATTENDEE;CN=Жигалов Владимир Иванович:https://public
 .mai.ru/schedule/data/8062e1a0-1d99-11e0-9baf-1c6f65450efa.json
DESCRIPTION:Преподаватель: Жигалов Владимир И
 ванович
DTSTAMP:20260420T142128Z
DTSTART:20260317T130000Z
DURATION:PT3H15M
LOCATION:3-444
SEQUENCE:0
SUMMARY:[ЛР 2п.]Теория языков программировани
 я и трансляции (Жигалов Владимир Иванови
 ч)
UID:c1b58624-53fa-46d0-afe5-042ae906ffed
END:VEVENT
BEGIN:VEVENT
ATTENDEE;CN=Буянов Сергей Васильевич:https://public.m
 ai.ru/schedule/data/50771c48-3196-11ec-bbdb-ac1f6b64c5eb.json
DESCRIPTION:Преподаватель: Буянов Сергей Васи
 льевич
DTSTAMP:20260420T142128Z
DTSTART:20260323T090000Z
DURATION:PT1H30M
LOCATION:3-Зал А
SEQUENCE:0
SUMMARY:[ЛК 1п.]Теория вычислительных процесс
 ов (Буянов Сергей Васильевич)
UID:0c24be77-2c83-4be0-b658-b7e6674077b6
END:VEVENT
BEGIN:VEVENT
ATTENDEE;CN=Буянов Сергей Васильевич:https://public.m
 ai.ru/schedule/data/50771c48-3196-11ec-bbdb-ac1f6b64c5eb.json
DESCRIPTION:Преподаватель: Буянов Сергей Васи
 льевич
DTSTAMP:20260420T142128Z
DTSTART:20260323T104500Z
DURATION:PT1H30M
LOCATION:3-Зал А
SEQUENCE:0
SUMMARY:[ЛК 1п.]Нейрокомпьютерные системы (Бу
 янов Сергей Васильевич)
UID:ab3e5567-5fc7-4bec-9de7-d548029f0386
END:VEVENT
BEGIN:VEVENT
ATTENDEE;CN=Давыдкина Елена Александровна:https:
 //public.mai.ru/schedule/data/8062e13e-1d99-11e0-9baf-1c6f65450efa.json
DESCRIPTION:Преподаватель: Давыдкина Елена Ал
 ександровна
DTSTAMP:20260420T142128Z
DTSTART:20260323T130000Z
DURATION:PT1H30M
LOCATION:3-404
SEQUENCE:0
SUMMARY:[ЛК 1п.]Статистические методы обработ
 ки данных (Давыдкина Елена Александровн
 а)
UID:0329f246-b1e9-420f-9c31-5ecca8b93492
END:VEVENT
BEGIN:VEVENT
ATTENDEE;CN=Давыдкина Елена Александровна:https:
 //public.mai.ru/schedule/data/8062e13e-1d99-11e0-9baf-1c6f65450efa.json
DESCRIPTION:Преподаватель: Давыдкина Елена Ал
 ександровна
DTSTAMP:20260420T142128Z
DTSTART:20260324T090000Z
DURATION:PT3H15M
LOCATION:3-240а
SEQUENCE:0
SUMMARY:[ЛР 2п.]Статистические методы обработ
 ки данных (Давыдкина Елена Александровн
 а)
UID:52e0981c-5b0e-4a4c-9c55-3a36228fbb6e
END:VEVENT
BEGIN:VEVENT
ATTENDEE;CN=Максимов Евгений Дмитриевич:https://pu
 blic.mai.ru/schedule/data/556bb426-be9e-11ee-bc10-3cecef1c132e.json
DESCRIPTION:Преподаватель: Максимов Евгений Д
 митриевич
DTSTAMP:20260420T142128Z
DTSTART:20260326T090000Z
DURATION:PT3H15M
LOCATION:3-434б
SEQUENCE:0
SUMMARY:[ЛР 2п.]Нейрокомпьютерные системы (Ма
 ксимов Евгений Дмитриевич)
UID:776bc121-96ac-494a-9597-dfe9692c680c
END:VEVENT
BEGIN:VEVENT
ATTENDEE;CN=Жигалов Владимир Иванович:https://public
 .mai.ru/schedule/data/8062e1a0-1d99-11e0-9baf-1c6f65450efa.json
DESCRIPTION:Преподаватель: Жигалов Владимир И
 ванович
DTSTAMP:20260420T142128Z
DTSTART:20260326T130000Z
DURATION:PT3H15M
LOCATION:ГАК-320
SEQUENCE:0
SUMMARY:[ЛК 2п.]Теория языков программировани
 я и трансляции (Жигалов Владимир Иванови
 ч)
UID:cdbed6a0-e1a4-4abe-84e0-b557400d5216
END:VEVENT
BEGIN:VEVENT
ATTENDEE;CN=Буянов Сергей Васильевич:https://public.m
 ai.ru/schedule/data/50771c48-3196-11ec-bbdb-ac1f6b64c5eb.json
DESCRIPTION:Преподаватель: Буянов Сергей Васи
 льевич
DTSTAMP:20260420T142128Z
DTSTART:20260330T090000Z
DURATION:PT1H30M
LOCATION:3-Зал А
SEQUENCE:0
SUMMARY:[ЛК 1п.]Теория вычислительных процесс
 ов (Буянов Сергей Васильевич)
UID:23f77e65-2ecb-48ff-b170-ffb76b3ea64b
END:VEVENT
BEGIN:VEVENT
ATTENDEE;CN=Буянов Сергей Васильевич:https://public.m
 ai.ru/schedule/data/50771c48-3196-11ec-bbdb-ac1f6b64c5eb.json
DESCRIPTION:Преподаватель: Буянов Сергей Васи
 льевич
DTSTAMP:20260420T142128Z
DTSTART:20260330T104500Z
DURATION:PT1H30M
LOCATION:3-Зал А
SEQUENCE:0
SUMMARY:[ЛК 1п.]Нейрокомпьютерные системы (Бу
 янов Сергей Васильевич)
UID:b66db0ff-24ed-4164-8022-c05e22d057f7
END:VEVENT
BEGIN:VEVENT
ATTENDEE;CN=Давыдкина Елена Александровна:https:
 //public.mai.ru/schedule/data/8062e13e-1d99-11e0-9baf-1c6f65450efa.json
DESCRIPTION:Преподаватель: Давыдкина Елена Ал
 ександровна
DTSTAMP:20260420T142128Z
DTSTART:20260330T130000Z
DURATION:PT1H30M
LOCATION:3-404
SEQUENCE:0
SUMMARY:[ЛК 1п.]Статистические методы обработ
 ки данных (Давыдкина Елена Александровн
 а)
UID:b565a1bb-72b2-4c27-b76d-b8287830a954
END:VEVENT
BEGIN:VEVENT
ATTENDEE;CN=Буянов Сергей Васильевич:https://public.m
 ai.ru/schedule/data/50771c48-3196-11ec-bbdb-ac1f6b64c5eb.json
DESCRIPTION:Преподаватель: Буянов Сергей Васи
 льевич
DTSTAMP:20260420T142128Z
DTSTART:20260331T090000Z
DURATION:PT3H15M
LOCATION:3-434а
SEQUENCE:0
SUMMARY:[ЛР 2п.]Теория вычислительных процесс
 ов (Буянов Сергей Васильевич)
UID:a716c176-5126-47b3-95fa-053ea62ce0b5
END:VEVENT
BEGIN:VEVENT
ATTENDEE;CN=Жигалов Владимир Иванович:https://public
 .mai.ru/schedule/data/8062e1a0-1d99-11e0-9baf-1c6f65450efa.json
DESCRIPTION:Преподаватель: Жигалов Владимир И
 ванович
DTSTAMP:20260420T142128Z
DTSTART:20260331T130000Z
DURATION:PT3H15M
LOCATION:3-444
SEQUENCE:0
SUMMARY:[ЛР 2п.]Теория языков программировани
 я и трансляции (Жигалов Владимир Иванови
 ч)
UID:964b47ab-0b25-4a97-9b5a-810529ba212d
END:VEVENT
BEGIN:VEVENT
ATTENDEE;CN=Буянов Сергей Васильевич:https://public.m
 ai.ru/schedule/data/50771c48-3196-11ec-bbdb-ac1f6b64c5eb.json
DESCRIPTION:Преподаватель: Буянов Сергей Васи
 льевич
DTSTAMP:20260420T142128Z
DTSTART:20260406T090000Z
DURATION:PT1H30M
LOCATION:3-Зал А
SEQUENCE:0
SUMMARY:[ЛК 1п.]Теория вычислительных процесс
 ов (Буянов Сергей Васильевич)
UID:01a3786a-970f-4069-ab45-13e6c954e44c
END:VEVENT
BEGIN:VEVENT
ATTENDEE;CN=Буянов Сергей Васильевич:https://public.m
 ai.ru/schedule/data/50771c48-3196-11ec-bbdb-ac1f6b64c5eb.json
DESCRIPTION:Преподаватель: Буянов Сергей Васи
 льевич
DTSTAMP:20260420T142128Z
DTSTART:20260406T104500Z
DURATION:PT1H30M
LOCATION:3-Зал А
SEQUENCE:0
SUMMARY:[ЛК 1п.]Нейрокомпьютерные системы (Бу
 янов Сергей Васильевич)
UID:a97822a0-9741-45d9-8e92-2da5843245c2
END:VEVENT
BEGIN:VEVENT
ATTENDEE;CN=Давыдкина Елена Александровна:https:
 //public.mai.ru/schedule/data/8062e13e-1d99-11e0-9baf-1c6f65450efa.json
DESCRIPTION:Преподаватель: Давыдкина Елена Ал
 ександровна
DTSTAMP:20260420T142128Z
DTSTART:20260406T130000Z
DURATION:PT1H30M
LOCATION:3-404
SEQUENCE:0
SUMMARY:[ЛК 1п.]Статистические методы обработ
 ки данных (Давыдкина Елена Александровн
 а)
UID:7128e665-96a7-4734-911f-85f87241c3f1
END:VEVENT
BEGIN:VEVENT
ATTENDEE;CN=Давыдкина Елена Александровна:https:
 //public.mai.ru/schedule/data/8062e13e-1d99-11e0-9baf-1c6f65450efa.json
DESCRIPTION:Преподаватель: Давыдкина Елена Ал
 ександровна
DTSTAMP:20260420T142128Z
DTSTART:20260407T090000Z
DURATION:PT3H15M
LOCATION:3-240а
SEQUENCE:0
SUMMARY:[ЛР 2п.]Статистические методы обработ
 ки данных (Давыдкина Елена Александровн
 а)
UID:181f4861-af78-402d-9976-fa8461499162
END:VEVENT
BEGIN:VEVENT
ATTENDEE;CN=Максимов Евгений Дмитриевич:https://pu
 blic.mai.ru/schedule/data/556bb426-be9e-11ee-bc10-3cecef1c132e.json
DESCRIPTION:Преподаватель: Максимов Евгений Д
 митриевич
DTSTAMP:20260420T142128Z
DTSTART:20260409T090000Z
DURATION:PT3H15M
LOCATION:3-434б
SEQUENCE:0
SUMMARY:[ЛР 2п.]Нейрокомпьютерные системы (Ма
 ксимов Евгений Дмитриевич)
UID:0d1e6180-262a-4c3c-9c92-e458150fe144
END:VEVENT
BEGIN:VEVENT
ATTENDEE;CN=Жигалов Владимир Иванович:https://public
 .mai.ru/schedule/data/8062e1a0-1d99-11e0-9baf-1c6f65450efa.json
DESCRIPTION:Преподаватель: Жигалов Владимир И
 ванович
DTSTAMP:20260420T142128Z
DTSTART:20260409T130000Z
DURATION:PT3H15M
LOCATION:ГАК-320
SEQUENCE:0
SUMMARY:[ЛК 2п.]Теория языков программировани
 я и трансляции (Жигалов Владимир Иванови
 ч)
UID:ce8bf8a2-8a43-4efb-ab2b-0a9310898822
END:VEVENT
BEGIN:VEVENT
ATTENDEE;CN=Жигалов Владимир Иванович:https://public
 .mai.ru/schedule/data/8062e1a0-1d99-11e0-9baf-1c6f65450efa.json
DESCRIPTION:Преподаватель: Жигалов Владимир И
 ванович
DTSTAMP:20260420T142128Z
DTSTART:20260409T163000Z
DURATION:PT1H30M
LOCATION:ГАК-307
SEQUENCE:0
SUMMARY:[Иное 1п.] (Жигалов Владимир Иванович)
UID:00657ce1-4cb8-4121-96a5-9cd1fdb35eae
END:VEVENT
BEGIN:VEVENT
ATTENDEE;CN=Буянов Сергей Васильевич:https://public.m
 ai.ru/schedule/data/50771c48-3196-11ec-bbdb-ac1f6b64c5eb.json
DESCRIPTION:Преподаватель: Буянов Сергей Васи
 льевич
DTSTAMP:20260420T142128Z
DTSTART:20260413T090000Z
DURATION:PT1H30M
LOCATION:3-Зал А
SEQUENCE:0
SUMMARY:[ЛК 1п.]Теория вычислительных процесс
 ов (Буянов Сергей Васильевич)
UID:94f96608-261a-45bd-ac20-f418c2e99f19
END:VEVENT
BEGIN:VEVENT
ATTENDEE;CN=Буянов Сергей Васильевич:https://public.m
 ai.ru/schedule/data/50771c48-3196-11ec-bbdb-ac1f6b64c5eb.json
DESCRIPTION:Преподаватель: Буянов Сергей Васи
 льевич
DTSTAMP:20260420T142128Z
DTSTART:20260413T104500Z
DURATION:PT1H30M
LOCATION:3-Зал А
SEQUENCE:0
SUMMARY:[ЛК 1п.]Нейрокомпьютерные системы (Бу
 янов Сергей Васильевич)
UID:affe99fb-d0ef-47ba-a6d4-df1f9fd0853b
END:VEVENT
BEGIN:VEVENT
ATTENDEE;CN=Давыдкина Елена Александровна:https:
 //public.mai.ru/schedule/data/8062e13e-1d99-11e0-9baf-1c6f65450efa.json
DESCRIPTION:Преподаватель: Давыдкина Елена Ал
 ександровна
DTSTAMP:20260420T142128Z
DTSTART:20260413T130000Z
DURATION:PT1H30M
LOCATION:3-404
SEQUENCE:0
SUMMARY:[ЛК 1п.]Статистические методы обработ
 ки данных (Давыдкина Елена Александровн
 а)
UID:e7391693-6db7-4ab8-802a-b915649c69c1
END:VEVENT
BEGIN:VEVENT
ATTENDEE;CN=Буянов Сергей Васильевич:https://public.m
 ai.ru/schedule/data/50771c48-3196-11ec-bbdb-ac1f6b64c5eb.json
DESCRIPTION:Преподаватель: Буянов Сергей Васи
 льевич
DTSTAMP:20260420T142128Z
DTSTART:20260414T090000Z
DURATION:PT3H15M
LOCATION:3-434а
SEQUENCE:0
SUMMARY:[ЛР 2п.]Теория вычислительных процесс
 ов (Буянов Сергей Васильевич)
UID:113ab6eb-4a0f-4faf-aedd-129ecb8e1a55
END:VEVENT
BEGIN:VEVENT
ATTENDEE;CN=Жигалов Владимир Иванович:https://public
 .mai.ru/schedule/data/8062e1a0-1d99-11e0-9baf-1c6f65450efa.json
DESCRIPTION:Преподаватель: Жигалов Владимир И
 ванович
DTSTAMP:20260420T142128Z
DTSTART:20260414T130000Z
DURATION:PT3H15M
LOCATION:3-444
SEQUENCE:0
SUMMARY:[ЛР 2п.]Теория языков программировани
 я и трансляции (Жигалов Владимир Иванови
 ч)
UID:eb927d4f-da2f-45e9-a01d-eccb44bbe0f7
END:VEVENT
BEGIN:VEVENT
ATTENDEE;CN=Буянов Сергей Васильевич:https://public.m
 ai.ru/schedule/data/50771c48-3196-11ec-bbdb-ac1f6b64c5eb.json
DESCRIPTION:Преподаватель: Буянов Сергей Васи
 льевич
DTSTAMP:20260420T142128Z
DTSTART:20260420T090000Z
DURATION:PT1H30M
LOCATION:3-Зал А
SEQUENCE:0
SUMMARY:[ЛК 1п.]Теория вычислительных процесс
 ов (Буянов Сергей Васильевич)
UID:d4601e98-d1b5-4624-bcf0-1470885f0ca3
END:VEVENT
BEGIN:VEVENT
ATTENDEE;CN=Буянов Сергей Васильевич:https://public.m
 ai.ru/schedule/data/50771c48-3196-11ec-bbdb-ac1f6b64c5eb.json
DESCRIPTION:Преподаватель: Буянов Сергей Васи
 льевич
DTSTAMP:20260420T142128Z
DTSTART:20260420T104500Z
DURATION:PT1H30M
LOCATION:3-Зал А
SEQUENCE:0
SUMMARY:[ЛК 1п.]Нейрокомпьютерные системы (Бу
 янов Сергей Васильевич)
UID:f08c9758-cca5-40b1-9dfc-4b0f401de214
END:VEVENT
BEGIN:VEVENT
ATTENDEE;CN=Давыдкина Елена Александровна:https:
 //public.mai.ru/schedule/data/8062e13e-1d99-11e0-9baf-1c6f65450efa.json
DESCRIPTION:Преподаватель: Давыдкина Елена Ал
 ександровна
DTSTAMP:20260420T142128Z
DTSTART:20260420T130000Z
DURATION:PT1H30M
LOCATION:3-404
SEQUENCE:0
SUMMARY:[ЛК 1п.]Статистические методы обработ
 ки данных (Давыдкина Елена Александровн
 а)
UID:658a33ad-f2d3-45b3-847b-3d3c07582957
END:VEVENT
BEGIN:VEVENT
ATTENDEE;CN=Давыдкина Елена Александровна:https:
 //public.mai.ru/schedule/data/8062e13e-1d99-11e0-9baf-1c6f65450efa.json
DESCRIPTION:Преподаватель: Давыдкина Елена Ал
 ександровна
DTSTAMP:20260420T142128Z
DTSTART:20260421T090000Z
DURATION:PT3H15M
LOCATION:3-240а
SEQUENCE:0
SUMMARY:[ЛР 2п.]Статистические методы обработ
 ки данных (Давыдкина Елена Александровн
 а)
UID:c794fda6-03c7-4644-9e54-505515a2c60c
END:VEVENT
BEGIN:VEVENT
ATTENDEE;CN=Максимов Евгений Дмитриевич:https://pu
 blic.mai.ru/schedule/data/556bb426-be9e-11ee-bc10-3cecef1c132e.json
DESCRIPTION:Преподаватель: Максимов Евгений Д
 митриевич
DTSTAMP:20260420T142128Z
DTSTART:20260423T090000Z
DURATION:PT3H15M
LOCATION:3-434б
SEQUENCE:0
SUMMARY:[ЛР 2п.]Нейрокомпьютерные системы (Ма
 ксимов Евгений Дмитриевич)
UID:a24af7c3-fbbf-4317-9d87-f4ce637b6907
END:VEVENT
BEGIN:VEVENT
ATTENDEE;CN=Жигалов Владимир Иванович:https://public
 .mai.ru/schedule/data/8062e1a0-1d99-11e0-9baf-1c6f65450efa.json
DESCRIPTION:Преподаватель: Жигалов Владимир И
 ванович
DTSTAMP:20260420T142128Z
DTSTART:20260423T130000Z
DURATION:PT3H15M
LOCATION:ГАК-320
SEQUENCE:0
SUMMARY:[ЛК 2п.]Теория языков программировани
 я и трансляции (Жигалов Владимир Иванови
 ч)
UID:c09cd32a-2119-46d6-a081-cf814ecd9d58
END:VEVENT
BEGIN:VEVENT
ATTENDEE;CN=Буянов Сергей Васильевич:https://public.m
 ai.ru/schedule/data/50771c48-3196-11ec-bbdb-ac1f6b64c5eb.json
DESCRIPTION:Преподаватель: Буянов Сергей Васи
 льевич
DTSTAMP:20260420T142128Z
DTSTART:20260427T090000Z
DURATION:PT1H30M
LOCATION:3-Зал А
SEQUENCE:0
SUMMARY:[ЛК 1п.]Теория вычислительных процесс
 ов (Буянов Сергей Васильевич)
UID:f237d9b2-db53-4acd-b68a-2d0b1d8d652c
END:VEVENT
BEGIN:VEVENT
ATTENDEE;CN=Буянов Сергей Васильевич:https://public.m
 ai.ru/schedule/data/50771c48-3196-11ec-bbdb-ac1f6b64c5eb.json
DESCRIPTION:Преподаватель: Буянов Сергей Васи
 льевич
DTSTAMP:20260420T142128Z
DTSTART:20260427T104500Z
DURATION:PT1H30M
LOCATION:3-Зал А
SEQUENCE:0
SUMMARY:[ЛК 1п.]Нейрокомпьютерные системы (Бу
 янов Сергей Васильевич)
UID:18d0bdd7-0362-4548-9fd3-80d0def4914d
END:VEVENT
BEGIN:VEVENT
ATTENDEE;CN=Давыдкина Елена Александровна:https:
 //public.mai.ru/schedule/data/8062e13e-1d99-11e0-9baf-1c6f65450efa.json
DESCRIPTION:Преподаватель: Давыдкина Елена Ал
 ександровна
DTSTAMP:20260420T142128Z
DTSTART:20260427T130000Z
DURATION:PT1H30M
LOCATION:3-404
SEQUENCE:0
SUMMARY:[ЛК 1п.]Статистические методы обработ
 ки данных (Давыдкина Елена Александровн
 а)
UID:23baaa35-def4-41e2-9945-4ddaeade4dfd
END:VEVENT
BEGIN:VEVENT
ATTENDEE;CN=Буянов Сергей Васильевич:https://public.m
 ai.ru/schedule/data/50771c48-3196-11ec-bbdb-ac1f6b64c5eb.json
DESCRIPTION:Преподаватель: Буянов Сергей Васи
 льевич
DTSTAMP:20260420T142128Z
DTSTART:20260428T090000Z
DURATION:PT3H15M
LOCATION:3-434а
SEQUENCE:0
SUMMARY:[ЛР 2п.]Теория вычислительных процесс
 ов (Буянов Сергей Васильевич)
UID:9079628e-2214-4d85-addf-b04bbe515517
END:VEVENT
BEGIN:VEVENT
ATTENDEE;CN=Жигалов Владимир Иванович:https://public
 .mai.ru/schedule/data/8062e1a0-1d99-11e0-9baf-1c6f65450efa.json
DESCRIPTION:Преподаватель: Жигалов Владимир И
 ванович
DTSTAMP:20260420T142128Z
DTSTART:20260428T130000Z
DURATION:PT3H15M
LOCATION:3-444
SEQUENCE:0
SUMMARY:[ЛР 2п.]Теория языков программировани
 я и трансляции (Жигалов Владимир Иванови
 ч)
UID:91aebd40-52c4-4281-b49b-cac708ad0444
END:VEVENT
BEGIN:VEVENT
ATTENDEE;CN=Буянов Сергей Васильевич:https://public.m
 ai.ru/schedule/data/50771c48-3196-11ec-bbdb-ac1f6b64c5eb.json
DESCRIPTION:Преподаватель: Буянов Сергей Васи
 льевич
DTSTAMP:20260420T142128Z
DTSTART:20260504T090000Z
DURATION:PT1H30M
LOCATION:3-Зал А
SEQUENCE:0
SUMMARY:[ЛК 1п.]Теория вычислительных процесс
 ов (Буянов Сергей Васильевич)
UID:4269e009-d779-4cf8-8fa9-7a5c680bb58f
END:VEVENT
BEGIN:VEVENT
ATTENDEE;CN=Буянов Сергей Васильевич:https://public.m
 ai.ru/schedule/data/50771c48-3196-11ec-bbdb-ac1f6b64c5eb.json
DESCRIPTION:Преподаватель: Буянов Сергей Васи
 льевич
DTSTAMP:20260420T142128Z
DTSTART:20260504T104500Z
DURATION:PT1H30M
LOCATION:3-Зал А
SEQUENCE:0
SUMMARY:[ЛК 1п.]Нейрокомпьютерные системы (Бу
 янов Сергей Васильевич)
UID:8c64b450-050f-4c04-bace-71a17961dde3
END:VEVENT
BEGIN:VEVENT
ATTENDEE;CN=Давыдкина Елена Александровна:https:
 //public.mai.ru/schedule/data/8062e13e-1d99-11e0-9baf-1c6f65450efa.json
DESCRIPTION:Преподаватель: Давыдкина Елена Ал
 ександровна
DTSTAMP:20260420T142128Z
DTSTART:20260504T130000Z
DURATION:PT1H30M
LOCATION:3-404
SEQUENCE:0
SUMMARY:[ЛК 1п.]Статистические методы обработ
 ки данных (Давыдкина Елена Александровн
 а)
UID:5089f537-dadd-4e67-ae4c-4f8d83863311
END:VEVENT
BEGIN:VEVENT
ATTENDEE;CN=Жигалов Владимир Иванович:https://public
 .mai.ru/schedule/data/8062e1a0-1d99-11e0-9baf-1c6f65450efa.json
DESCRIPTION:Преподаватель: Жигалов Владимир И
 ванович
DTSTAMP:20260420T142128Z
DTSTART:20260507T130000Z
DURATION:PT3H15M
LOCATION:ГАК-320
SEQUENCE:0
SUMMARY:[ЛК 2п.]Теория языков программировани
 я и трансляции (Жигалов Владимир Иванови
 ч)
UID:a7f72498-28ab-4fa6-b9c0-61a3ae4afc25
END:VEVENT
BEGIN:VEVENT
ATTENDEE;CN=Буянов Сергей Васильевич:https://public.m
 ai.ru/schedule/data/50771c48-3196-11ec-bbdb-ac1f6b64c5eb.json
DESCRIPTION:Преподаватель: Буянов Сергей Васи
 льевич
DTSTAMP:20260420T142128Z
DTSTART:20260515T130000Z
DURATION:PT3H15M
LOCATION:3-434а
SEQUENCE:0
SUMMARY:[Экзамен 2п.]Нейрокомпьютерные систе
 мы (Буянов Сергей Васильевич)
UID:9a093a16-8296-44db-83da-599299825abc
END:VEVENT
BEGIN:VEVENT
ATTENDEE;CN=Давыдкина Елена Александровна:https:
 //public.mai.ru/schedule/data/8062e13e-1d99-11e0-9baf-1c6f65450efa.json
DESCRIPTION:Преподаватель: Давыдкина Елена Ал
 ександровна
DTSTAMP:20260420T142128Z
DTSTART:20260519T130000Z
DURATION:PT3H15M
LOCATION:3-240б
SEQUENCE:0
SUMMARY:[Экзамен 2п.]Статистические методы об
 работки данных (Давыдкина Елена Алексан
 дровна)
UID:f5eb7660-e931-4c0e-965e-f7eb8d31f4ba
END:VEVENT
END:VCALENDAR
