﻿BEGIN:VCALENDAR
CALSCALE:GREGORIAN
METHOD:PUBLISH
PRODID:-//MAI-dep406//MAI Dep406 1.01//RU
VERSION:2.0
X-WR-TIMEZONE:Europe/Moscow
BEGIN:VTIMEZONE
TZID:Europe/Moscow
X-LIC-LOCATION:Europe/Moscow
BEGIN:STANDARD
DTSTART;VALUE=DATE:19700101
TZNAME:GMT+3
TZOFFSETTO:+0300
END:STANDARD
END:VTIMEZONE
BEGIN:VEVENT
ATTENDEE;CN=КУЗНЕЦОВ ПАВЕЛ МИХАЙЛОВИЧ:https://public
 .mai.ru/schedule/data/325b0cbf-0d94-11e4-b897-005056c00008.json
ATTENDEE;CN=КАВЕРНАЯ ИРИНА НИКОЛАЕВНА:https://public
 .mai.ru/schedule/data/97999aa9-65aa-11e4-a65a-00155d79380a.json
DESCRIPTION:Преподаватель: КУЗНЕЦОВ ПАВЕЛ МИХ
 АЙЛОВИЧ\,КАВЕРНАЯ ИРИНА НИКОЛАЕВНА
DTSTAMP:20260421T174813Z
DTSTART:20260210T130000Z
DURATION:PT6H45M
LOCATION:Орш. В-411\; Орш. В-404
SEQUENCE:0
SUMMARY:[ЛК\,ЛР 4п.]Интегрированные системы те
 хнической подготовки производства (КУЗН
 ЕЦОВ ПАВЕЛ МИХАЙЛОВИЧ\,КАВЕРНАЯ ИРИНА НИ
 КОЛАЕВНА)
UID:4746c1a2-620a-4c82-ada4-bf8fa444fc57
END:VEVENT
BEGIN:VEVENT
ATTENDEE;CN=ШЕВЧЕНКО МИХАИЛ ИГОРЕВИЧ:https://public.m
 ai.ru/schedule/data/07a088bf-0d8f-11e4-b897-005056c00008.json
DESCRIPTION:Преподаватель: ШЕВЧЕНКО МИХАИЛ ИГ
 ОРЕВИЧ
DTSTAMP:20260421T174813Z
DTSTART:20260211T130000Z
DURATION:PT6H45M
LOCATION:Орш. Б-306\; Орш. В-410
SEQUENCE:0
SUMMARY:[ЛК\,ЛР 4п.]Моделирование информацион
 ных систем (ШЕВЧЕНКО МИХАИЛ ИГОРЕВИЧ)
UID:1d7cdb42-9118-4278-b04e-4110375bc403
END:VEVENT
BEGIN:VEVENT
DESCRIPTION:Преподаватель: 
DTSTAMP:20260421T174813Z
DTSTART:20260212T090000Z
DURATION:PT7H15M
LOCATION:--каф.
SEQUENCE:0
SUMMARY:[ПЗ 4п.]Военная подготовка ()
UID:11845647-1568-44d1-8db6-92c58d38e364
END:VEVENT
BEGIN:VEVENT
ATTENDEE;CN=ХАРИТОНЕНКОВ АНТОН ИГОРЕВИЧ:https://pu
 blic.mai.ru/schedule/data/2443bd59-0d8f-11e4-b897-005056c00008.json
DESCRIPTION:Преподаватель: ХАРИТОНЕНКОВ АНТОН
  ИГОРЕВИЧ
DTSTAMP:20260421T174813Z
DTSTART:20260214T090000Z
DURATION:PT1H30M
LOCATION:Орш. В-411
SEQUENCE:0
SUMMARY:[ЛК 1п.]Геометрическое моделирование 
 (ХАРИТОНЕНКОВ АНТОН ИГОРЕВИЧ)
UID:74a4bfa0-6b28-4cb5-b9f5-eb94f6b7b875
END:VEVENT
BEGIN:VEVENT
ATTENDEE;CN=ХАРИТОНЕНКОВ АНТОН ИГОРЕВИЧ:https://pu
 blic.mai.ru/schedule/data/2443bd59-0d8f-11e4-b897-005056c00008.json
DESCRIPTION:Преподаватель: ХАРИТОНЕНКОВ АНТОН
  ИГОРЕВИЧ
DTSTAMP:20260421T174813Z
DTSTART:20260214T104500Z
DURATION:PT1H30M
LOCATION:Орш. В-411
SEQUENCE:0
SUMMARY:[ЛК 1п.]Технологии удаленного обучени
 я (ХАРИТОНЕНКОВ АНТОН ИГОРЕВИЧ)
UID:1bcad05b-9d45-4428-80b6-7d3b77b0d830
END:VEVENT
BEGIN:VEVENT
ATTENDEE;CN=ХОРОШКО АЛЕКСАНДР ЛЕОНИДОВИЧ:https://
 public.mai.ru/schedule/data/6cdecbcb-b5a6-11e8-8f40-485b3919ee6d.json
ATTENDEE;CN=ХАРИТОНЕНКОВ АНТОН ИГОРЕВИЧ:https://pu
 blic.mai.ru/schedule/data/2443bd59-0d8f-11e4-b897-005056c00008.json
DESCRIPTION:Преподаватель: ХОРОШКО АЛЕКСАНДР 
 ЛЕОНИДОВИЧ\,ХАРИТОНЕНКОВ АНТОН ИГОРЕВИЧ
DTSTAMP:20260421T174813Z
DTSTART:20260216T163000Z
DURATION:PT3H15M
LOCATION:Орш. В-411
SEQUENCE:0
SUMMARY:[ЛР 2п.]Геометрическое моделирование 
 (ХОРОШКО АЛЕКСАНДР ЛЕОНИДОВИЧ\,ХАРИТОНЕ
 НКОВ АНТОН ИГОРЕВИЧ)
UID:42e639ce-31d5-4bf3-8fdf-bd515e29f606
END:VEVENT
BEGIN:VEVENT
DESCRIPTION:Преподаватель: 
DTSTAMP:20260421T174813Z
DTSTART:20260219T090000Z
DURATION:PT7H15M
LOCATION:--каф.
SEQUENCE:0
SUMMARY:[ПЗ 4п.]Военная подготовка ()
UID:a1b6cbf1-b716-40b0-8517-c2ff01decf25
END:VEVENT
BEGIN:VEVENT
ATTENDEE;CN=ХАРИТОНЕНКОВ АНТОН ИГОРЕВИЧ:https://pu
 blic.mai.ru/schedule/data/2443bd59-0d8f-11e4-b897-005056c00008.json
DESCRIPTION:Преподаватель: ХАРИТОНЕНКОВ АНТОН
  ИГОРЕВИЧ
DTSTAMP:20260421T174813Z
DTSTART:20260221T090000Z
DURATION:PT1H30M
LOCATION:Орш. В-411
SEQUENCE:0
SUMMARY:[ЛК 1п.]Геометрическое моделирование 
 (ХАРИТОНЕНКОВ АНТОН ИГОРЕВИЧ)
UID:108a90d1-d7dd-4979-83f7-bac6b637782b
END:VEVENT
BEGIN:VEVENT
ATTENDEE;CN=ХАРИТОНЕНКОВ АНТОН ИГОРЕВИЧ:https://pu
 blic.mai.ru/schedule/data/2443bd59-0d8f-11e4-b897-005056c00008.json
DESCRIPTION:Преподаватель: ХАРИТОНЕНКОВ АНТОН
  ИГОРЕВИЧ
DTSTAMP:20260421T174813Z
DTSTART:20260221T104500Z
DURATION:PT1H30M
LOCATION:Орш. В-411
SEQUENCE:0
SUMMARY:[ЛК 1п.]Технологии удаленного обучени
 я (ХАРИТОНЕНКОВ АНТОН ИГОРЕВИЧ)
UID:68012f5c-0035-402a-9d0b-a34041cad3c6
END:VEVENT
BEGIN:VEVENT
ATTENDEE;CN=КУЗНЕЦОВ ПАВЕЛ МИХАЙЛОВИЧ:https://public
 .mai.ru/schedule/data/325b0cbf-0d94-11e4-b897-005056c00008.json
ATTENDEE;CN=КАВЕРНАЯ ИРИНА НИКОЛАЕВНА:https://public
 .mai.ru/schedule/data/97999aa9-65aa-11e4-a65a-00155d79380a.json
DESCRIPTION:Преподаватель: КУЗНЕЦОВ ПАВЕЛ МИХ
 АЙЛОВИЧ\,КАВЕРНАЯ ИРИНА НИКОЛАЕВНА
DTSTAMP:20260421T174813Z
DTSTART:20260224T130000Z
DURATION:PT6H45M
LOCATION:Орш. В-411\; Орш. В-404
SEQUENCE:0
SUMMARY:[ЛК\,ЛР 4п.]Интегрированные системы те
 хнической подготовки производства (КУЗН
 ЕЦОВ ПАВЕЛ МИХАЙЛОВИЧ\,КАВЕРНАЯ ИРИНА НИ
 КОЛАЕВНА)
UID:a9405c29-ecc1-4abe-8545-b393390cec8d
END:VEVENT
BEGIN:VEVENT
ATTENDEE;CN=ШЕВЧЕНКО МИХАИЛ ИГОРЕВИЧ:https://public.m
 ai.ru/schedule/data/07a088bf-0d8f-11e4-b897-005056c00008.json
DESCRIPTION:Преподаватель: ШЕВЧЕНКО МИХАИЛ ИГ
 ОРЕВИЧ
DTSTAMP:20260421T174813Z
DTSTART:20260225T130000Z
DURATION:PT6H45M
LOCATION:Орш. Б-306\; Орш. В-410
SEQUENCE:0
SUMMARY:[ЛК\,ЛР 4п.]Моделирование информацион
 ных систем (ШЕВЧЕНКО МИХАИЛ ИГОРЕВИЧ)
UID:4d11f604-85cd-4f66-8c4a-f64e826622d6
END:VEVENT
BEGIN:VEVENT
DESCRIPTION:Преподаватель: 
DTSTAMP:20260421T174813Z
DTSTART:20260226T090000Z
DURATION:PT7H15M
LOCATION:--каф.
SEQUENCE:0
SUMMARY:[ПЗ 4п.]Военная подготовка ()
UID:9abf283f-fa41-4291-b3eb-7b63a33f3d40
END:VEVENT
BEGIN:VEVENT
ATTENDEE;CN=ХОРОШКО АЛЕКСАНДР ЛЕОНИДОВИЧ:https://
 public.mai.ru/schedule/data/6cdecbcb-b5a6-11e8-8f40-485b3919ee6d.json
DESCRIPTION:Преподаватель: ХОРОШКО АЛЕКСАНДР 
 ЛЕОНИДОВИЧ
DTSTAMP:20260421T174813Z
DTSTART:20260227T163000Z
DURATION:PT3H15M
LOCATION:Орш. В-410
SEQUENCE:0
SUMMARY:[ЛР 2п.]Технологии удаленного обучени
 я (ХОРОШКО АЛЕКСАНДР ЛЕОНИДОВИЧ)
UID:9d85e6a0-5f1d-44b9-994d-f5b30f68a833
END:VEVENT
BEGIN:VEVENT
ATTENDEE;CN=ХАРИТОНЕНКОВ АНТОН ИГОРЕВИЧ:https://pu
 blic.mai.ru/schedule/data/2443bd59-0d8f-11e4-b897-005056c00008.json
DESCRIPTION:Преподаватель: ХАРИТОНЕНКОВ АНТОН
  ИГОРЕВИЧ
DTSTAMP:20260421T174813Z
DTSTART:20260228T090000Z
DURATION:PT1H30M
LOCATION:Орш. В-411
SEQUENCE:0
SUMMARY:[ЛК 1п.]Геометрическое моделирование 
 (ХАРИТОНЕНКОВ АНТОН ИГОРЕВИЧ)
UID:caf403d2-74af-4fd3-a788-66d79d50e317
END:VEVENT
BEGIN:VEVENT
ATTENDEE;CN=ХАРИТОНЕНКОВ АНТОН ИГОРЕВИЧ:https://pu
 blic.mai.ru/schedule/data/2443bd59-0d8f-11e4-b897-005056c00008.json
DESCRIPTION:Преподаватель: ХАРИТОНЕНКОВ АНТОН
  ИГОРЕВИЧ
DTSTAMP:20260421T174813Z
DTSTART:20260228T104500Z
DURATION:PT1H30M
LOCATION:Орш. В-411
SEQUENCE:0
SUMMARY:[ЛК 1п.]Технологии удаленного обучени
 я (ХАРИТОНЕНКОВ АНТОН ИГОРЕВИЧ)
UID:ac1cd8ad-b69f-45ac-bbdd-15efbcea92e7
END:VEVENT
BEGIN:VEVENT
ATTENDEE;CN=ХОРОШКО АЛЕКСАНДР ЛЕОНИДОВИЧ:https://
 public.mai.ru/schedule/data/6cdecbcb-b5a6-11e8-8f40-485b3919ee6d.json
ATTENDEE;CN=ХАРИТОНЕНКОВ АНТОН ИГОРЕВИЧ:https://pu
 blic.mai.ru/schedule/data/2443bd59-0d8f-11e4-b897-005056c00008.json
DESCRIPTION:Преподаватель: ХОРОШКО АЛЕКСАНДР 
 ЛЕОНИДОВИЧ\,ХАРИТОНЕНКОВ АНТОН ИГОРЕВИЧ
DTSTAMP:20260421T174813Z
DTSTART:20260302T163000Z
DURATION:PT3H15M
LOCATION:Орш. В-411
SEQUENCE:0
SUMMARY:[ЛР 2п.]Геометрическое моделирование 
 (ХОРОШКО АЛЕКСАНДР ЛЕОНИДОВИЧ\,ХАРИТОНЕ
 НКОВ АНТОН ИГОРЕВИЧ)
UID:60350453-ee70-455f-8b3a-37506b717fbc
END:VEVENT
BEGIN:VEVENT
DESCRIPTION:Преподаватель: 
DTSTAMP:20260421T174813Z
DTSTART:20260305T090000Z
DURATION:PT7H15M
LOCATION:--каф.
SEQUENCE:0
SUMMARY:[ПЗ 4п.]Военная подготовка ()
UID:c5883754-3c19-4221-a194-c29c2dbaab4d
END:VEVENT
BEGIN:VEVENT
ATTENDEE;CN=ХОРОШКО АЛЕКСАНДР ЛЕОНИДОВИЧ:https://
 public.mai.ru/schedule/data/6cdecbcb-b5a6-11e8-8f40-485b3919ee6d.json
DESCRIPTION:Преподаватель: ХОРОШКО АЛЕКСАНДР 
 ЛЕОНИДОВИЧ
DTSTAMP:20260421T174813Z
DTSTART:20260306T163000Z
DURATION:PT3H15M
LOCATION:Орш. В-410
SEQUENCE:0
SUMMARY:[ЛР 2п.]Технологии удаленного обучени
 я (ХОРОШКО АЛЕКСАНДР ЛЕОНИДОВИЧ)
UID:08a1c5b4-26bf-40cd-aab3-05eb19967f61
END:VEVENT
BEGIN:VEVENT
ATTENDEE;CN=ХАРИТОНЕНКОВ АНТОН ИГОРЕВИЧ:https://pu
 blic.mai.ru/schedule/data/2443bd59-0d8f-11e4-b897-005056c00008.json
DESCRIPTION:Преподаватель: ХАРИТОНЕНКОВ АНТОН
  ИГОРЕВИЧ
DTSTAMP:20260421T174813Z
DTSTART:20260307T090000Z
DURATION:PT1H30M
LOCATION:Орш. В-411
SEQUENCE:0
SUMMARY:[ЛК 1п.]Геометрическое моделирование 
 (ХАРИТОНЕНКОВ АНТОН ИГОРЕВИЧ)
UID:26dc2b0a-7696-415e-a65e-079283682c31
END:VEVENT
BEGIN:VEVENT
ATTENDEE;CN=ХАРИТОНЕНКОВ АНТОН ИГОРЕВИЧ:https://pu
 blic.mai.ru/schedule/data/2443bd59-0d8f-11e4-b897-005056c00008.json
DESCRIPTION:Преподаватель: ХАРИТОНЕНКОВ АНТОН
  ИГОРЕВИЧ
DTSTAMP:20260421T174813Z
DTSTART:20260307T104500Z
DURATION:PT1H30M
LOCATION:Орш. В-411
SEQUENCE:0
SUMMARY:[ЛК 1п.]Технологии удаленного обучени
 я (ХАРИТОНЕНКОВ АНТОН ИГОРЕВИЧ)
UID:19de54f7-37db-488e-9d77-0b8b956634b1
END:VEVENT
BEGIN:VEVENT
ATTENDEE;CN=КУЗНЕЦОВ ПАВЕЛ МИХАЙЛОВИЧ:https://public
 .mai.ru/schedule/data/325b0cbf-0d94-11e4-b897-005056c00008.json
ATTENDEE;CN=КАВЕРНАЯ ИРИНА НИКОЛАЕВНА:https://public
 .mai.ru/schedule/data/97999aa9-65aa-11e4-a65a-00155d79380a.json
DESCRIPTION:Преподаватель: КУЗНЕЦОВ ПАВЕЛ МИХ
 АЙЛОВИЧ\,КАВЕРНАЯ ИРИНА НИКОЛАЕВНА
DTSTAMP:20260421T174813Z
DTSTART:20260310T130000Z
DURATION:PT6H45M
LOCATION:Орш. В-411\; Орш. В-404
SEQUENCE:0
SUMMARY:[ЛК\,ЛР 4п.]Интегрированные системы те
 хнической подготовки производства (КУЗН
 ЕЦОВ ПАВЕЛ МИХАЙЛОВИЧ\,КАВЕРНАЯ ИРИНА НИ
 КОЛАЕВНА)
UID:674b823c-c8c6-4a08-afba-b006304d5aee
END:VEVENT
BEGIN:VEVENT
ATTENDEE;CN=ШЕВЧЕНКО МИХАИЛ ИГОРЕВИЧ:https://public.m
 ai.ru/schedule/data/07a088bf-0d8f-11e4-b897-005056c00008.json
DESCRIPTION:Преподаватель: ШЕВЧЕНКО МИХАИЛ ИГ
 ОРЕВИЧ
DTSTAMP:20260421T174813Z
DTSTART:20260311T130000Z
DURATION:PT6H45M
LOCATION:Орш. Б-306\; Орш. В-410
SEQUENCE:0
SUMMARY:[ЛК\,ЛР 4п.]Моделирование информацион
 ных систем (ШЕВЧЕНКО МИХАИЛ ИГОРЕВИЧ)
UID:3bd14b35-33e1-4899-9dca-493cc3567e71
END:VEVENT
BEGIN:VEVENT
DESCRIPTION:Преподаватель: 
DTSTAMP:20260421T174813Z
DTSTART:20260312T090000Z
DURATION:PT7H15M
LOCATION:--каф.
SEQUENCE:0
SUMMARY:[ПЗ 4п.]Военная подготовка ()
UID:83db123f-ff9d-4bb0-bfbe-986de0b6d18b
END:VEVENT
BEGIN:VEVENT
ATTENDEE;CN=ХОРОШКО АЛЕКСАНДР ЛЕОНИДОВИЧ:https://
 public.mai.ru/schedule/data/6cdecbcb-b5a6-11e8-8f40-485b3919ee6d.json
DESCRIPTION:Преподаватель: ХОРОШКО АЛЕКСАНДР 
 ЛЕОНИДОВИЧ
DTSTAMP:20260421T174813Z
DTSTART:20260313T163000Z
DURATION:PT3H15M
LOCATION:Орш. В-410
SEQUENCE:0
SUMMARY:[ЛР 2п.]Технологии удаленного обучени
 я (ХОРОШКО АЛЕКСАНДР ЛЕОНИДОВИЧ)
UID:b42b9a2b-de8f-421e-8c2b-85d77eedbc83
END:VEVENT
BEGIN:VEVENT
ATTENDEE;CN=ХАРИТОНЕНКОВ АНТОН ИГОРЕВИЧ:https://pu
 blic.mai.ru/schedule/data/2443bd59-0d8f-11e4-b897-005056c00008.json
DESCRIPTION:Преподаватель: ХАРИТОНЕНКОВ АНТОН
  ИГОРЕВИЧ
DTSTAMP:20260421T174813Z
DTSTART:20260314T090000Z
DURATION:PT1H30M
LOCATION:Орш. В-411
SEQUENCE:0
SUMMARY:[ЛК 1п.]Геометрическое моделирование 
 (ХАРИТОНЕНКОВ АНТОН ИГОРЕВИЧ)
UID:19efabf9-6bdd-4657-80a8-a6e4a3bca427
END:VEVENT
BEGIN:VEVENT
ATTENDEE;CN=ХАРИТОНЕНКОВ АНТОН ИГОРЕВИЧ:https://pu
 blic.mai.ru/schedule/data/2443bd59-0d8f-11e4-b897-005056c00008.json
DESCRIPTION:Преподаватель: ХАРИТОНЕНКОВ АНТОН
  ИГОРЕВИЧ
DTSTAMP:20260421T174813Z
DTSTART:20260314T104500Z
DURATION:PT1H30M
LOCATION:Орш. В-411
SEQUENCE:0
SUMMARY:[ЛК 1п.]Технологии удаленного обучени
 я (ХАРИТОНЕНКОВ АНТОН ИГОРЕВИЧ)
UID:c3127494-f499-4ce5-a753-ad5c1256635b
END:VEVENT
BEGIN:VEVENT
ATTENDEE;CN=ХОРОШКО АЛЕКСАНДР ЛЕОНИДОВИЧ:https://
 public.mai.ru/schedule/data/6cdecbcb-b5a6-11e8-8f40-485b3919ee6d.json
ATTENDEE;CN=ХАРИТОНЕНКОВ АНТОН ИГОРЕВИЧ:https://pu
 blic.mai.ru/schedule/data/2443bd59-0d8f-11e4-b897-005056c00008.json
DESCRIPTION:Преподаватель: ХОРОШКО АЛЕКСАНДР 
 ЛЕОНИДОВИЧ\,ХАРИТОНЕНКОВ АНТОН ИГОРЕВИЧ
DTSTAMP:20260421T174813Z
DTSTART:20260316T163000Z
DURATION:PT3H15M
LOCATION:Орш. В-411
SEQUENCE:0
SUMMARY:[ЛР 2п.]Геометрическое моделирование 
 (ХОРОШКО АЛЕКСАНДР ЛЕОНИДОВИЧ\,ХАРИТОНЕ
 НКОВ АНТОН ИГОРЕВИЧ)
UID:6953dd39-cc4f-4ab8-829f-a02dd262e391
END:VEVENT
BEGIN:VEVENT
DESCRIPTION:Преподаватель: 
DTSTAMP:20260421T174813Z
DTSTART:20260319T090000Z
DURATION:PT7H15M
LOCATION:--каф.
SEQUENCE:0
SUMMARY:[ПЗ 4п.]Военная подготовка ()
UID:54daff9b-1204-4768-966f-3a153dca5e80
END:VEVENT
BEGIN:VEVENT
ATTENDEE;CN=ХОРОШКО АЛЕКСАНДР ЛЕОНИДОВИЧ:https://
 public.mai.ru/schedule/data/6cdecbcb-b5a6-11e8-8f40-485b3919ee6d.json
DESCRIPTION:Преподаватель: ХОРОШКО АЛЕКСАНДР 
 ЛЕОНИДОВИЧ
DTSTAMP:20260421T174813Z
DTSTART:20260320T163000Z
DURATION:PT3H15M
LOCATION:Орш. В-410
SEQUENCE:0
SUMMARY:[ЛР 2п.]Технологии удаленного обучени
 я (ХОРОШКО АЛЕКСАНДР ЛЕОНИДОВИЧ)
UID:a20db29b-89ae-4c1e-9e60-f6343edd4b52
END:VEVENT
BEGIN:VEVENT
ATTENDEE;CN=ХАРИТОНЕНКОВ АНТОН ИГОРЕВИЧ:https://pu
 blic.mai.ru/schedule/data/2443bd59-0d8f-11e4-b897-005056c00008.json
DESCRIPTION:Преподаватель: ХАРИТОНЕНКОВ АНТОН
  ИГОРЕВИЧ
DTSTAMP:20260421T174813Z
DTSTART:20260321T090000Z
DURATION:PT1H30M
LOCATION:Орш. В-411
SEQUENCE:0
SUMMARY:[ЛК 1п.]Геометрическое моделирование 
 (ХАРИТОНЕНКОВ АНТОН ИГОРЕВИЧ)
UID:08e58278-b5e9-4e66-8654-60dcb86d549f
END:VEVENT
BEGIN:VEVENT
ATTENDEE;CN=ХАРИТОНЕНКОВ АНТОН ИГОРЕВИЧ:https://pu
 blic.mai.ru/schedule/data/2443bd59-0d8f-11e4-b897-005056c00008.json
DESCRIPTION:Преподаватель: ХАРИТОНЕНКОВ АНТОН
  ИГОРЕВИЧ
DTSTAMP:20260421T174813Z
DTSTART:20260321T104500Z
DURATION:PT1H30M
LOCATION:Орш. В-411
SEQUENCE:0
SUMMARY:[ЛК 1п.]Технологии удаленного обучени
 я (ХАРИТОНЕНКОВ АНТОН ИГОРЕВИЧ)
UID:5f3510e1-a855-4685-99b2-4aea8e989068
END:VEVENT
BEGIN:VEVENT
ATTENDEE;CN=КУЗНЕЦОВ ПАВЕЛ МИХАЙЛОВИЧ:https://public
 .mai.ru/schedule/data/325b0cbf-0d94-11e4-b897-005056c00008.json
ATTENDEE;CN=КАВЕРНАЯ ИРИНА НИКОЛАЕВНА:https://public
 .mai.ru/schedule/data/97999aa9-65aa-11e4-a65a-00155d79380a.json
DESCRIPTION:Преподаватель: КУЗНЕЦОВ ПАВЕЛ МИХ
 АЙЛОВИЧ\,КАВЕРНАЯ ИРИНА НИКОЛАЕВНА
DTSTAMP:20260421T174813Z
DTSTART:20260324T130000Z
DURATION:PT6H45M
LOCATION:Орш. В-411\; Орш. В-404
SEQUENCE:0
SUMMARY:[ЛК\,ЛР 4п.]Интегрированные системы те
 хнической подготовки производства (КУЗН
 ЕЦОВ ПАВЕЛ МИХАЙЛОВИЧ\,КАВЕРНАЯ ИРИНА НИ
 КОЛАЕВНА)
UID:ebf507a7-0988-444a-9bec-a4fa3d289fc8
END:VEVENT
BEGIN:VEVENT
ATTENDEE;CN=ШЕВЧЕНКО МИХАИЛ ИГОРЕВИЧ:https://public.m
 ai.ru/schedule/data/07a088bf-0d8f-11e4-b897-005056c00008.json
DESCRIPTION:Преподаватель: ШЕВЧЕНКО МИХАИЛ ИГ
 ОРЕВИЧ
DTSTAMP:20260421T174813Z
DTSTART:20260325T130000Z
DURATION:PT6H45M
LOCATION:Орш. Б-306\; Орш. В-410
SEQUENCE:0
SUMMARY:[ЛК\,ЛР 4п.]Моделирование информацион
 ных систем (ШЕВЧЕНКО МИХАИЛ ИГОРЕВИЧ)
UID:e361bb91-92d3-4d81-b8b6-b69695b1e8bd
END:VEVENT
BEGIN:VEVENT
DESCRIPTION:Преподаватель: 
DTSTAMP:20260421T174813Z
DTSTART:20260326T090000Z
DURATION:PT7H15M
LOCATION:--каф.
SEQUENCE:0
SUMMARY:[ПЗ 4п.]Военная подготовка ()
UID:c3ccbeef-d4c3-43a5-8cc1-d804a1f48a48
END:VEVENT
BEGIN:VEVENT
ATTENDEE;CN=ХОРОШКО АЛЕКСАНДР ЛЕОНИДОВИЧ:https://
 public.mai.ru/schedule/data/6cdecbcb-b5a6-11e8-8f40-485b3919ee6d.json
DESCRIPTION:Преподаватель: ХОРОШКО АЛЕКСАНДР 
 ЛЕОНИДОВИЧ
DTSTAMP:20260421T174813Z
DTSTART:20260327T163000Z
DURATION:PT3H15M
LOCATION:Орш. В-410
SEQUENCE:0
SUMMARY:[ЛР 2п.]Технологии удаленного обучени
 я (ХОРОШКО АЛЕКСАНДР ЛЕОНИДОВИЧ)
UID:669dc814-2c30-4754-8c11-3d7544655e6f
END:VEVENT
BEGIN:VEVENT
ATTENDEE;CN=ХАРИТОНЕНКОВ АНТОН ИГОРЕВИЧ:https://pu
 blic.mai.ru/schedule/data/2443bd59-0d8f-11e4-b897-005056c00008.json
DESCRIPTION:Преподаватель: ХАРИТОНЕНКОВ АНТОН
  ИГОРЕВИЧ
DTSTAMP:20260421T174813Z
DTSTART:20260328T090000Z
DURATION:PT1H30M
LOCATION:Орш. В-411
SEQUENCE:0
SUMMARY:[ЛК 1п.]Геометрическое моделирование 
 (ХАРИТОНЕНКОВ АНТОН ИГОРЕВИЧ)
UID:f9ba4ebb-331c-4c56-ae1c-71c8c87a6e20
END:VEVENT
BEGIN:VEVENT
ATTENDEE;CN=ХАРИТОНЕНКОВ АНТОН ИГОРЕВИЧ:https://pu
 blic.mai.ru/schedule/data/2443bd59-0d8f-11e4-b897-005056c00008.json
DESCRIPTION:Преподаватель: ХАРИТОНЕНКОВ АНТОН
  ИГОРЕВИЧ
DTSTAMP:20260421T174813Z
DTSTART:20260328T104500Z
DURATION:PT1H30M
LOCATION:Орш. В-411
SEQUENCE:0
SUMMARY:[ЛК 1п.]Технологии удаленного обучени
 я (ХАРИТОНЕНКОВ АНТОН ИГОРЕВИЧ)
UID:749ef598-22fe-46bf-93dc-ebf8845486b4
END:VEVENT
BEGIN:VEVENT
ATTENDEE;CN=ХОРОШКО АЛЕКСАНДР ЛЕОНИДОВИЧ:https://
 public.mai.ru/schedule/data/6cdecbcb-b5a6-11e8-8f40-485b3919ee6d.json
ATTENDEE;CN=ХАРИТОНЕНКОВ АНТОН ИГОРЕВИЧ:https://pu
 blic.mai.ru/schedule/data/2443bd59-0d8f-11e4-b897-005056c00008.json
DESCRIPTION:Преподаватель: ХОРОШКО АЛЕКСАНДР 
 ЛЕОНИДОВИЧ\,ХАРИТОНЕНКОВ АНТОН ИГОРЕВИЧ
DTSTAMP:20260421T174813Z
DTSTART:20260330T163000Z
DURATION:PT3H15M
LOCATION:Орш. В-411
SEQUENCE:0
SUMMARY:[ЛР 2п.]Геометрическое моделирование 
 (ХОРОШКО АЛЕКСАНДР ЛЕОНИДОВИЧ\,ХАРИТОНЕ
 НКОВ АНТОН ИГОРЕВИЧ)
UID:8fac821e-858c-473f-9343-b48969f10b99
END:VEVENT
BEGIN:VEVENT
DESCRIPTION:Преподаватель: 
DTSTAMP:20260421T174813Z
DTSTART:20260402T090000Z
DURATION:PT7H15M
LOCATION:--каф.
SEQUENCE:0
SUMMARY:[ПЗ 4п.]Военная подготовка ()
UID:fd81ffa1-b3a1-4a0f-943b-1bfa43848bd8
END:VEVENT
BEGIN:VEVENT
ATTENDEE;CN=ХОРОШКО АЛЕКСАНДР ЛЕОНИДОВИЧ:https://
 public.mai.ru/schedule/data/6cdecbcb-b5a6-11e8-8f40-485b3919ee6d.json
DESCRIPTION:Преподаватель: ХОРОШКО АЛЕКСАНДР 
 ЛЕОНИДОВИЧ
DTSTAMP:20260421T174813Z
DTSTART:20260403T163000Z
DURATION:PT3H15M
LOCATION:Орш. В-410
SEQUENCE:0
SUMMARY:[ЛР 2п.]Технологии удаленного обучени
 я (ХОРОШКО АЛЕКСАНДР ЛЕОНИДОВИЧ)
UID:94e9e3c1-dfe5-4981-9a83-4db77c6bc31d
END:VEVENT
BEGIN:VEVENT
ATTENDEE;CN=ХАРИТОНЕНКОВ АНТОН ИГОРЕВИЧ:https://pu
 blic.mai.ru/schedule/data/2443bd59-0d8f-11e4-b897-005056c00008.json
DESCRIPTION:Преподаватель: ХАРИТОНЕНКОВ АНТОН
  ИГОРЕВИЧ
DTSTAMP:20260421T174813Z
DTSTART:20260404T090000Z
DURATION:PT1H30M
LOCATION:Орш. В-411
SEQUENCE:0
SUMMARY:[ЛК 1п.]Геометрическое моделирование 
 (ХАРИТОНЕНКОВ АНТОН ИГОРЕВИЧ)
UID:73f4ad9d-09ea-4c97-bf41-401f90ea730e
END:VEVENT
BEGIN:VEVENT
ATTENDEE;CN=ХАРИТОНЕНКОВ АНТОН ИГОРЕВИЧ:https://pu
 blic.mai.ru/schedule/data/2443bd59-0d8f-11e4-b897-005056c00008.json
DESCRIPTION:Преподаватель: ХАРИТОНЕНКОВ АНТОН
  ИГОРЕВИЧ
DTSTAMP:20260421T174813Z
DTSTART:20260404T104500Z
DURATION:PT1H30M
LOCATION:Орш. В-411
SEQUENCE:0
SUMMARY:[ЛК 1п.]Технологии удаленного обучени
 я (ХАРИТОНЕНКОВ АНТОН ИГОРЕВИЧ)
UID:96ec5979-a82f-4b62-8e08-f758c531a7df
END:VEVENT
BEGIN:VEVENT
ATTENDEE;CN=КУЗНЕЦОВ ПАВЕЛ МИХАЙЛОВИЧ:https://public
 .mai.ru/schedule/data/325b0cbf-0d94-11e4-b897-005056c00008.json
ATTENDEE;CN=КАВЕРНАЯ ИРИНА НИКОЛАЕВНА:https://public
 .mai.ru/schedule/data/97999aa9-65aa-11e4-a65a-00155d79380a.json
DESCRIPTION:Преподаватель: КУЗНЕЦОВ ПАВЕЛ МИХ
 АЙЛОВИЧ\,КАВЕРНАЯ ИРИНА НИКОЛАЕВНА
DTSTAMP:20260421T174813Z
DTSTART:20260407T130000Z
DURATION:PT6H45M
LOCATION:Орш. В-404
SEQUENCE:0
SUMMARY:[ПЗ\,ЛР 4п.]Интегрированные системы те
 хнической подготовки производства (КУЗН
 ЕЦОВ ПАВЕЛ МИХАЙЛОВИЧ\,КАВЕРНАЯ ИРИНА НИ
 КОЛАЕВНА)
UID:2f5bf9aa-9d60-44ae-82cd-7cca9acdf3a8
END:VEVENT
BEGIN:VEVENT
ATTENDEE;CN=ШЕВЧЕНКО МИХАИЛ ИГОРЕВИЧ:https://public.m
 ai.ru/schedule/data/07a088bf-0d8f-11e4-b897-005056c00008.json
DESCRIPTION:Преподаватель: ШЕВЧЕНКО МИХАИЛ ИГ
 ОРЕВИЧ
DTSTAMP:20260421T174813Z
DTSTART:20260408T130000Z
DURATION:PT6H45M
LOCATION:Орш. Б-306\; Орш. В-410
SEQUENCE:0
SUMMARY:[ПЗ\,ЛР 4п.]Моделирование информацион
 ных систем (ШЕВЧЕНКО МИХАИЛ ИГОРЕВИЧ)
UID:cd57f66b-ba83-4e1a-9088-e236be3e9c66
END:VEVENT
BEGIN:VEVENT
DESCRIPTION:Преподаватель: 
DTSTAMP:20260421T174813Z
DTSTART:20260409T090000Z
DURATION:PT7H15M
LOCATION:--каф.
SEQUENCE:0
SUMMARY:[ПЗ 4п.]Военная подготовка ()
UID:c5c3d117-71c8-4fa6-aa61-d4f720074da9
END:VEVENT
BEGIN:VEVENT
ATTENDEE;CN=ХОРОШКО АЛЕКСАНДР ЛЕОНИДОВИЧ:https://
 public.mai.ru/schedule/data/6cdecbcb-b5a6-11e8-8f40-485b3919ee6d.json
DESCRIPTION:Преподаватель: ХОРОШКО АЛЕКСАНДР 
 ЛЕОНИДОВИЧ
DTSTAMP:20260421T174813Z
DTSTART:20260410T163000Z
DURATION:PT3H15M
LOCATION:Орш. В-410
SEQUENCE:0
SUMMARY:[ЛР 2п.]Технологии удаленного обучени
 я (ХОРОШКО АЛЕКСАНДР ЛЕОНИДОВИЧ)
UID:3fbad1e8-9092-46da-80d7-a4be4db52e65
END:VEVENT
BEGIN:VEVENT
ATTENDEE;CN=ХАРИТОНЕНКОВ АНТОН ИГОРЕВИЧ:https://pu
 blic.mai.ru/schedule/data/2443bd59-0d8f-11e4-b897-005056c00008.json
DESCRIPTION:Преподаватель: ХАРИТОНЕНКОВ АНТОН
  ИГОРЕВИЧ
DTSTAMP:20260421T174813Z
DTSTART:20260411T090000Z
DURATION:PT3H15M
LOCATION:Орш. В-411
SEQUENCE:0
SUMMARY:[ПЗ 2п.]Геометрическое моделирование 
 (ХАРИТОНЕНКОВ АНТОН ИГОРЕВИЧ)
UID:77a9970c-6b64-44a6-8b34-07c59e30fd33
END:VEVENT
BEGIN:VEVENT
ATTENDEE;CN=ХОРОШКО АЛЕКСАНДР ЛЕОНИДОВИЧ:https://
 public.mai.ru/schedule/data/6cdecbcb-b5a6-11e8-8f40-485b3919ee6d.json
ATTENDEE;CN=ХАРИТОНЕНКОВ АНТОН ИГОРЕВИЧ:https://pu
 blic.mai.ru/schedule/data/2443bd59-0d8f-11e4-b897-005056c00008.json
DESCRIPTION:Преподаватель: ХОРОШКО АЛЕКСАНДР 
 ЛЕОНИДОВИЧ\,ХАРИТОНЕНКОВ АНТОН ИГОРЕВИЧ
DTSTAMP:20260421T174813Z
DTSTART:20260413T163000Z
DURATION:PT3H15M
LOCATION:Орш. В-411
SEQUENCE:0
SUMMARY:[ЛР 2п.]Геометрическое моделирование 
 (ХОРОШКО АЛЕКСАНДР ЛЕОНИДОВИЧ\,ХАРИТОНЕ
 НКОВ АНТОН ИГОРЕВИЧ)
UID:221cfe87-29ec-44ac-b5aa-3c3216ffb754
END:VEVENT
BEGIN:VEVENT
DESCRIPTION:Преподаватель: 
DTSTAMP:20260421T174813Z
DTSTART:20260416T090000Z
DURATION:PT7H15M
LOCATION:--каф.
SEQUENCE:0
SUMMARY:[ПЗ 4п.]Военная подготовка ()
UID:9aeccd17-f8c7-4628-9c62-6d9399bd4651
END:VEVENT
BEGIN:VEVENT
ATTENDEE;CN=ХАРИТОНЕНКОВ АНТОН ИГОРЕВИЧ:https://pu
 blic.mai.ru/schedule/data/2443bd59-0d8f-11e4-b897-005056c00008.json
DESCRIPTION:Преподаватель: ХАРИТОНЕНКОВ АНТОН
  ИГОРЕВИЧ
DTSTAMP:20260421T174813Z
DTSTART:20260418T090000Z
DURATION:PT3H15M
LOCATION:Орш. В-411
SEQUENCE:0
SUMMARY:[ПЗ 2п.]Геометрическое моделирование 
 (ХАРИТОНЕНКОВ АНТОН ИГОРЕВИЧ)
UID:dc0c82e7-8068-4469-bfca-fb766cf014d2
END:VEVENT
BEGIN:VEVENT
ATTENDEE;CN=КАВЕРНАЯ ИРИНА НИКОЛАЕВНА:https://public
 .mai.ru/schedule/data/97999aa9-65aa-11e4-a65a-00155d79380a.json
ATTENDEE;CN=КУЗНЕЦОВ ПАВЕЛ МИХАЙЛОВИЧ:https://public
 .mai.ru/schedule/data/325b0cbf-0d94-11e4-b897-005056c00008.json
DESCRIPTION:Преподаватель: КАВЕРНАЯ ИРИНА НИК
 ОЛАЕВНА\,КУЗНЕЦОВ ПАВЕЛ МИХАЙЛОВИЧ
DTSTAMP:20260421T174813Z
DTSTART:20260421T163000Z
DURATION:PT3H15M
LOCATION:Орш. В-404
SEQUENCE:0
SUMMARY:[ЛР 2п.]Интегрированные системы техни
 ческой подготовки производства (КАВЕРНА
 Я ИРИНА НИКОЛАЕВНА\,КУЗНЕЦОВ ПАВЕЛ МИХАЙ
 ЛОВИЧ)
UID:1a69cf49-1eca-4a5b-bf61-37a38e6497e2
END:VEVENT
BEGIN:VEVENT
ATTENDEE;CN=ШЕВЧЕНКО МИХАИЛ ИГОРЕВИЧ:https://public.m
 ai.ru/schedule/data/07a088bf-0d8f-11e4-b897-005056c00008.json
DESCRIPTION:Преподаватель: ШЕВЧЕНКО МИХАИЛ ИГ
 ОРЕВИЧ
DTSTAMP:20260421T174813Z
DTSTART:20260422T163000Z
DURATION:PT3H15M
LOCATION:Орш. В-410
SEQUENCE:0
SUMMARY:[ЛР 2п.]Моделирование информационных 
 систем (ШЕВЧЕНКО МИХАИЛ ИГОРЕВИЧ)
UID:f97799b3-77d8-4b4a-9444-db385ad9f834
END:VEVENT
BEGIN:VEVENT
DESCRIPTION:Преподаватель: 
DTSTAMP:20260421T174813Z
DTSTART:20260423T090000Z
DURATION:PT7H15M
LOCATION:--каф.
SEQUENCE:0
SUMMARY:[ПЗ 4п.]Военная подготовка ()
UID:e5adf526-ea9a-4129-a579-7347001fbf27
END:VEVENT
BEGIN:VEVENT
ATTENDEE;CN=ХОРОШКО АЛЕКСАНДР ЛЕОНИДОВИЧ:https://
 public.mai.ru/schedule/data/6cdecbcb-b5a6-11e8-8f40-485b3919ee6d.json
ATTENDEE;CN=ХАРИТОНЕНКОВ АНТОН ИГОРЕВИЧ:https://pu
 blic.mai.ru/schedule/data/2443bd59-0d8f-11e4-b897-005056c00008.json
DESCRIPTION:Преподаватель: ХОРОШКО АЛЕКСАНДР 
 ЛЕОНИДОВИЧ\,ХАРИТОНЕНКОВ АНТОН ИГОРЕВИЧ
DTSTAMP:20260421T174813Z
DTSTART:20260427T163000Z
DURATION:PT3H15M
LOCATION:Орш. В-411
SEQUENCE:0
SUMMARY:[ЛР 2п.]Геометрическое моделирование 
 (ХОРОШКО АЛЕКСАНДР ЛЕОНИДОВИЧ\,ХАРИТОНЕ
 НКОВ АНТОН ИГОРЕВИЧ)
UID:3d717999-64c6-462a-a5ea-09f27526726b
END:VEVENT
BEGIN:VEVENT
DESCRIPTION:Преподаватель: 
DTSTAMP:20260421T174813Z
DTSTART:20260430T090000Z
DURATION:PT7H15M
LOCATION:--каф.
SEQUENCE:0
SUMMARY:[ПЗ 4п.]Военная подготовка ()
UID:b892b5de-ec8f-409b-be7c-859fb9726857
END:VEVENT
BEGIN:VEVENT
ATTENDEE;CN=КУЗНЕЦОВ ПАВЕЛ МИХАЙЛОВИЧ:https://public
 .mai.ru/schedule/data/325b0cbf-0d94-11e4-b897-005056c00008.json
DESCRIPTION:Преподаватель: КУЗНЕЦОВ ПАВЕЛ МИХ
 АЙЛОВИЧ
DTSTAMP:20260421T174813Z
DTSTART:20260505T163000Z
DURATION:PT3H15M
LOCATION:Орш. В-404
SEQUENCE:0
SUMMARY:[ПЗ 2п.]Интегрированные системы техни
 ческой подготовки производства (КУЗНЕЦО
 В ПАВЕЛ МИХАЙЛОВИЧ)
UID:91284f12-d49a-4490-a5ad-91663760647a
END:VEVENT
BEGIN:VEVENT
ATTENDEE;CN=ШЕВЧЕНКО МИХАИЛ ИГОРЕВИЧ:https://public.m
 ai.ru/schedule/data/07a088bf-0d8f-11e4-b897-005056c00008.json
DESCRIPTION:Преподаватель: ШЕВЧЕНКО МИХАИЛ ИГ
 ОРЕВИЧ
DTSTAMP:20260421T174813Z
DTSTART:20260506T163000Z
DURATION:PT3H15M
LOCATION:Орш. В-410
SEQUENCE:0
SUMMARY:[ПЗ 2п.]Моделирование информационных 
 систем (ШЕВЧЕНКО МИХАИЛ ИГОРЕВИЧ)
UID:f307affe-5693-4210-ae53-80b88530ebfe
END:VEVENT
BEGIN:VEVENT
DESCRIPTION:Преподаватель: 
DTSTAMP:20260421T174813Z
DTSTART:20260507T090000Z
DURATION:PT7H15M
LOCATION:--каф.
SEQUENCE:0
SUMMARY:[ПЗ 4п.]Военная подготовка ()
UID:bad2662e-db57-4f36-9e83-76b926732c1a
END:VEVENT
BEGIN:VEVENT
ATTENDEE;CN=ХАРИТОНЕНКОВ АНТОН ИГОРЕВИЧ:https://pu
 blic.mai.ru/schedule/data/2443bd59-0d8f-11e4-b897-005056c00008.json
DESCRIPTION:Преподаватель: ХАРИТОНЕНКОВ АНТОН
  ИГОРЕВИЧ
DTSTAMP:20260421T174813Z
DTSTART:20260516T090000Z
DURATION:PT3H15M
LOCATION:Орш. В-410
SEQUENCE:0
SUMMARY:[Экзамен 2п.]Геометрическое моделиро
 вание (ХАРИТОНЕНКОВ АНТОН ИГОРЕВИЧ)
UID:ffe8bbfb-2a70-4cfe-afff-b65af62edfc6
END:VEVENT
END:VCALENDAR
