﻿BEGIN:VCALENDAR
CALSCALE:GREGORIAN
METHOD:PUBLISH
PRODID:-//MAI-dep406//MAI Dep406 1.01//RU
VERSION:2.0
X-WR-TIMEZONE:Europe/Moscow
BEGIN:VTIMEZONE
TZID:Europe/Moscow
X-LIC-LOCATION:Europe/Moscow
BEGIN:STANDARD
DTSTART;VALUE=DATE:19700101
TZNAME:GMT+3
TZOFFSETTO:+0300
END:STANDARD
END:VTIMEZONE
BEGIN:VEVENT
ATTENDEE;CN=СОЛОДОВА АНАСТАСИЯ ДМИТРИЕВНА:https:
 //public.mai.ru/schedule/data/de447766-83c5-11e6-b2eb-3cd92bf20bfe.json
DESCRIPTION:Преподаватель: СОЛОДОВА АНАСТАСИЯ
  ДМИТРИЕВНА
DTSTAMP:20260419T122405Z
DTSTART:20260209T181500Z
DURATION:PT3H15M
LOCATION:5-112
SEQUENCE:0
SUMMARY:[ЛК\,ПЗ 2п.]Управление рисками на прои
 зводстве (СОЛОДОВА АНАСТАСИЯ ДМИТРИЕВНА
 )
UID:7c6ec379-131a-40f1-a678-dfb2cc6968a3
END:VEVENT
BEGIN:VEVENT
ATTENDEE;CN=Федотова Марина Александровна:https:
 //public.mai.ru/schedule/data/54696cbf-64a4-11e3-a558-3cd92bf20bfe.json
DESCRIPTION:Преподаватель: Федотова Марина Ал
 ександровна
DTSTAMP:20260419T122405Z
DTSTART:20260210T181500Z
DURATION:PT3H15M
LOCATION:5-420
SEQUENCE:0
SUMMARY:[ЛК\,ПЗ 2п.]Организационное поведение 
 (Федотова Марина Александровна)
UID:4882d9c6-af67-4adc-a1a0-b944205cf1f6
END:VEVENT
BEGIN:VEVENT
ATTENDEE;CN=Мелик-Асланова Нармина Октай кызы:
 https://public.mai.ru/schedule/data/f94601dd-1d99-11e0-9baf-1c6f65450efa.j
 son
DESCRIPTION:Преподаватель: Мелик-Асланова Нар
 мина Октай кызы
DTSTAMP:20260419T122405Z
DTSTART:20260212T181500Z
DURATION:PT3H15M
LOCATION:5-306
SEQUENCE:0
SUMMARY:[ЛК 2п.]Инвестиционные фонды (Мелик-Ас
 ланова Нармина Октай кызы)
UID:5898ccfc-b9eb-4626-8d7d-68188b31de22
END:VEVENT
BEGIN:VEVENT
ATTENDEE;CN=Горелов Борислав Борисович:https://publ
 ic.mai.ru/schedule/data/48ae4d4c-dde2-11e4-9091-3cd92bf20bfe.json
DESCRIPTION:Преподаватель: Горелов Борислав Б
 орисович
DTSTAMP:20260419T122405Z
DTSTART:20260213T181500Z
DURATION:PT3H15M
LOCATION:5-306
SEQUENCE:0
SUMMARY:[ЛК\,ПЗ 2п.]Страхование (Горелов Борис
 лав Борисович)
UID:b4209788-24fc-4c09-8fdb-1a1a3ea9e70c
END:VEVENT
BEGIN:VEVENT
ATTENDEE;CN=Калошина Марина Николаевна:https://publ
 ic.mai.ru/schedule/data/8062e19c-1d99-11e0-9baf-1c6f65450efa.json
DESCRIPTION:Преподаватель: Калошина Марина Ни
 колаевна
DTSTAMP:20260419T122405Z
DTSTART:20260216T181500Z
DURATION:PT3H15M
LOCATION:5-301В
SEQUENCE:0
SUMMARY:[ЛК 2п.]Оценка стоимости предприятия (
 Калошина Марина Николаевна)
UID:64817825-33ab-4ebd-9842-5c30455d8ce6
END:VEVENT
BEGIN:VEVENT
ATTENDEE;CN=Геращенко Наталья Николаевна:https://
 public.mai.ru/schedule/data/65f93e8d-1d99-11e0-9baf-1c6f65450efa.json
DESCRIPTION:Преподаватель: Геращенко Наталья 
 Николаевна
DTSTAMP:20260419T122405Z
DTSTART:20260217T181500Z
DURATION:PT3H15M
LOCATION:5-301Б
SEQUENCE:0
SUMMARY:[ЛК 2п.]Финансовые расчеты в электрон
 ных таблицах (Геращенко Наталья Николае
 вна)
UID:547bea00-4079-40c1-b6f2-2bf985007a5c
END:VEVENT
BEGIN:VEVENT
ATTENDEE;CN=Бурдина Анна Анатольевна:https://public.m
 ai.ru/schedule/data/dddd4234-1d99-11e0-9baf-1c6f65450efa.json
DESCRIPTION:Преподаватель: Бурдина Анна Анато
 льевна
DTSTAMP:20260419T122405Z
DTSTART:20260218T181500Z
DURATION:PT3H15M
LOCATION:5-306
SEQUENCE:0
SUMMARY:[ЛК\,ПЗ 2п.]Финансовая безопасность и 
 аудит (Бурдина Анна Анатольевна)
UID:5552aa23-1711-42db-b26d-d34495389cbc
END:VEVENT
BEGIN:VEVENT
ATTENDEE;CN=Мелик-Асланова Нармина Октай кызы:
 https://public.mai.ru/schedule/data/f94601dd-1d99-11e0-9baf-1c6f65450efa.j
 son
DESCRIPTION:Преподаватель: Мелик-Асланова Нар
 мина Октай кызы
DTSTAMP:20260419T122405Z
DTSTART:20260219T181500Z
DURATION:PT3H15M
LOCATION:5-306
SEQUENCE:0
SUMMARY:[ЛК 2п.]Бенчмаркинг (Мелик-Асланова На
 рмина Октай кызы)
UID:d9f874ea-6632-4599-a3bf-4b207e165987
END:VEVENT
BEGIN:VEVENT
ATTENDEE;CN=Федотова Марина Александровна:https:
 //public.mai.ru/schedule/data/54696cbf-64a4-11e3-a558-3cd92bf20bfe.json
DESCRIPTION:Преподаватель: Федотова Марина Ал
 ександровна
DTSTAMP:20260419T122405Z
DTSTART:20260224T181500Z
DURATION:PT3H15M
LOCATION:5-420
SEQUENCE:0
SUMMARY:[ЛК\,ПЗ 2п.]Организационное поведение 
 (Федотова Марина Александровна)
UID:032c6c26-61e6-400a-a9f3-ea749f383736
END:VEVENT
BEGIN:VEVENT
ATTENDEE;CN=Мелик-Асланова Нармина Октай кызы:
 https://public.mai.ru/schedule/data/f94601dd-1d99-11e0-9baf-1c6f65450efa.j
 son
DESCRIPTION:Преподаватель: Мелик-Асланова Нар
 мина Октай кызы
DTSTAMP:20260419T122405Z
DTSTART:20260226T181500Z
DURATION:PT3H15M
LOCATION:5-306
SEQUENCE:0
SUMMARY:[ЛК 2п.]Инвестиционные фонды (Мелик-Ас
 ланова Нармина Октай кызы)
UID:2418175d-7149-4e10-8fc3-d203a4c725b5
END:VEVENT
BEGIN:VEVENT
ATTENDEE;CN=Горелов Борислав Борисович:https://publ
 ic.mai.ru/schedule/data/48ae4d4c-dde2-11e4-9091-3cd92bf20bfe.json
DESCRIPTION:Преподаватель: Горелов Борислав Б
 орисович
DTSTAMP:20260419T122405Z
DTSTART:20260227T181500Z
DURATION:PT3H15M
LOCATION:5-306
SEQUENCE:0
SUMMARY:[ЛК\,ПЗ 2п.]Страхование (Горелов Борис
 лав Борисович)
UID:8ed1e28d-b51c-4531-b314-2cf2806e164d
END:VEVENT
BEGIN:VEVENT
ATTENDEE;CN=Калошина Марина Николаевна:https://publ
 ic.mai.ru/schedule/data/8062e19c-1d99-11e0-9baf-1c6f65450efa.json
DESCRIPTION:Преподаватель: Калошина Марина Ни
 колаевна
DTSTAMP:20260419T122405Z
DTSTART:20260302T181500Z
DURATION:PT3H15M
LOCATION:5-301В
SEQUENCE:0
SUMMARY:[ЛК 2п.]Оценка стоимости предприятия (
 Калошина Марина Николаевна)
UID:e7a2e50c-49a0-4fc2-9061-08d58705d9fc
END:VEVENT
BEGIN:VEVENT
ATTENDEE;CN=Геращенко Наталья Николаевна:https://
 public.mai.ru/schedule/data/65f93e8d-1d99-11e0-9baf-1c6f65450efa.json
DESCRIPTION:Преподаватель: Геращенко Наталья 
 Николаевна
DTSTAMP:20260419T122405Z
DTSTART:20260303T181500Z
DURATION:PT3H15M
LOCATION:5-301Б
SEQUENCE:0
SUMMARY:[ЛК 2п.]Финансовые расчеты в электрон
 ных таблицах (Геращенко Наталья Николае
 вна)
UID:a2879b39-7053-4f92-be17-5d1660a95e82
END:VEVENT
BEGIN:VEVENT
ATTENDEE;CN=Бурдина Анна Анатольевна:https://public.m
 ai.ru/schedule/data/dddd4234-1d99-11e0-9baf-1c6f65450efa.json
DESCRIPTION:Преподаватель: Бурдина Анна Анато
 льевна
DTSTAMP:20260419T122405Z
DTSTART:20260304T181500Z
DURATION:PT3H15M
LOCATION:5-306
SEQUENCE:0
SUMMARY:[ЛК\,ПЗ 2п.]Финансовая безопасность и 
 аудит (Бурдина Анна Анатольевна)
UID:8cea11aa-1b26-4119-b07b-da51ec3cf8b6
END:VEVENT
BEGIN:VEVENT
ATTENDEE;CN=Мелик-Асланова Нармина Октай кызы:
 https://public.mai.ru/schedule/data/f94601dd-1d99-11e0-9baf-1c6f65450efa.j
 son
DESCRIPTION:Преподаватель: Мелик-Асланова Нар
 мина Октай кызы
DTSTAMP:20260419T122405Z
DTSTART:20260305T181500Z
DURATION:PT3H15M
LOCATION:5-306
SEQUENCE:0
SUMMARY:[ЛК 2п.]Бенчмаркинг (Мелик-Асланова На
 рмина Октай кызы)
UID:96515183-b480-4017-93d7-deb109793d57
END:VEVENT
BEGIN:VEVENT
ATTENDEE;CN=Федотова Марина Александровна:https:
 //public.mai.ru/schedule/data/54696cbf-64a4-11e3-a558-3cd92bf20bfe.json
DESCRIPTION:Преподаватель: Федотова Марина Ал
 ександровна
DTSTAMP:20260419T122405Z
DTSTART:20260310T181500Z
DURATION:PT3H15M
LOCATION:5-420
SEQUENCE:0
SUMMARY:[ЛК\,ПЗ 2п.]Организационное поведение 
 (Федотова Марина Александровна)
UID:156edecf-0fc8-48e8-9991-9839bccc83e6
END:VEVENT
BEGIN:VEVENT
ATTENDEE;CN=Мелик-Асланова Нармина Октай кызы:
 https://public.mai.ru/schedule/data/f94601dd-1d99-11e0-9baf-1c6f65450efa.j
 son
DESCRIPTION:Преподаватель: Мелик-Асланова Нар
 мина Октай кызы
DTSTAMP:20260419T122405Z
DTSTART:20260312T181500Z
DURATION:PT3H15M
LOCATION:5-306
SEQUENCE:0
SUMMARY:[ЛК\,ПЗ 2п.]Инвестиционные фонды (Мели
 к-Асланова Нармина Октай кызы)
UID:c983e669-aca3-47de-93a7-1d7f7f69007c
END:VEVENT
BEGIN:VEVENT
ATTENDEE;CN=Горелов Борислав Борисович:https://publ
 ic.mai.ru/schedule/data/48ae4d4c-dde2-11e4-9091-3cd92bf20bfe.json
DESCRIPTION:Преподаватель: Горелов Борислав Б
 орисович
DTSTAMP:20260419T122405Z
DTSTART:20260313T181500Z
DURATION:PT3H15M
LOCATION:5-306
SEQUENCE:0
SUMMARY:[ЛК\,ПЗ 2п.]Страхование (Горелов Борис
 лав Борисович)
UID:35565bb3-e734-44b9-af9d-6ca26cd1e2c5
END:VEVENT
BEGIN:VEVENT
ATTENDEE;CN=Калошина Марина Николаевна:https://publ
 ic.mai.ru/schedule/data/8062e19c-1d99-11e0-9baf-1c6f65450efa.json
DESCRIPTION:Преподаватель: Калошина Марина Ни
 колаевна
DTSTAMP:20260419T122405Z
DTSTART:20260316T181500Z
DURATION:PT3H15M
LOCATION:5-301В
SEQUENCE:0
SUMMARY:[ЛР 2п.]Оценка стоимости предприятия (
 Калошина Марина Николаевна)
UID:69f7517f-d354-486a-9f4b-1207ec5f3a96
END:VEVENT
BEGIN:VEVENT
ATTENDEE;CN=Геращенко Наталья Николаевна:https://
 public.mai.ru/schedule/data/65f93e8d-1d99-11e0-9baf-1c6f65450efa.json
DESCRIPTION:Преподаватель: Геращенко Наталья 
 Николаевна
DTSTAMP:20260419T122405Z
DTSTART:20260317T181500Z
DURATION:PT3H15M
LOCATION:5-301Б
SEQUENCE:0
SUMMARY:[ЛК 2п.]Финансовые расчеты в электрон
 ных таблицах (Геращенко Наталья Николае
 вна)
UID:5c2aa290-352b-4a4b-b3a7-1de8390afd6b
END:VEVENT
BEGIN:VEVENT
ATTENDEE;CN=Бурдина Анна Анатольевна:https://public.m
 ai.ru/schedule/data/dddd4234-1d99-11e0-9baf-1c6f65450efa.json
DESCRIPTION:Преподаватель: Бурдина Анна Анато
 льевна
DTSTAMP:20260419T122405Z
DTSTART:20260318T181500Z
DURATION:PT3H15M
LOCATION:5-306
SEQUENCE:0
SUMMARY:[ЛК\,ПЗ 2п.]Финансовая безопасность и 
 аудит (Бурдина Анна Анатольевна)
UID:7b13e4e7-2960-49f9-80d7-db7f103a0709
END:VEVENT
BEGIN:VEVENT
ATTENDEE;CN=Мелик-Асланова Нармина Октай кызы:
 https://public.mai.ru/schedule/data/f94601dd-1d99-11e0-9baf-1c6f65450efa.j
 son
DESCRIPTION:Преподаватель: Мелик-Асланова Нар
 мина Октай кызы
DTSTAMP:20260419T122405Z
DTSTART:20260319T181500Z
DURATION:PT3H15M
LOCATION:5-306
SEQUENCE:0
SUMMARY:[ЛК 2п.]Бенчмаркинг (Мелик-Асланова На
 рмина Октай кызы)
UID:736f43bc-8e36-4094-9086-74a10cb7462e
END:VEVENT
BEGIN:VEVENT
ATTENDEE;CN=СОЛОДОВА АНАСТАСИЯ ДМИТРИЕВНА:https:
 //public.mai.ru/schedule/data/de447766-83c5-11e6-b2eb-3cd92bf20bfe.json
DESCRIPTION:Преподаватель: СОЛОДОВА АНАСТАСИЯ
  ДМИТРИЕВНА
DTSTAMP:20260419T122405Z
DTSTART:20260323T181500Z
DURATION:PT3H15M
LOCATION:5-112
SEQUENCE:0
SUMMARY:[ЛК\,ПЗ 2п.]Управление рисками на прои
 зводстве (СОЛОДОВА АНАСТАСИЯ ДМИТРИЕВНА
 )
UID:ca4185d4-3fad-486b-8051-70c053373d22
END:VEVENT
BEGIN:VEVENT
ATTENDEE;CN=Федотова Марина Александровна:https:
 //public.mai.ru/schedule/data/54696cbf-64a4-11e3-a558-3cd92bf20bfe.json
DESCRIPTION:Преподаватель: Федотова Марина Ал
 ександровна
DTSTAMP:20260419T122405Z
DTSTART:20260324T181500Z
DURATION:PT3H15M
LOCATION:5-420
SEQUENCE:0
SUMMARY:[ЛК\,ПЗ 2п.]Организационное поведение 
 (Федотова Марина Александровна)
UID:bc037243-6835-4fe5-9a42-4eac9b1d56ed
END:VEVENT
BEGIN:VEVENT
ATTENDEE;CN=Мелик-Асланова Нармина Октай кызы:
 https://public.mai.ru/schedule/data/f94601dd-1d99-11e0-9baf-1c6f65450efa.j
 son
DESCRIPTION:Преподаватель: Мелик-Асланова Нар
 мина Октай кызы
DTSTAMP:20260419T122405Z
DTSTART:20260326T181500Z
DURATION:PT3H15M
LOCATION:5-306
SEQUENCE:0
SUMMARY:[ЛК\,ПЗ 2п.]Инвестиционные фонды (Мели
 к-Асланова Нармина Октай кызы)
UID:7f7d225b-3e99-4858-b97f-a0d1c460bc18
END:VEVENT
BEGIN:VEVENT
ATTENDEE;CN=Горелов Борислав Борисович:https://publ
 ic.mai.ru/schedule/data/48ae4d4c-dde2-11e4-9091-3cd92bf20bfe.json
DESCRIPTION:Преподаватель: Горелов Борислав Б
 орисович
DTSTAMP:20260419T122405Z
DTSTART:20260327T181500Z
DURATION:PT3H15M
LOCATION:5-306
SEQUENCE:0
SUMMARY:[ЛК\,ПЗ 2п.]Страхование (Горелов Борис
 лав Борисович)
UID:b2a76d16-99ad-4a32-ac68-61356c4fdf7d
END:VEVENT
BEGIN:VEVENT
ATTENDEE;CN=Калошина Марина Николаевна:https://publ
 ic.mai.ru/schedule/data/8062e19c-1d99-11e0-9baf-1c6f65450efa.json
DESCRIPTION:Преподаватель: Калошина Марина Ни
 колаевна
DTSTAMP:20260419T122405Z
DTSTART:20260330T181500Z
DURATION:PT3H15M
LOCATION:5-301В
SEQUENCE:0
SUMMARY:[ЛР 2п.]Оценка стоимости предприятия (
 Калошина Марина Николаевна)
UID:64e04e64-f7d4-4a86-8e5c-d7327e86c515
END:VEVENT
BEGIN:VEVENT
ATTENDEE;CN=Геращенко Наталья Николаевна:https://
 public.mai.ru/schedule/data/65f93e8d-1d99-11e0-9baf-1c6f65450efa.json
DESCRIPTION:Преподаватель: Геращенко Наталья 
 Николаевна
DTSTAMP:20260419T122405Z
DTSTART:20260331T181500Z
DURATION:PT3H15M
LOCATION:5-301Б
SEQUENCE:0
SUMMARY:[ЛР 2п.]Финансовые расчеты в электрон
 ных таблицах (Геращенко Наталья Николае
 вна)
UID:12d06e31-5379-4369-a26e-56f2896ed6c9
END:VEVENT
BEGIN:VEVENT
ATTENDEE;CN=Бурдина Анна Анатольевна:https://public.m
 ai.ru/schedule/data/dddd4234-1d99-11e0-9baf-1c6f65450efa.json
DESCRIPTION:Преподаватель: Бурдина Анна Анато
 льевна
DTSTAMP:20260419T122405Z
DTSTART:20260401T181500Z
DURATION:PT3H15M
LOCATION:5-306
SEQUENCE:0
SUMMARY:[ЛК\,ПЗ 2п.]Финансовая безопасность и 
 аудит (Бурдина Анна Анатольевна)
UID:eeec4a56-3504-45a2-9cbb-88d2264a5ebc
END:VEVENT
BEGIN:VEVENT
ATTENDEE;CN=Мелик-Асланова Нармина Октай кызы:
 https://public.mai.ru/schedule/data/f94601dd-1d99-11e0-9baf-1c6f65450efa.j
 son
DESCRIPTION:Преподаватель: Мелик-Асланова Нар
 мина Октай кызы
DTSTAMP:20260419T122405Z
DTSTART:20260402T181500Z
DURATION:PT3H15M
LOCATION:5-306
SEQUENCE:0
SUMMARY:[ЛК 2п.]Бенчмаркинг (Мелик-Асланова На
 рмина Октай кызы)
UID:377373a5-84a5-497c-b241-70bc22889578
END:VEVENT
BEGIN:VEVENT
ATTENDEE;CN=СОЛОДОВА АНАСТАСИЯ ДМИТРИЕВНА:https:
 //public.mai.ru/schedule/data/de447766-83c5-11e6-b2eb-3cd92bf20bfe.json
DESCRIPTION:Преподаватель: СОЛОДОВА АНАСТАСИЯ
  ДМИТРИЕВНА
DTSTAMP:20260419T122405Z
DTSTART:20260406T181500Z
DURATION:PT3H15M
LOCATION:5-112
SEQUENCE:0
SUMMARY:[ЛК\,ПЗ 2п.]Управление рисками на прои
 зводстве (СОЛОДОВА АНАСТАСИЯ ДМИТРИЕВНА
 )
UID:08d9acfe-e1ce-40c0-a61b-9d4df77571dd
END:VEVENT
BEGIN:VEVENT
ATTENDEE;CN=Федотова Марина Александровна:https:
 //public.mai.ru/schedule/data/54696cbf-64a4-11e3-a558-3cd92bf20bfe.json
DESCRIPTION:Преподаватель: Федотова Марина Ал
 ександровна
DTSTAMP:20260419T122405Z
DTSTART:20260407T181500Z
DURATION:PT3H15M
LOCATION:5-420
SEQUENCE:0
SUMMARY:[ЛК\,ПЗ 2п.]Организационное поведение 
 (Федотова Марина Александровна)
UID:a681403e-3ab8-4e27-9c6d-ee8d36057ef0
END:VEVENT
BEGIN:VEVENT
ATTENDEE;CN=Мелик-Асланова Нармина Октай кызы:
 https://public.mai.ru/schedule/data/f94601dd-1d99-11e0-9baf-1c6f65450efa.j
 son
DESCRIPTION:Преподаватель: Мелик-Асланова Нар
 мина Октай кызы
DTSTAMP:20260419T122405Z
DTSTART:20260409T181500Z
DURATION:PT3H15M
LOCATION:5-306
SEQUENCE:0
SUMMARY:[ЛК\,ПЗ 2п.]Инвестиционные фонды (Мели
 к-Асланова Нармина Октай кызы)
UID:7e352bb9-6345-4859-ba83-8db26dc936e2
END:VEVENT
BEGIN:VEVENT
ATTENDEE;CN=Горелов Борислав Борисович:https://publ
 ic.mai.ru/schedule/data/48ae4d4c-dde2-11e4-9091-3cd92bf20bfe.json
DESCRIPTION:Преподаватель: Горелов Борислав Б
 орисович
DTSTAMP:20260419T122405Z
DTSTART:20260410T181500Z
DURATION:PT3H15M
LOCATION:5-306
SEQUENCE:0
SUMMARY:[ЛК\,ПЗ 2п.]Страхование (Горелов Борис
 лав Борисович)
UID:6769db0e-0aa0-4dc2-af7d-6874a29a98be
END:VEVENT
BEGIN:VEVENT
ATTENDEE;CN=Калошина Марина Николаевна:https://publ
 ic.mai.ru/schedule/data/8062e19c-1d99-11e0-9baf-1c6f65450efa.json
DESCRIPTION:Преподаватель: Калошина Марина Ни
 колаевна
DTSTAMP:20260419T122405Z
DTSTART:20260413T181500Z
DURATION:PT3H15M
LOCATION:5-301В
SEQUENCE:0
SUMMARY:[ЛР 2п.]Оценка стоимости предприятия (
 Калошина Марина Николаевна)
UID:c4d68093-e670-4612-b03b-51820c9ef691
END:VEVENT
BEGIN:VEVENT
ATTENDEE;CN=Геращенко Наталья Николаевна:https://
 public.mai.ru/schedule/data/65f93e8d-1d99-11e0-9baf-1c6f65450efa.json
DESCRIPTION:Преподаватель: Геращенко Наталья 
 Николаевна
DTSTAMP:20260419T122405Z
DTSTART:20260414T181500Z
DURATION:PT3H15M
LOCATION:5-301Б
SEQUENCE:0
SUMMARY:[ЛР 2п.]Финансовые расчеты в электрон
 ных таблицах (Геращенко Наталья Николае
 вна)
UID:ebfe2ceb-2bad-47f9-8039-4dac61fa363b
END:VEVENT
BEGIN:VEVENT
ATTENDEE;CN=Бурдина Анна Анатольевна:https://public.m
 ai.ru/schedule/data/dddd4234-1d99-11e0-9baf-1c6f65450efa.json
DESCRIPTION:Преподаватель: Бурдина Анна Анато
 льевна
DTSTAMP:20260419T122405Z
DTSTART:20260415T181500Z
DURATION:PT3H15M
LOCATION:5-306
SEQUENCE:0
SUMMARY:[ЛК\,ПЗ 2п.]Финансовая безопасность и 
 аудит (Бурдина Анна Анатольевна)
UID:498d501a-4ebd-4a1b-acc6-ded65b036e21
END:VEVENT
BEGIN:VEVENT
ATTENDEE;CN=Мелик-Асланова Нармина Октай кызы:
 https://public.mai.ru/schedule/data/f94601dd-1d99-11e0-9baf-1c6f65450efa.j
 son
DESCRIPTION:Преподаватель: Мелик-Асланова Нар
 мина Октай кызы
DTSTAMP:20260419T122405Z
DTSTART:20260416T181500Z
DURATION:PT3H15M
LOCATION:5-306
SEQUENCE:0
SUMMARY:[ЛР 2п.]Бенчмаркинг (Мелик-Асланова На
 рмина Октай кызы)
UID:79f632af-e385-48d3-baa4-616d04f1a41f
END:VEVENT
BEGIN:VEVENT
ATTENDEE;CN=СОЛОДОВА АНАСТАСИЯ ДМИТРИЕВНА:https:
 //public.mai.ru/schedule/data/de447766-83c5-11e6-b2eb-3cd92bf20bfe.json
DESCRIPTION:Преподаватель: СОЛОДОВА АНАСТАСИЯ
  ДМИТРИЕВНА
DTSTAMP:20260419T122405Z
DTSTART:20260420T181500Z
DURATION:PT3H15M
LOCATION:5-112
SEQUENCE:0
SUMMARY:[ЛК\,ПЗ 2п.]Управление рисками на прои
 зводстве (СОЛОДОВА АНАСТАСИЯ ДМИТРИЕВНА
 )
UID:58d6df98-f29b-4682-bdac-3dd0be95ff2a
END:VEVENT
BEGIN:VEVENT
ATTENDEE;CN=Федотова Марина Александровна:https:
 //public.mai.ru/schedule/data/54696cbf-64a4-11e3-a558-3cd92bf20bfe.json
DESCRIPTION:Преподаватель: Федотова Марина Ал
 ександровна
DTSTAMP:20260419T122405Z
DTSTART:20260421T181500Z
DURATION:PT3H15M
LOCATION:5-420
SEQUENCE:0
SUMMARY:[ЛК\,ПЗ 2п.]Организационное поведение 
 (Федотова Марина Александровна)
UID:5a5b2dd2-366a-471b-a412-8884a9db3da1
END:VEVENT
BEGIN:VEVENT
ATTENDEE;CN=Мелик-Асланова Нармина Октай кызы:
 https://public.mai.ru/schedule/data/f94601dd-1d99-11e0-9baf-1c6f65450efa.j
 son
DESCRIPTION:Преподаватель: Мелик-Асланова Нар
 мина Октай кызы
DTSTAMP:20260419T122405Z
DTSTART:20260423T181500Z
DURATION:PT3H15M
LOCATION:5-306
SEQUENCE:0
SUMMARY:[ЛК\,ПЗ 2п.]Инвестиционные фонды (Мели
 к-Асланова Нармина Октай кызы)
UID:4fb6d130-9529-4d19-8166-7b1c24ed461f
END:VEVENT
BEGIN:VEVENT
ATTENDEE;CN=Горелов Борислав Борисович:https://publ
 ic.mai.ru/schedule/data/48ae4d4c-dde2-11e4-9091-3cd92bf20bfe.json
DESCRIPTION:Преподаватель: Горелов Борислав Б
 орисович
DTSTAMP:20260419T122405Z
DTSTART:20260424T181500Z
DURATION:PT3H15M
LOCATION:5-306
SEQUENCE:0
SUMMARY:[ЛК\,ПЗ 2п.]Страхование (Горелов Борис
 лав Борисович)
UID:46e98213-2cbb-4ea0-9f61-4b3bbfe96f6d
END:VEVENT
BEGIN:VEVENT
ATTENDEE;CN=Калошина Марина Николаевна:https://publ
 ic.mai.ru/schedule/data/8062e19c-1d99-11e0-9baf-1c6f65450efa.json
DESCRIPTION:Преподаватель: Калошина Марина Ни
 колаевна
DTSTAMP:20260419T122405Z
DTSTART:20260427T181500Z
DURATION:PT3H15M
LOCATION:5-301В
SEQUENCE:0
SUMMARY:[ЛР 2п.]Оценка стоимости предприятия (
 Калошина Марина Николаевна)
UID:e9c3050d-2b3a-4998-9d2e-70a4cb30dc3e
END:VEVENT
BEGIN:VEVENT
ATTENDEE;CN=Геращенко Наталья Николаевна:https://
 public.mai.ru/schedule/data/65f93e8d-1d99-11e0-9baf-1c6f65450efa.json
DESCRIPTION:Преподаватель: Геращенко Наталья 
 Николаевна
DTSTAMP:20260419T122405Z
DTSTART:20260428T181500Z
DURATION:PT3H15M
LOCATION:5-301Б
SEQUENCE:0
SUMMARY:[ЛР 2п.]Финансовые расчеты в электрон
 ных таблицах (Геращенко Наталья Николае
 вна)
UID:f27b30e4-1ad6-4bbd-a1a1-48e3028c889b
END:VEVENT
BEGIN:VEVENT
ATTENDEE;CN=Бурдина Анна Анатольевна:https://public.m
 ai.ru/schedule/data/dddd4234-1d99-11e0-9baf-1c6f65450efa.json
DESCRIPTION:Преподаватель: Бурдина Анна Анато
 льевна
DTSTAMP:20260419T122405Z
DTSTART:20260429T181500Z
DURATION:PT3H15M
LOCATION:5-306
SEQUENCE:0
SUMMARY:[ЛК\,ПЗ 2п.]Финансовая безопасность и 
 аудит (Бурдина Анна Анатольевна)
UID:ed4d40d5-4296-4c5e-8fd6-dadbea0346b7
END:VEVENT
BEGIN:VEVENT
ATTENDEE;CN=СОЛОДОВА АНАСТАСИЯ ДМИТРИЕВНА:https:
 //public.mai.ru/schedule/data/de447766-83c5-11e6-b2eb-3cd92bf20bfe.json
DESCRIPTION:Преподаватель: СОЛОДОВА АНАСТАСИЯ
  ДМИТРИЕВНА
DTSTAMP:20260419T122405Z
DTSTART:20260504T181500Z
DURATION:PT3H15M
LOCATION:5-112
SEQUENCE:0
SUMMARY:[ЛК\,ПЗ 2п.]Управление рисками на прои
 зводстве (СОЛОДОВА АНАСТАСИЯ ДМИТРИЕВНА
 )
UID:fa873014-eec0-4d26-8a73-48399046e885
END:VEVENT
BEGIN:VEVENT
ATTENDEE;CN=Федотова Марина Александровна:https:
 //public.mai.ru/schedule/data/54696cbf-64a4-11e3-a558-3cd92bf20bfe.json
DESCRIPTION:Преподаватель: Федотова Марина Ал
 ександровна
DTSTAMP:20260419T122405Z
DTSTART:20260505T181500Z
DURATION:PT3H15M
LOCATION:5-420
SEQUENCE:0
SUMMARY:[ЛК\,ПЗ 2п.]Организационное поведение 
 (Федотова Марина Александровна)
UID:f7acbb54-fcca-40fd-90e6-12ce632aef36
END:VEVENT
BEGIN:VEVENT
ATTENDEE;CN=Мелик-Асланова Нармина Октай кызы:
 https://public.mai.ru/schedule/data/f94601dd-1d99-11e0-9baf-1c6f65450efa.j
 son
DESCRIPTION:Преподаватель: Мелик-Асланова Нар
 мина Октай кызы
DTSTAMP:20260419T122405Z
DTSTART:20260507T181500Z
DURATION:PT3H15M
LOCATION:5-306
SEQUENCE:0
SUMMARY:[ЛК\,ПЗ 2п.]Инвестиционные фонды (Мели
 к-Асланова Нармина Октай кызы)
UID:f8433238-e287-4f5e-b940-02294cdeae7b
END:VEVENT
BEGIN:VEVENT
ATTENDEE;CN=Калошина Марина Николаевна:https://publ
 ic.mai.ru/schedule/data/8062e19c-1d99-11e0-9baf-1c6f65450efa.json
DESCRIPTION:Преподаватель: Калошина Марина Ни
 колаевна
DTSTAMP:20260419T122405Z
DTSTART:20260511T181500Z
DURATION:PT3H15M
LOCATION:5-301В
SEQUENCE:0
SUMMARY:[ЛР 2п.]Оценка стоимости предприятия (
 Калошина Марина Николаевна)
UID:4356c4a0-0553-4db4-b641-1ccabf19040c
END:VEVENT
BEGIN:VEVENT
ATTENDEE;CN=Геращенко Наталья Николаевна:https://
 public.mai.ru/schedule/data/65f93e8d-1d99-11e0-9baf-1c6f65450efa.json
DESCRIPTION:Преподаватель: Геращенко Наталья 
 Николаевна
DTSTAMP:20260419T122405Z
DTSTART:20260512T181500Z
DURATION:PT3H15M
LOCATION:5-301Б
SEQUENCE:0
SUMMARY:[ЛР 2п.]Финансовые расчеты в электрон
 ных таблицах (Геращенко Наталья Николае
 вна)
UID:191d055e-8139-48de-8d4c-38d6bd2c541a
END:VEVENT
BEGIN:VEVENT
ATTENDEE;CN=Бурдина Анна Анатольевна:https://public.m
 ai.ru/schedule/data/dddd4234-1d99-11e0-9baf-1c6f65450efa.json
DESCRIPTION:Преподаватель: Бурдина Анна Анато
 льевна
DTSTAMP:20260419T122405Z
DTSTART:20260513T181500Z
DURATION:PT3H15M
LOCATION:5-306
SEQUENCE:0
SUMMARY:[ЛК\,ПЗ 2п.]Финансовая безопасность и 
 аудит (Бурдина Анна Анатольевна)
UID:7ba36754-beec-48fd-ab4a-001fa29bb9c9
END:VEVENT
BEGIN:VEVENT
ATTENDEE;CN=Мелик-Асланова Нармина Октай кызы:
 https://public.mai.ru/schedule/data/f94601dd-1d99-11e0-9baf-1c6f65450efa.j
 son
DESCRIPTION:Преподаватель: Мелик-Асланова Нар
 мина Октай кызы
DTSTAMP:20260419T122405Z
DTSTART:20260514T181500Z
DURATION:PT3H15M
LOCATION:5-306
SEQUENCE:0
SUMMARY:[ЛР 2п.]Бенчмаркинг (Мелик-Асланова На
 рмина Октай кызы)
UID:9c24f5a2-6657-47b8-b3b0-725e00d6e399
END:VEVENT
BEGIN:VEVENT
ATTENDEE;CN=СОЛОДОВА АНАСТАСИЯ ДМИТРИЕВНА:https:
 //public.mai.ru/schedule/data/de447766-83c5-11e6-b2eb-3cd92bf20bfe.json
DESCRIPTION:Преподаватель: СОЛОДОВА АНАСТАСИЯ
  ДМИТРИЕВНА
DTSTAMP:20260419T122405Z
DTSTART:20260518T181500Z
DURATION:PT3H15M
LOCATION:5-112
SEQUENCE:0
SUMMARY:[ЛК\,ПЗ 2п.]Управление рисками на прои
 зводстве (СОЛОДОВА АНАСТАСИЯ ДМИТРИЕВНА
 )
UID:30770d13-4c79-4629-9cc8-f4026c0d3171
END:VEVENT
BEGIN:VEVENT
ATTENDEE;CN=Федотова Марина Александровна:https:
 //public.mai.ru/schedule/data/54696cbf-64a4-11e3-a558-3cd92bf20bfe.json
DESCRIPTION:Преподаватель: Федотова Марина Ал
 ександровна
DTSTAMP:20260419T122405Z
DTSTART:20260519T181500Z
DURATION:PT3H15M
LOCATION:5-420
SEQUENCE:0
SUMMARY:[ЛК\,ПЗ 2п.]Организационное поведение 
 (Федотова Марина Александровна)
UID:4792c153-3870-42e6-9454-55e0f428e1c4
END:VEVENT
BEGIN:VEVENT
ATTENDEE;CN=Мелик-Асланова Нармина Октай кызы:
 https://public.mai.ru/schedule/data/f94601dd-1d99-11e0-9baf-1c6f65450efa.j
 son
DESCRIPTION:Преподаватель: Мелик-Асланова Нар
 мина Октай кызы
DTSTAMP:20260419T122405Z
DTSTART:20260521T181500Z
DURATION:PT3H15M
LOCATION:5-306
SEQUENCE:0
SUMMARY:[ЛК\,ПЗ 2п.]Инвестиционные фонды (Мели
 к-Асланова Нармина Октай кызы)
UID:187f03f3-fe50-46ad-aeca-181710c62068
END:VEVENT
BEGIN:VEVENT
ATTENDEE;CN=Горелов Борислав Борисович:https://publ
 ic.mai.ru/schedule/data/48ae4d4c-dde2-11e4-9091-3cd92bf20bfe.json
DESCRIPTION:Преподаватель: Горелов Борислав Б
 орисович
DTSTAMP:20260419T122405Z
DTSTART:20260522T181500Z
DURATION:PT3H15M
LOCATION:5-306
SEQUENCE:0
SUMMARY:[ЛК\,ПЗ 2п.]Страхование (Горелов Борис
 лав Борисович)
UID:630a06a7-eabe-4e34-b83b-179b1b2db35c
END:VEVENT
BEGIN:VEVENT
ATTENDEE;CN=Геращенко Наталья Николаевна:https://
 public.mai.ru/schedule/data/65f93e8d-1d99-11e0-9baf-1c6f65450efa.json
DESCRIPTION:Преподаватель: Геращенко Наталья 
 Николаевна
DTSTAMP:20260419T122405Z
DTSTART:20260526T181500Z
DURATION:PT3H15M
LOCATION:5-301Б
SEQUENCE:0
SUMMARY:[ЛР 2п.]Финансовые расчеты в электрон
 ных таблицах (Геращенко Наталья Николае
 вна)
UID:6ed193ec-b982-46ca-a0bf-7a281f6df45d
END:VEVENT
BEGIN:VEVENT
ATTENDEE;CN=Бурдина Анна Анатольевна:https://public.m
 ai.ru/schedule/data/dddd4234-1d99-11e0-9baf-1c6f65450efa.json
DESCRIPTION:Преподаватель: Бурдина Анна Анато
 льевна
DTSTAMP:20260419T122405Z
DTSTART:20260527T181500Z
DURATION:PT3H15M
LOCATION:5-306
SEQUENCE:0
SUMMARY:[ПЗ 2п.]Финансовая безопасность и ауд
 ит (Бурдина Анна Анатольевна)
UID:c6153b5f-aca2-44a8-8bd0-ad61bc021b21
END:VEVENT
BEGIN:VEVENT
ATTENDEE;CN=Мелик-Асланова Нармина Октай кызы:
 https://public.mai.ru/schedule/data/f94601dd-1d99-11e0-9baf-1c6f65450efa.j
 son
DESCRIPTION:Преподаватель: Мелик-Асланова Нар
 мина Октай кызы
DTSTAMP:20260419T122405Z
DTSTART:20260528T181500Z
DURATION:PT3H15M
LOCATION:5-306
SEQUENCE:0
SUMMARY:[ЛР 2п.]Бенчмаркинг (Мелик-Асланова На
 рмина Октай кызы)
UID:23f2a4f2-b56b-4de1-b35f-8825406fce37
END:VEVENT
BEGIN:VEVENT
ATTENDEE;CN=СОЛОДОВА АНАСТАСИЯ ДМИТРИЕВНА:https:
 //public.mai.ru/schedule/data/de447766-83c5-11e6-b2eb-3cd92bf20bfe.json
DESCRIPTION:Преподаватель: СОЛОДОВА АНАСТАСИЯ
  ДМИТРИЕВНА
DTSTAMP:20260419T122405Z
DTSTART:20260601T181500Z
DURATION:PT3H15M
LOCATION:5-112
SEQUENCE:0
SUMMARY:[ЛК\,ПЗ 2п.]Управление рисками на прои
 зводстве (СОЛОДОВА АНАСТАСИЯ ДМИТРИЕВНА
 )
UID:87ac2bdf-6ffd-4774-8daf-ff3775a817d5
END:VEVENT
BEGIN:VEVENT
ATTENDEE;CN=Федотова Марина Александровна:https:
 //public.mai.ru/schedule/data/54696cbf-64a4-11e3-a558-3cd92bf20bfe.json
DESCRIPTION:Преподаватель: Федотова Марина Ал
 ександровна
DTSTAMP:20260419T122405Z
DTSTART:20260602T200000Z
DURATION:PT1H30M
LOCATION:5-420
SEQUENCE:0
SUMMARY:[ПЗ 1п.]Организационное поведение (Фе
 дотова Марина Александровна)
UID:6c3f17e7-c355-4c13-b4dd-ea2d35415836
END:VEVENT
BEGIN:VEVENT
ATTENDEE;CN=Мелик-Асланова Нармина Октай кызы:
 https://public.mai.ru/schedule/data/f94601dd-1d99-11e0-9baf-1c6f65450efa.j
 son
DESCRIPTION:Преподаватель: Мелик-Асланова Нар
 мина Октай кызы
DTSTAMP:20260419T122405Z
DTSTART:20260604T181500Z
DURATION:PT3H15M
LOCATION:5-306
SEQUENCE:0
SUMMARY:[ЛК\,ПЗ 2п.]Инвестиционные фонды (Мели
 к-Асланова Нармина Октай кызы)
UID:f76e5ff0-6596-438e-b6a2-ec09a137daa5
END:VEVENT
BEGIN:VEVENT
ATTENDEE;CN=Горелов Борислав Борисович:https://publ
 ic.mai.ru/schedule/data/48ae4d4c-dde2-11e4-9091-3cd92bf20bfe.json
DESCRIPTION:Преподаватель: Горелов Борислав Б
 орисович
DTSTAMP:20260419T122405Z
DTSTART:20260605T181500Z
DURATION:PT1H30M
LOCATION:5-306
SEQUENCE:0
SUMMARY:[ЛК 1п.]Страхование (Горелов Борислав 
 Борисович)
UID:805192da-ae56-4b65-9b1e-521fde388a7e
END:VEVENT
BEGIN:VEVENT
ATTENDEE;CN=Геращенко Наталья Николаевна:https://
 public.mai.ru/schedule/data/65f93e8d-1d99-11e0-9baf-1c6f65450efa.json
DESCRIPTION:Преподаватель: Геращенко Наталья 
 Николаевна
DTSTAMP:20260419T122405Z
DTSTART:20260616T163000Z
DURATION:PT1H30M
LOCATION:5-306
SEQUENCE:0
SUMMARY:[Экзамен 1п.]Финансовые расчеты в эле
 ктронных таблицах (Геращенко Наталья Ни
 колаевна)
UID:3cb092c3-ed7d-4fba-8c11-cd281c20418a
END:VEVENT
BEGIN:VEVENT
ATTENDEE;CN=Горелов Борислав Борисович:https://publ
 ic.mai.ru/schedule/data/48ae4d4c-dde2-11e4-9091-3cd92bf20bfe.json
DESCRIPTION:Преподаватель: Горелов Борислав Б
 орисович
DTSTAMP:20260419T122405Z
DTSTART:20260620T090000Z
DURATION:PT1H30M
LOCATION:5-306
SEQUENCE:0
SUMMARY:[Экзамен 1п.]Страхование (Горелов Бор
 ислав Борисович)
UID:53ff040c-dc1c-4eec-9c0d-2582b195ab20
END:VEVENT
BEGIN:VEVENT
ATTENDEE;CN=Калошина Марина Николаевна:https://publ
 ic.mai.ru/schedule/data/8062e19c-1d99-11e0-9baf-1c6f65450efa.json
DESCRIPTION:Преподаватель: Калошина Марина Ни
 колаевна
DTSTAMP:20260419T122405Z
DTSTART:20260624T163000Z
DURATION:PT1H30M
LOCATION:5-306
SEQUENCE:0
SUMMARY:[Экзамен 1п.]Оценка стоимости предпри
 ятия (Калошина Марина Николаевна)
UID:a02b82c8-264d-4bd9-9794-4ccaf4a4c111
END:VEVENT
END:VCALENDAR
