﻿BEGIN:VCALENDAR
CALSCALE:GREGORIAN
METHOD:PUBLISH
PRODID:-//MAI-dep406//MAI Dep406 1.01//RU
VERSION:2.0
X-WR-TIMEZONE:Europe/Moscow
BEGIN:VTIMEZONE
TZID:Europe/Moscow
X-LIC-LOCATION:Europe/Moscow
BEGIN:STANDARD
DTSTART;VALUE=DATE:19700101
TZNAME:GMT+3
TZOFFSETTO:+0300
END:STANDARD
END:VTIMEZONE
BEGIN:VEVENT
ATTENDEE;CN=Мелик-Асланова Нармина Октай кызы:
 https://public.mai.ru/schedule/data/f94601dd-1d99-11e0-9baf-1c6f65450efa.j
 son
DESCRIPTION:Преподаватель: Мелик-Асланова Нар
 мина Октай кызы
DTSTAMP:20260420T114211Z
DTSTART:20260209T181500Z
DURATION:PT3H15M
LOCATION:5-306
SEQUENCE:0
SUMMARY:[ЛК\,ПЗ 2п.]Управление затратами на пр
 едпритии (Мелик-Асланова Нармина Октай к
 ызы)
UID:79f04e6c-ca3c-4b0c-9e3c-ac7cc6c0c079
END:VEVENT
BEGIN:VEVENT
ATTENDEE;CN=Давыдов Алексей Дмитриевич:https://publ
 ic.mai.ru/schedule/data/578c17c1-1d99-11e0-9baf-1c6f65450efa.json
DESCRIPTION:Преподаватель: Давыдов Алексей Дм
 итриевич
DTSTAMP:20260420T114211Z
DTSTART:20260210T181500Z
DURATION:PT3H15M
LOCATION:5-303
SEQUENCE:0
SUMMARY:[ЛК 2п.]Анализ и моделирование проект
 ных бизнес-процессов (Давыдов Алексей Дм
 итриевич)
UID:0480caf6-ce5d-410d-bcce-44eff8c24662
END:VEVENT
BEGIN:VEVENT
ATTENDEE;CN=Бурдина Анна Анатольевна:https://public.m
 ai.ru/schedule/data/dddd4234-1d99-11e0-9baf-1c6f65450efa.json
DESCRIPTION:Преподаватель: Бурдина Анна Анато
 льевна
DTSTAMP:20260420T114211Z
DTSTART:20260211T181500Z
DURATION:PT3H15M
LOCATION:5-303
SEQUENCE:0
SUMMARY:[ЛК 2п.]Международные стандарты финан
 совой отчетности (Бурдина Анна Анатолье
 вна)
UID:7d996628-842e-4312-927d-2ee9cc17c724
END:VEVENT
BEGIN:VEVENT
ATTENDEE;CN=Ермакова Ольга Викторовна:https://public
 .mai.ru/schedule/data/9de4135f-1d99-11e0-9baf-1c6f65450efa.json
DESCRIPTION:Преподаватель: Ермакова Ольга Вик
 торовна
DTSTAMP:20260420T114211Z
DTSTART:20260212T181500Z
DURATION:PT3H15M
LOCATION:5-323
SEQUENCE:0
SUMMARY:[ЛК 2п.]Экономическая оценка инвестиц
 ий (Ермакова Ольга Викторовна)
UID:202fbf28-a618-47c7-8ade-757e22f8d382
END:VEVENT
BEGIN:VEVENT
ATTENDEE;CN=Горелов Борис Алексеевич:https://public.m
 ai.ru/schedule/data/48d7b467-1d9b-11e0-9baf-1c6f65450efa.json
DESCRIPTION:Преподаватель: Горелов Борис Алек
 сеевич
DTSTAMP:20260420T114211Z
DTSTART:20260213T181500Z
DURATION:PT3H15M
LOCATION:5-303
SEQUENCE:0
SUMMARY:[ПЗ 2п.]Научный семинар по экономике и
  управлению (Горелов Борис Алексеевич)
UID:a5860666-748d-4500-a95f-d291add30df1
END:VEVENT
BEGIN:VEVENT
ATTENDEE;CN=Орлов Андрей Александрович:https://publ
 ic.mai.ru/schedule/data/6d364d1e-d732-11ef-bc3b-3cecef1c132f.json
DESCRIPTION:Преподаватель: Орлов Андрей Алекс
 андрович
DTSTAMP:20260420T114211Z
DTSTART:20260216T181500Z
DURATION:PT3H15M
LOCATION:Орш. А-408
SEQUENCE:0
SUMMARY:[ПЗ 2п.]Иностранный язык в профессион
 альной деятельности (Орлов Андрей Алекс
 андрович)
UID:19b2b9a6-7e41-408e-b269-9d1545f81735
END:VEVENT
BEGIN:VEVENT
ATTENDEE;CN=Солонюк Александр Анатольевич:https:
 //public.mai.ru/schedule/data/a2eccc7e-e98f-11ed-bbfc-3cecef1c132f.json
DESCRIPTION:Преподаватель: Солонюк Александр 
 Анатольевич
DTSTAMP:20260420T114211Z
DTSTART:20260218T181500Z
DURATION:PT3H15M
LOCATION:5-404
SEQUENCE:0
SUMMARY:[ЛК 2п.]Антикоррупционный комплаенс (
 Солонюк Александр Анатольевич)
UID:8358da3a-03fa-4a45-865f-0f0b204a837d
END:VEVENT
BEGIN:VEVENT
ATTENDEE;CN=Опрышко Надежда Владимировна:https://
 public.mai.ru/schedule/data/e9efcc92-9c9e-11e0-9eca-00304866c649.json
DESCRIPTION:Преподаватель: Опрышко Надежда Вл
 адимировна
DTSTAMP:20260420T114211Z
DTSTART:20260219T181500Z
DURATION:PT3H15M
LOCATION:5-323
SEQUENCE:0
SUMMARY:[ЛК\,ПЗ 2п.]Государство и инновационны
 й бизнес (Опрышко Надежда Владимировна)
UID:b79d7ea2-af1a-45a5-9378-ad461e1c3213
END:VEVENT
BEGIN:VEVENT
ATTENDEE;CN=Давыдов Алексей Дмитриевич:https://publ
 ic.mai.ru/schedule/data/578c17c1-1d99-11e0-9baf-1c6f65450efa.json
DESCRIPTION:Преподаватель: Давыдов Алексей Дм
 итриевич
DTSTAMP:20260420T114211Z
DTSTART:20260224T181500Z
DURATION:PT3H15M
LOCATION:5-303
SEQUENCE:0
SUMMARY:[ЛК 2п.]Анализ и моделирование проект
 ных бизнес-процессов (Давыдов Алексей Дм
 итриевич)
UID:f4c03152-acdb-44ec-b889-9e8441cdc757
END:VEVENT
BEGIN:VEVENT
ATTENDEE;CN=Бурдина Анна Анатольевна:https://public.m
 ai.ru/schedule/data/dddd4234-1d99-11e0-9baf-1c6f65450efa.json
DESCRIPTION:Преподаватель: Бурдина Анна Анато
 льевна
DTSTAMP:20260420T114211Z
DTSTART:20260225T181500Z
DURATION:PT3H15M
LOCATION:5-303
SEQUENCE:0
SUMMARY:[ЛК 2п.]Международные стандарты финан
 совой отчетности (Бурдина Анна Анатолье
 вна)
UID:31242cf0-24f3-4f1d-8c91-b7a67273e9cf
END:VEVENT
BEGIN:VEVENT
ATTENDEE;CN=Ермакова Ольга Викторовна:https://public
 .mai.ru/schedule/data/9de4135f-1d99-11e0-9baf-1c6f65450efa.json
DESCRIPTION:Преподаватель: Ермакова Ольга Вик
 торовна
DTSTAMP:20260420T114211Z
DTSTART:20260226T181500Z
DURATION:PT3H15M
LOCATION:5-323
SEQUENCE:0
SUMMARY:[ЛК 2п.]Экономическая оценка инвестиц
 ий (Ермакова Ольга Викторовна)
UID:d354fd4b-1802-49e1-8fd5-be85ed05cb2a
END:VEVENT
BEGIN:VEVENT
ATTENDEE;CN=Горелов Борис Алексеевич:https://public.m
 ai.ru/schedule/data/48d7b467-1d9b-11e0-9baf-1c6f65450efa.json
DESCRIPTION:Преподаватель: Горелов Борис Алек
 сеевич
DTSTAMP:20260420T114211Z
DTSTART:20260227T181500Z
DURATION:PT3H15M
LOCATION:5-303
SEQUENCE:0
SUMMARY:[ПЗ 2п.]Научный семинар по экономике и
  управлению (Горелов Борис Алексеевич)
UID:4e4e61b7-b7e4-4c81-a12f-9e8032aac2dc
END:VEVENT
BEGIN:VEVENT
ATTENDEE;CN=Орлов Андрей Александрович:https://publ
 ic.mai.ru/schedule/data/6d364d1e-d732-11ef-bc3b-3cecef1c132f.json
DESCRIPTION:Преподаватель: Орлов Андрей Алекс
 андрович
DTSTAMP:20260420T114211Z
DTSTART:20260302T181500Z
DURATION:PT3H15M
LOCATION:Орш. А-408
SEQUENCE:0
SUMMARY:[ПЗ 2п.]Иностранный язык в профессион
 альной деятельности (Орлов Андрей Алекс
 андрович)
UID:6547009d-2873-485c-90d8-67234a943961
END:VEVENT
BEGIN:VEVENT
ATTENDEE;CN=Солонюк Александр Анатольевич:https:
 //public.mai.ru/schedule/data/a2eccc7e-e98f-11ed-bbfc-3cecef1c132f.json
DESCRIPTION:Преподаватель: Солонюк Александр 
 Анатольевич
DTSTAMP:20260420T114211Z
DTSTART:20260304T181500Z
DURATION:PT3H15M
LOCATION:5-404
SEQUENCE:0
SUMMARY:[ЛК 2п.]Антикоррупционный комплаенс (
 Солонюк Александр Анатольевич)
UID:212df685-7c86-4a01-b73c-647607096ed4
END:VEVENT
BEGIN:VEVENT
ATTENDEE;CN=Опрышко Надежда Владимировна:https://
 public.mai.ru/schedule/data/e9efcc92-9c9e-11e0-9eca-00304866c649.json
DESCRIPTION:Преподаватель: Опрышко Надежда Вл
 адимировна
DTSTAMP:20260420T114211Z
DTSTART:20260305T181500Z
DURATION:PT3H15M
LOCATION:5-323
SEQUENCE:0
SUMMARY:[ЛК\,ПЗ 2п.]Государство и инновационны
 й бизнес (Опрышко Надежда Владимировна)
UID:a8a0c602-dd51-45ad-80f1-585a92bc5219
END:VEVENT
BEGIN:VEVENT
ATTENDEE;CN=Бурдина Анна Анатольевна:https://public.m
 ai.ru/schedule/data/dddd4234-1d99-11e0-9baf-1c6f65450efa.json
DESCRIPTION:Преподаватель: Бурдина Анна Анато
 льевна
DTSTAMP:20260420T114211Z
DTSTART:20260311T181500Z
DURATION:PT3H15M
LOCATION:5-303
SEQUENCE:0
SUMMARY:[ЛК 2п.]Международные стандарты финан
 совой отчетности (Бурдина Анна Анатолье
 вна)
UID:9e8889c5-3a26-413f-8a52-7f2b4f410554
END:VEVENT
BEGIN:VEVENT
ATTENDEE;CN=Ермакова Ольга Викторовна:https://public
 .mai.ru/schedule/data/9de4135f-1d99-11e0-9baf-1c6f65450efa.json
DESCRIPTION:Преподаватель: Ермакова Ольга Вик
 торовна
DTSTAMP:20260420T114211Z
DTSTART:20260312T181500Z
DURATION:PT3H15M
LOCATION:5-323
SEQUENCE:0
SUMMARY:[ЛК 2п.]Экономическая оценка инвестиц
 ий (Ермакова Ольга Викторовна)
UID:e842be0a-19d7-4220-aab0-d6cc7eba6a83
END:VEVENT
BEGIN:VEVENT
ATTENDEE;CN=Горелов Борис Алексеевич:https://public.m
 ai.ru/schedule/data/48d7b467-1d9b-11e0-9baf-1c6f65450efa.json
DESCRIPTION:Преподаватель: Горелов Борис Алек
 сеевич
DTSTAMP:20260420T114211Z
DTSTART:20260313T181500Z
DURATION:PT3H15M
LOCATION:5-303
SEQUENCE:0
SUMMARY:[ПЗ 2п.]Научный семинар по экономике и
  управлению (Горелов Борис Алексеевич)
UID:8a95d3f5-f121-4af8-809f-e2b2a6d110b2
END:VEVENT
BEGIN:VEVENT
ATTENDEE;CN=Орлов Андрей Александрович:https://publ
 ic.mai.ru/schedule/data/6d364d1e-d732-11ef-bc3b-3cecef1c132f.json
DESCRIPTION:Преподаватель: Орлов Андрей Алекс
 андрович
DTSTAMP:20260420T114211Z
DTSTART:20260316T181500Z
DURATION:PT3H15M
LOCATION:Орш. А-408
SEQUENCE:0
SUMMARY:[ПЗ 2п.]Иностранный язык в профессион
 альной деятельности (Орлов Андрей Алекс
 андрович)
UID:832aca03-9f20-48dd-bae9-7cc514416c40
END:VEVENT
BEGIN:VEVENT
ATTENDEE;CN=Солонюк Александр Анатольевич:https:
 //public.mai.ru/schedule/data/a2eccc7e-e98f-11ed-bbfc-3cecef1c132f.json
DESCRIPTION:Преподаватель: Солонюк Александр 
 Анатольевич
DTSTAMP:20260420T114211Z
DTSTART:20260318T181500Z
DURATION:PT3H15M
LOCATION:5-404
SEQUENCE:0
SUMMARY:[ЛК 2п.]Антикоррупционный комплаенс (
 Солонюк Александр Анатольевич)
UID:37d97a2e-2661-471e-ba1f-0ed13b5149a4
END:VEVENT
BEGIN:VEVENT
ATTENDEE;CN=Опрышко Надежда Владимировна:https://
 public.mai.ru/schedule/data/e9efcc92-9c9e-11e0-9eca-00304866c649.json
DESCRIPTION:Преподаватель: Опрышко Надежда Вл
 адимировна
DTSTAMP:20260420T114211Z
DTSTART:20260319T181500Z
DURATION:PT3H15M
LOCATION:5-323
SEQUENCE:0
SUMMARY:[ЛК\,ПЗ 2п.]Государство и инновационны
 й бизнес (Опрышко Надежда Владимировна)
UID:3f92df55-71f8-4ccf-854d-a24f58dddf79
END:VEVENT
BEGIN:VEVENT
ATTENDEE;CN=Мелик-Асланова Нармина Октай кызы:
 https://public.mai.ru/schedule/data/f94601dd-1d99-11e0-9baf-1c6f65450efa.j
 son
DESCRIPTION:Преподаватель: Мелик-Асланова Нар
 мина Октай кызы
DTSTAMP:20260420T114211Z
DTSTART:20260323T181500Z
DURATION:PT3H15M
LOCATION:5-306
SEQUENCE:0
SUMMARY:[ЛК\,ПЗ 2п.]Управление затратами на пр
 едпритии (Мелик-Асланова Нармина Октай к
 ызы)
UID:63a27f1c-04ad-4015-9a74-f19bceae6c55
END:VEVENT
BEGIN:VEVENT
ATTENDEE;CN=Бурдина Анна Анатольевна:https://public.m
 ai.ru/schedule/data/dddd4234-1d99-11e0-9baf-1c6f65450efa.json
DESCRIPTION:Преподаватель: Бурдина Анна Анато
 льевна
DTSTAMP:20260420T114211Z
DTSTART:20260325T181500Z
DURATION:PT3H15M
LOCATION:5-301Б
SEQUENCE:0
SUMMARY:[ЛР 2п.]Международные стандарты финан
 совой отчетности (Бурдина Анна Анатолье
 вна)
UID:54bf1370-0b65-4c88-a754-d87c9f5a6a09
END:VEVENT
BEGIN:VEVENT
ATTENDEE;CN=Ермакова Ольга Викторовна:https://public
 .mai.ru/schedule/data/9de4135f-1d99-11e0-9baf-1c6f65450efa.json
DESCRIPTION:Преподаватель: Ермакова Ольга Вик
 торовна
DTSTAMP:20260420T114211Z
DTSTART:20260326T181500Z
DURATION:PT3H15M
LOCATION:5-323
SEQUENCE:0
SUMMARY:[ЛР 2п.]Экономическая оценка инвестиц
 ий (Ермакова Ольга Викторовна)
UID:10991514-35a5-46d9-bde3-e6ddf9235c8c
END:VEVENT
BEGIN:VEVENT
ATTENDEE;CN=Горелов Борис Алексеевич:https://public.m
 ai.ru/schedule/data/48d7b467-1d9b-11e0-9baf-1c6f65450efa.json
DESCRIPTION:Преподаватель: Горелов Борис Алек
 сеевич
DTSTAMP:20260420T114211Z
DTSTART:20260327T181500Z
DURATION:PT3H15M
LOCATION:5-303
SEQUENCE:0
SUMMARY:[ПЗ 2п.]Научный семинар по экономике и
  управлению (Горелов Борис Алексеевич)
UID:3bb20c51-e45e-4c1c-b848-4113f9005f43
END:VEVENT
BEGIN:VEVENT
ATTENDEE;CN=Орлов Андрей Александрович:https://publ
 ic.mai.ru/schedule/data/6d364d1e-d732-11ef-bc3b-3cecef1c132f.json
DESCRIPTION:Преподаватель: Орлов Андрей Алекс
 андрович
DTSTAMP:20260420T114211Z
DTSTART:20260330T181500Z
DURATION:PT3H15M
LOCATION:Орш. А-408
SEQUENCE:0
SUMMARY:[ПЗ 2п.]Иностранный язык в профессион
 альной деятельности (Орлов Андрей Алекс
 андрович)
UID:24cffddc-f5e4-450d-b7a1-bdd9452257a9
END:VEVENT
BEGIN:VEVENT
ATTENDEE;CN=Солонюк Александр Анатольевич:https:
 //public.mai.ru/schedule/data/a2eccc7e-e98f-11ed-bbfc-3cecef1c132f.json
DESCRIPTION:Преподаватель: Солонюк Александр 
 Анатольевич
DTSTAMP:20260420T114211Z
DTSTART:20260401T181500Z
DURATION:PT3H15M
LOCATION:5-404
SEQUENCE:0
SUMMARY:[ЛК 2п.]Антикоррупционный комплаенс (
 Солонюк Александр Анатольевич)
UID:2d16fb0d-234a-4848-956a-45ad6c97e4f9
END:VEVENT
BEGIN:VEVENT
ATTENDEE;CN=Опрышко Надежда Владимировна:https://
 public.mai.ru/schedule/data/e9efcc92-9c9e-11e0-9eca-00304866c649.json
DESCRIPTION:Преподаватель: Опрышко Надежда Вл
 адимировна
DTSTAMP:20260420T114211Z
DTSTART:20260402T181500Z
DURATION:PT3H15M
LOCATION:5-323
SEQUENCE:0
SUMMARY:[ЛК\,ПЗ 2п.]Государство и инновационны
 й бизнес (Опрышко Надежда Владимировна)
UID:0de2158a-c565-4ae9-89a3-42215a1477a4
END:VEVENT
BEGIN:VEVENT
ATTENDEE;CN=Мелик-Асланова Нармина Октай кызы:
 https://public.mai.ru/schedule/data/f94601dd-1d99-11e0-9baf-1c6f65450efa.j
 son
DESCRIPTION:Преподаватель: Мелик-Асланова Нар
 мина Октай кызы
DTSTAMP:20260420T114211Z
DTSTART:20260406T181500Z
DURATION:PT3H15M
LOCATION:5-306
SEQUENCE:0
SUMMARY:[ЛК\,ПЗ 2п.]Управление затратами на пр
 едпритии (Мелик-Асланова Нармина Октай к
 ызы)
UID:86a920fd-8c1d-431e-a4ba-ef8e743a9a8d
END:VEVENT
BEGIN:VEVENT
ATTENDEE;CN=Бурдина Анна Анатольевна:https://public.m
 ai.ru/schedule/data/dddd4234-1d99-11e0-9baf-1c6f65450efa.json
DESCRIPTION:Преподаватель: Бурдина Анна Анато
 льевна
DTSTAMP:20260420T114211Z
DTSTART:20260408T181500Z
DURATION:PT3H15M
LOCATION:5-301Б
SEQUENCE:0
SUMMARY:[ЛР 2п.]Международные стандарты финан
 совой отчетности (Бурдина Анна Анатолье
 вна)
UID:25cf82dc-3ad4-41ae-9d34-8d168d2707f3
END:VEVENT
BEGIN:VEVENT
ATTENDEE;CN=Ермакова Ольга Викторовна:https://public
 .mai.ru/schedule/data/9de4135f-1d99-11e0-9baf-1c6f65450efa.json
DESCRIPTION:Преподаватель: Ермакова Ольга Вик
 торовна
DTSTAMP:20260420T114211Z
DTSTART:20260409T181500Z
DURATION:PT3H15M
LOCATION:5-323
SEQUENCE:0
SUMMARY:[ЛР 2п.]Экономическая оценка инвестиц
 ий (Ермакова Ольга Викторовна)
UID:58c038ec-35f3-49a3-9b14-1c823211280d
END:VEVENT
BEGIN:VEVENT
ATTENDEE;CN=Горелов Борис Алексеевич:https://public.m
 ai.ru/schedule/data/48d7b467-1d9b-11e0-9baf-1c6f65450efa.json
DESCRIPTION:Преподаватель: Горелов Борис Алек
 сеевич
DTSTAMP:20260420T114211Z
DTSTART:20260410T181500Z
DURATION:PT3H15M
LOCATION:5-303
SEQUENCE:0
SUMMARY:[ПЗ 2п.]Научный семинар по экономике и
  управлению (Горелов Борис Алексеевич)
UID:19dadc05-9734-43fe-aab5-58362ab6fb87
END:VEVENT
BEGIN:VEVENT
ATTENDEE;CN=Орлов Андрей Александрович:https://publ
 ic.mai.ru/schedule/data/6d364d1e-d732-11ef-bc3b-3cecef1c132f.json
DESCRIPTION:Преподаватель: Орлов Андрей Алекс
 андрович
DTSTAMP:20260420T114211Z
DTSTART:20260413T181500Z
DURATION:PT3H15M
LOCATION:Орш. А-408
SEQUENCE:0
SUMMARY:[ПЗ 2п.]Иностранный язык в профессион
 альной деятельности (Орлов Андрей Алекс
 андрович)
UID:a5a17e5b-9cb1-4ed5-a282-697ff7fb9963
END:VEVENT
BEGIN:VEVENT
ATTENDEE;CN=Давыдов Алексей Дмитриевич:https://publ
 ic.mai.ru/schedule/data/578c17c1-1d99-11e0-9baf-1c6f65450efa.json
DESCRIPTION:Преподаватель: Давыдов Алексей Дм
 итриевич
DTSTAMP:20260420T114211Z
DTSTART:20260414T181500Z
DURATION:PT3H15M
LOCATION:5-309
SEQUENCE:0
SUMMARY:[ЛР 2п.]Анализ и моделирование проект
 ных бизнес-процессов (Давыдов Алексей Дм
 итриевич)
UID:a3ff0bcd-9a06-4fe7-bb9b-1a8741298de5
END:VEVENT
BEGIN:VEVENT
ATTENDEE;CN=Солонюк Александр Анатольевич:https:
 //public.mai.ru/schedule/data/a2eccc7e-e98f-11ed-bbfc-3cecef1c132f.json
DESCRIPTION:Преподаватель: Солонюк Александр 
 Анатольевич
DTSTAMP:20260420T114211Z
DTSTART:20260415T181500Z
DURATION:PT3H15M
LOCATION:5-404
SEQUENCE:0
SUMMARY:[ПЗ 2п.]Антикоррупционный комплаенс (
 Солонюк Александр Анатольевич)
UID:0bc0bbf6-fc93-4fb7-aa2e-91a85afce4f6
END:VEVENT
BEGIN:VEVENT
ATTENDEE;CN=Опрышко Надежда Владимировна:https://
 public.mai.ru/schedule/data/e9efcc92-9c9e-11e0-9eca-00304866c649.json
DESCRIPTION:Преподаватель: Опрышко Надежда Вл
 адимировна
DTSTAMP:20260420T114211Z
DTSTART:20260416T181500Z
DURATION:PT3H15M
LOCATION:5-323
SEQUENCE:0
SUMMARY:[ЛК\,ПЗ 2п.]Государство и инновационны
 й бизнес (Опрышко Надежда Владимировна)
UID:265f9e7e-5d37-4ca7-b655-a96c268ea525
END:VEVENT
BEGIN:VEVENT
ATTENDEE;CN=Мелик-Асланова Нармина Октай кызы:
 https://public.mai.ru/schedule/data/f94601dd-1d99-11e0-9baf-1c6f65450efa.j
 son
DESCRIPTION:Преподаватель: Мелик-Асланова Нар
 мина Октай кызы
DTSTAMP:20260420T114211Z
DTSTART:20260420T181500Z
DURATION:PT3H15M
LOCATION:5-306
SEQUENCE:0
SUMMARY:[ЛК\,ПЗ 2п.]Управление затратами на пр
 едпритии (Мелик-Асланова Нармина Октай к
 ызы)
UID:f37e4d8f-67c5-4d00-9736-7fccfed5b82a
END:VEVENT
BEGIN:VEVENT
ATTENDEE;CN=Бурдина Анна Анатольевна:https://public.m
 ai.ru/schedule/data/dddd4234-1d99-11e0-9baf-1c6f65450efa.json
DESCRIPTION:Преподаватель: Бурдина Анна Анато
 льевна
DTSTAMP:20260420T114211Z
DTSTART:20260422T181500Z
DURATION:PT3H15M
LOCATION:5-301Б
SEQUENCE:0
SUMMARY:[ЛР 2п.]Международные стандарты финан
 совой отчетности (Бурдина Анна Анатолье
 вна)
UID:fb4c9740-dd9a-4b56-a989-3a94e4784a92
END:VEVENT
BEGIN:VEVENT
ATTENDEE;CN=Ермакова Ольга Викторовна:https://public
 .mai.ru/schedule/data/9de4135f-1d99-11e0-9baf-1c6f65450efa.json
DESCRIPTION:Преподаватель: Ермакова Ольга Вик
 торовна
DTSTAMP:20260420T114211Z
DTSTART:20260423T181500Z
DURATION:PT3H15M
LOCATION:5-323
SEQUENCE:0
SUMMARY:[ЛР 2п.]Экономическая оценка инвестиц
 ий (Ермакова Ольга Викторовна)
UID:6b45212e-0dda-4d76-895d-e9ec2fcfbb28
END:VEVENT
BEGIN:VEVENT
ATTENDEE;CN=Горелов Борис Алексеевич:https://public.m
 ai.ru/schedule/data/48d7b467-1d9b-11e0-9baf-1c6f65450efa.json
DESCRIPTION:Преподаватель: Горелов Борис Алек
 сеевич
DTSTAMP:20260420T114211Z
DTSTART:20260424T181500Z
DURATION:PT3H15M
LOCATION:5-303
SEQUENCE:0
SUMMARY:[ПЗ 2п.]Научный семинар по экономике и
  управлению (Горелов Борис Алексеевич)
UID:652e3088-033b-4619-8763-6b0d789e8456
END:VEVENT
BEGIN:VEVENT
ATTENDEE;CN=Орлов Андрей Александрович:https://publ
 ic.mai.ru/schedule/data/6d364d1e-d732-11ef-bc3b-3cecef1c132f.json
DESCRIPTION:Преподаватель: Орлов Андрей Алекс
 андрович
DTSTAMP:20260420T114211Z
DTSTART:20260427T181500Z
DURATION:PT3H15M
LOCATION:Орш. А-408
SEQUENCE:0
SUMMARY:[ПЗ 2п.]Иностранный язык в профессион
 альной деятельности (Орлов Андрей Алекс
 андрович)
UID:a9cbc35d-36cf-49aa-b476-24b7b9428cc4
END:VEVENT
BEGIN:VEVENT
ATTENDEE;CN=Давыдов Алексей Дмитриевич:https://publ
 ic.mai.ru/schedule/data/578c17c1-1d99-11e0-9baf-1c6f65450efa.json
DESCRIPTION:Преподаватель: Давыдов Алексей Дм
 итриевич
DTSTAMP:20260420T114211Z
DTSTART:20260428T181500Z
DURATION:PT3H15M
LOCATION:5-309
SEQUENCE:0
SUMMARY:[ЛР 2п.]Анализ и моделирование проект
 ных бизнес-процессов (Давыдов Алексей Дм
 итриевич)
UID:1aea8187-1a97-4d73-9e15-e1a5567f7a81
END:VEVENT
BEGIN:VEVENT
ATTENDEE;CN=Солонюк Александр Анатольевич:https:
 //public.mai.ru/schedule/data/a2eccc7e-e98f-11ed-bbfc-3cecef1c132f.json
DESCRIPTION:Преподаватель: Солонюк Александр 
 Анатольевич
DTSTAMP:20260420T114211Z
DTSTART:20260429T181500Z
DURATION:PT3H15M
LOCATION:5-404
SEQUENCE:0
SUMMARY:[ПЗ 2п.]Антикоррупционный комплаенс (
 Солонюк Александр Анатольевич)
UID:f04d0588-ce96-491d-98d8-452014e22105
END:VEVENT
BEGIN:VEVENT
ATTENDEE;CN=Мелик-Асланова Нармина Октай кызы:
 https://public.mai.ru/schedule/data/f94601dd-1d99-11e0-9baf-1c6f65450efa.j
 son
DESCRIPTION:Преподаватель: Мелик-Асланова Нар
 мина Октай кызы
DTSTAMP:20260420T114211Z
DTSTART:20260504T181500Z
DURATION:PT3H15M
LOCATION:5-306
SEQUENCE:0
SUMMARY:[ЛК\,ПЗ 2п.]Управление затратами на пр
 едпритии (Мелик-Асланова Нармина Октай к
 ызы)
UID:b6eb018f-7781-4b62-b3f5-2813fb29e62b
END:VEVENT
BEGIN:VEVENT
ATTENDEE;CN=Бурдина Анна Анатольевна:https://public.m
 ai.ru/schedule/data/dddd4234-1d99-11e0-9baf-1c6f65450efa.json
DESCRIPTION:Преподаватель: Бурдина Анна Анато
 льевна
DTSTAMP:20260420T114211Z
DTSTART:20260506T181500Z
DURATION:PT3H15M
LOCATION:5-301Б
SEQUENCE:0
SUMMARY:[ЛР 2п.]Международные стандарты финан
 совой отчетности (Бурдина Анна Анатолье
 вна)
UID:5a18241c-0bf1-4ae2-84ff-c5e169d7484b
END:VEVENT
BEGIN:VEVENT
ATTENDEE;CN=Ермакова Ольга Викторовна:https://public
 .mai.ru/schedule/data/9de4135f-1d99-11e0-9baf-1c6f65450efa.json
DESCRIPTION:Преподаватель: Ермакова Ольга Вик
 торовна
DTSTAMP:20260420T114211Z
DTSTART:20260507T181500Z
DURATION:PT3H15M
LOCATION:5-323
SEQUENCE:0
SUMMARY:[ЛР 2п.]Экономическая оценка инвестиц
 ий (Ермакова Ольга Викторовна)
UID:2a2ec8fa-d070-4fc8-87b8-19f10bb24c37
END:VEVENT
BEGIN:VEVENT
ATTENDEE;CN=Орлов Андрей Александрович:https://publ
 ic.mai.ru/schedule/data/6d364d1e-d732-11ef-bc3b-3cecef1c132f.json
DESCRIPTION:Преподаватель: Орлов Андрей Алекс
 андрович
DTSTAMP:20260420T114211Z
DTSTART:20260511T181500Z
DURATION:PT3H15M
LOCATION:Орш. А-408
SEQUENCE:0
SUMMARY:[ПЗ 2п.]Иностранный язык в профессион
 альной деятельности (Орлов Андрей Алекс
 андрович)
UID:9b7eaeb2-18e4-4c71-a436-951ee67c4ba3
END:VEVENT
BEGIN:VEVENT
ATTENDEE;CN=Давыдов Алексей Дмитриевич:https://publ
 ic.mai.ru/schedule/data/578c17c1-1d99-11e0-9baf-1c6f65450efa.json
DESCRIPTION:Преподаватель: Давыдов Алексей Дм
 итриевич
DTSTAMP:20260420T114211Z
DTSTART:20260512T181500Z
DURATION:PT3H15M
LOCATION:5-309
SEQUENCE:0
SUMMARY:[ЛР 2п.]Анализ и моделирование проект
 ных бизнес-процессов (Давыдов Алексей Дм
 итриевич)
UID:ea6811d2-2d2f-46ad-9809-f84655ae2eb8
END:VEVENT
BEGIN:VEVENT
ATTENDEE;CN=Солонюк Александр Анатольевич:https:
 //public.mai.ru/schedule/data/a2eccc7e-e98f-11ed-bbfc-3cecef1c132f.json
DESCRIPTION:Преподаватель: Солонюк Александр 
 Анатольевич
DTSTAMP:20260420T114211Z
DTSTART:20260513T181500Z
DURATION:PT3H15M
LOCATION:5-404
SEQUENCE:0
SUMMARY:[ПЗ 2п.]Антикоррупционный комплаенс (
 Солонюк Александр Анатольевич)
UID:7da8c9b1-9b9d-4a92-9bd5-1ba2e6b55f20
END:VEVENT
BEGIN:VEVENT
ATTENDEE;CN=Опрышко Надежда Владимировна:https://
 public.mai.ru/schedule/data/e9efcc92-9c9e-11e0-9eca-00304866c649.json
DESCRIPTION:Преподаватель: Опрышко Надежда Вл
 адимировна
DTSTAMP:20260420T114211Z
DTSTART:20260514T181500Z
DURATION:PT3H15M
LOCATION:5-323
SEQUENCE:0
SUMMARY:[ЛК\,ПЗ 2п.]Государство и инновационны
 й бизнес (Опрышко Надежда Владимировна)
UID:09b5fd5d-1e3e-4f88-99fa-c1d613580fed
END:VEVENT
BEGIN:VEVENT
ATTENDEE;CN=Мелик-Асланова Нармина Октай кызы:
 https://public.mai.ru/schedule/data/f94601dd-1d99-11e0-9baf-1c6f65450efa.j
 son
DESCRIPTION:Преподаватель: Мелик-Асланова Нар
 мина Октай кызы
DTSTAMP:20260420T114211Z
DTSTART:20260518T181500Z
DURATION:PT3H15M
LOCATION:5-306
SEQUENCE:0
SUMMARY:[ЛК\,ПЗ 2п.]Управление затратами на пр
 едпритии (Мелик-Асланова Нармина Октай к
 ызы)
UID:1da649eb-a521-452c-89cd-7ad4eaf0ce64
END:VEVENT
BEGIN:VEVENT
ATTENDEE;CN=Бурдина Анна Анатольевна:https://public.m
 ai.ru/schedule/data/dddd4234-1d99-11e0-9baf-1c6f65450efa.json
DESCRIPTION:Преподаватель: Бурдина Анна Анато
 льевна
DTSTAMP:20260420T114211Z
DTSTART:20260520T181500Z
DURATION:PT3H15M
LOCATION:5-301Б
SEQUENCE:0
SUMMARY:[ЛР 2п.]Международные стандарты финан
 совой отчетности (Бурдина Анна Анатолье
 вна)
UID:14c98c95-986c-4bd7-9945-8eb2de8edb2a
END:VEVENT
BEGIN:VEVENT
ATTENDEE;CN=Ермакова Ольга Викторовна:https://public
 .mai.ru/schedule/data/9de4135f-1d99-11e0-9baf-1c6f65450efa.json
DESCRIPTION:Преподаватель: Ермакова Ольга Вик
 торовна
DTSTAMP:20260420T114211Z
DTSTART:20260521T181500Z
DURATION:PT3H15M
LOCATION:5-323
SEQUENCE:0
SUMMARY:[ЛР 2п.]Экономическая оценка инвестиц
 ий (Ермакова Ольга Викторовна)
UID:cfc5fec8-be80-4f43-bc09-517261fd2b47
END:VEVENT
BEGIN:VEVENT
ATTENDEE;CN=Горелов Борис Алексеевич:https://public.m
 ai.ru/schedule/data/48d7b467-1d9b-11e0-9baf-1c6f65450efa.json
DESCRIPTION:Преподаватель: Горелов Борис Алек
 сеевич
DTSTAMP:20260420T114211Z
DTSTART:20260522T181500Z
DURATION:PT3H15M
LOCATION:5-303
SEQUENCE:0
SUMMARY:[ПЗ 2п.]Научный семинар по экономике и
  управлению (Горелов Борис Алексеевич)
UID:f4d3b706-0df8-4f65-b848-6ed70c850ce5
END:VEVENT
BEGIN:VEVENT
ATTENDEE;CN=Орлов Андрей Александрович:https://publ
 ic.mai.ru/schedule/data/6d364d1e-d732-11ef-bc3b-3cecef1c132f.json
DESCRIPTION:Преподаватель: Орлов Андрей Алекс
 андрович
DTSTAMP:20260420T114211Z
DTSTART:20260525T181500Z
DURATION:PT3H15M
LOCATION:Орш. А-408
SEQUENCE:0
SUMMARY:[ПЗ 2п.]Иностранный язык в профессион
 альной деятельности (Орлов Андрей Алекс
 андрович)
UID:0f8b06a8-08da-4dc7-b7f4-f4daa4dee10d
END:VEVENT
BEGIN:VEVENT
ATTENDEE;CN=Давыдов Алексей Дмитриевич:https://publ
 ic.mai.ru/schedule/data/578c17c1-1d99-11e0-9baf-1c6f65450efa.json
DESCRIPTION:Преподаватель: Давыдов Алексей Дм
 итриевич
DTSTAMP:20260420T114211Z
DTSTART:20260526T181500Z
DURATION:PT3H15M
LOCATION:5-309
SEQUENCE:0
SUMMARY:[ЛР 2п.]Анализ и моделирование проект
 ных бизнес-процессов (Давыдов Алексей Дм
 итриевич)
UID:74eab559-6784-44cd-96ad-70aa790d05d0
END:VEVENT
BEGIN:VEVENT
ATTENDEE;CN=Солонюк Александр Анатольевич:https:
 //public.mai.ru/schedule/data/a2eccc7e-e98f-11ed-bbfc-3cecef1c132f.json
DESCRIPTION:Преподаватель: Солонюк Александр 
 Анатольевич
DTSTAMP:20260420T114211Z
DTSTART:20260527T181500Z
DURATION:PT3H15M
LOCATION:5-404
SEQUENCE:0
SUMMARY:[ПЗ 2п.]Антикоррупционный комплаенс (
 Солонюк Александр Анатольевич)
UID:4c7f4806-ec32-4874-9040-a8806d77df71
END:VEVENT
BEGIN:VEVENT
ATTENDEE;CN=Мелик-Асланова Нармина Октай кызы:
 https://public.mai.ru/schedule/data/f94601dd-1d99-11e0-9baf-1c6f65450efa.j
 son
DESCRIPTION:Преподаватель: Мелик-Асланова Нар
 мина Октай кызы
DTSTAMP:20260420T114211Z
DTSTART:20260601T181500Z
DURATION:PT3H15M
LOCATION:5-306
SEQUENCE:0
SUMMARY:[ЛК\,ПЗ 2п.]Управление затратами на пр
 едпритии (Мелик-Асланова Нармина Октай к
 ызы)
UID:ab493468-a143-4f50-ae10-1eb6d643bab7
END:VEVENT
BEGIN:VEVENT
ATTENDEE;CN=Горелов Борис Алексеевич:https://public.m
 ai.ru/schedule/data/48d7b467-1d9b-11e0-9baf-1c6f65450efa.json
DESCRIPTION:Преподаватель: Горелов Борис Алек
 сеевич
DTSTAMP:20260420T114211Z
DTSTART:20260605T181500Z
DURATION:PT3H15M
LOCATION:5-303
SEQUENCE:0
SUMMARY:[ПЗ 2п.]Научный семинар по экономике и
  управлению (Горелов Борис Алексеевич)
UID:c578df5d-832a-4fe2-a5f2-1228c7e9181e
END:VEVENT
BEGIN:VEVENT
ATTENDEE;CN=Бурдина Анна Анатольевна:https://public.m
 ai.ru/schedule/data/dddd4234-1d99-11e0-9baf-1c6f65450efa.json
DESCRIPTION:Преподаватель: Бурдина Анна Анато
 льевна
DTSTAMP:20260420T114211Z
DTSTART:20260617T163000Z
DURATION:PT3H15M
LOCATION:5-303
SEQUENCE:0
SUMMARY:[Экзамен 2п.]Международные стандарты 
 финансовой отчетности (Бурдина Анна Ана
 тольевна)
UID:09838028-77cf-485c-9ec3-1d643a2d1011
END:VEVENT
BEGIN:VEVENT
ATTENDEE;CN=Давыдов Алексей Дмитриевич:https://publ
 ic.mai.ru/schedule/data/578c17c1-1d99-11e0-9baf-1c6f65450efa.json
DESCRIPTION:Преподаватель: Давыдов Алексей Дм
 итриевич
DTSTAMP:20260420T114211Z
DTSTART:20260623T163000Z
DURATION:PT3H15M
LOCATION:5-309
SEQUENCE:0
SUMMARY:[Экзамен 2п.]Анализ и моделирование п
 роектных бизнес-процессов (Давыдов Алек
 сей Дмитриевич)
UID:6d49c2a7-c49b-4160-9476-79bc7d8ce4c0
END:VEVENT
END:VCALENDAR
