﻿BEGIN:VCALENDAR
CALSCALE:GREGORIAN
METHOD:PUBLISH
PRODID:-//MAI-dep406//MAI Dep406 1.01//RU
VERSION:2.0
X-WR-TIMEZONE:Europe/Moscow
BEGIN:VTIMEZONE
TZID:Europe/Moscow
X-LIC-LOCATION:Europe/Moscow
BEGIN:STANDARD
DTSTART;VALUE=DATE:19700101
TZNAME:GMT+3
TZOFFSETTO:+0300
END:STANDARD
END:VTIMEZONE
BEGIN:VEVENT
ATTENDEE;CN=Сивоплясова Светлана Юрьевна:https://
 public.mai.ru/schedule/data/523cd032-c1a7-11e0-9eca-00304866c649.json
DESCRIPTION:Преподаватель: Сивоплясова Светла
 на Юрьевна
DTSTAMP:20260422T115406Z
DTSTART:20260209T181500Z
DURATION:PT3H15M
LOCATION:5-317
SEQUENCE:0
SUMMARY:[ЛК\,ПЗ 2п.]Экономика информационных п
 родуктов и услуг (Сивоплясова Светлана Ю
 рьевна)
UID:6ab9bafa-7765-4fcf-aecf-419df8e9a77a
END:VEVENT
BEGIN:VEVENT
ATTENDEE;CN=ТИХОНОВ ГЕННАДИЙ ВИТАЛЬЕВИЧ:https://pu
 blic.mai.ru/schedule/data/74bb39e8-0d8f-11e4-b897-005056c00008.json
DESCRIPTION:Преподаватель: ТИХОНОВ ГЕННАДИЙ В
 ИТАЛЬЕВИЧ
DTSTAMP:20260422T115406Z
DTSTART:20260211T181500Z
DURATION:PT3H15M
LOCATION:5-317
SEQUENCE:0
SUMMARY:[ЛК\,ПЗ 2п.]Цифровой рынок ценных бума
 г (ТИХОНОВ ГЕННАДИЙ ВИТАЛЬЕВИЧ)
UID:731efb32-19d7-4763-b5d6-87ddce658689
END:VEVENT
BEGIN:VEVENT
ATTENDEE;CN=Новиков Сергей Вячеславович:https://pu
 blic.mai.ru/schedule/data/3a6dfbd5-1d9a-11e0-9baf-1c6f65450efa.json
DESCRIPTION:Преподаватель: Новиков Сергей Вяч
 еславович
DTSTAMP:20260422T115406Z
DTSTART:20260213T181500Z
DURATION:PT3H15M
LOCATION:5-317
SEQUENCE:0
SUMMARY:[ЛК\,ПЗ 2п.]Технологии Big Data (Новиков Се
 ргей Вячеславович)
UID:1c3682d2-e49f-4fc4-8561-aacc170eac15
END:VEVENT
BEGIN:VEVENT
ATTENDEE;CN=МОСОЛОВА ВЕРА ВЛАДИМИРОВНА:https://publ
 ic.mai.ru/schedule/data/e0d5b424-0d8e-11e4-b897-005056c00008.json
DESCRIPTION:Преподаватель: МОСОЛОВА ВЕРА ВЛАД
 ИМИРОВНА
DTSTAMP:20260422T115406Z
DTSTART:20260214T163000Z
DURATION:PT5H
LOCATION:5-317
SEQUENCE:0
SUMMARY:[ЛК\,ПЗ 3п.]Интернет банкинг (МОСОЛОВА 
 ВЕРА ВЛАДИМИРОВНА)
UID:dac64bfa-6e6e-432f-9199-64e357c97d01
END:VEVENT
BEGIN:VEVENT
ATTENDEE;CN=Сивоплясова Светлана Юрьевна:https://
 public.mai.ru/schedule/data/523cd032-c1a7-11e0-9eca-00304866c649.json
DESCRIPTION:Преподаватель: Сивоплясова Светла
 на Юрьевна
DTSTAMP:20260422T115406Z
DTSTART:20260216T181500Z
DURATION:PT3H15M
LOCATION:5-317
SEQUENCE:0
SUMMARY:[ЛК\,ПЗ 2п.]Экономика информационных п
 родуктов и услуг (Сивоплясова Светлана Ю
 рьевна)
UID:8adb742e-0458-4b4f-a423-ac1ebe9b8e16
END:VEVENT
BEGIN:VEVENT
ATTENDEE;CN=Новиков Сергей Вячеславович:https://pu
 blic.mai.ru/schedule/data/3a6dfbd5-1d9a-11e0-9baf-1c6f65450efa.json
DESCRIPTION:Преподаватель: Новиков Сергей Вяч
 еславович
DTSTAMP:20260422T115406Z
DTSTART:20260217T181500Z
DURATION:PT3H15M
LOCATION:5-317
SEQUENCE:0
SUMMARY:[ЛК\,ПЗ 2п.]Инфокоммуникационные сист
 емы (Новиков Сергей Вячеславович)
UID:a3f669a6-6f58-4642-ba3e-61a9e5315709
END:VEVENT
BEGIN:VEVENT
ATTENDEE;CN=ТИХОНОВ ГЕННАДИЙ ВИТАЛЬЕВИЧ:https://pu
 blic.mai.ru/schedule/data/74bb39e8-0d8f-11e4-b897-005056c00008.json
DESCRIPTION:Преподаватель: ТИХОНОВ ГЕННАДИЙ В
 ИТАЛЬЕВИЧ
DTSTAMP:20260422T115406Z
DTSTART:20260218T181500Z
DURATION:PT3H15M
LOCATION:5-317
SEQUENCE:0
SUMMARY:[ЛК\,ПЗ 2п.]Цифровой рынок ценных бума
 г (ТИХОНОВ ГЕННАДИЙ ВИТАЛЬЕВИЧ)
UID:601cfb65-1b15-47e2-9beb-7bbc09ffd791
END:VEVENT
BEGIN:VEVENT
ATTENDEE;CN=ТАРАСОВА НАТАЛЬЯ ВЛАДИМИРОВНА:https:
 //public.mai.ru/schedule/data/ecd045dd-0d8e-11e4-b897-005056c00008.json
DESCRIPTION:Преподаватель: ТАРАСОВА НАТАЛЬЯ В
 ЛАДИМИРОВНА
DTSTAMP:20260422T115406Z
DTSTART:20260219T181500Z
DURATION:PT3H15M
LOCATION:5-317
SEQUENCE:0
SUMMARY:[ЛК\,ПЗ 2п.]Инновационный менеджмент (
 ТАРАСОВА НАТАЛЬЯ ВЛАДИМИРОВНА)
UID:95511482-79e2-4806-bfa6-355a0eb24020
END:VEVENT
BEGIN:VEVENT
ATTENDEE;CN=Новиков Сергей Вячеславович:https://pu
 blic.mai.ru/schedule/data/3a6dfbd5-1d9a-11e0-9baf-1c6f65450efa.json
DESCRIPTION:Преподаватель: Новиков Сергей Вяч
 еславович
DTSTAMP:20260422T115406Z
DTSTART:20260220T181500Z
DURATION:PT3H15M
LOCATION:5-317
SEQUENCE:0
SUMMARY:[ЛК\,ПЗ 2п.]Технологии Big Data (Новиков Се
 ргей Вячеславович)
UID:7f0bbbb5-c091-4eb9-863b-587b150369df
END:VEVENT
BEGIN:VEVENT
ATTENDEE;CN=МОСОЛОВА ВЕРА ВЛАДИМИРОВНА:https://publ
 ic.mai.ru/schedule/data/e0d5b424-0d8e-11e4-b897-005056c00008.json
DESCRIPTION:Преподаватель: МОСОЛОВА ВЕРА ВЛАД
 ИМИРОВНА
DTSTAMP:20260422T115406Z
DTSTART:20260221T163000Z
DURATION:PT5H
LOCATION:5-317
SEQUENCE:0
SUMMARY:[ЛК\,ПЗ 3п.]Интернет банкинг (МОСОЛОВА 
 ВЕРА ВЛАДИМИРОВНА)
UID:6e7e0ae0-85ba-49a0-a4df-39116ff8b0b0
END:VEVENT
BEGIN:VEVENT
ATTENDEE;CN=Новиков Сергей Вячеславович:https://pu
 blic.mai.ru/schedule/data/3a6dfbd5-1d9a-11e0-9baf-1c6f65450efa.json
DESCRIPTION:Преподаватель: Новиков Сергей Вяч
 еславович
DTSTAMP:20260422T115406Z
DTSTART:20260224T181500Z
DURATION:PT3H15M
LOCATION:5-317
SEQUENCE:0
SUMMARY:[ЛК\,ПЗ 2п.]Инфокоммуникационные сист
 емы (Новиков Сергей Вячеславович)
UID:34c36505-f207-4469-8ed4-72ea8f8ffd18
END:VEVENT
BEGIN:VEVENT
ATTENDEE;CN=ТИХОНОВ ГЕННАДИЙ ВИТАЛЬЕВИЧ:https://pu
 blic.mai.ru/schedule/data/74bb39e8-0d8f-11e4-b897-005056c00008.json
DESCRIPTION:Преподаватель: ТИХОНОВ ГЕННАДИЙ В
 ИТАЛЬЕВИЧ
DTSTAMP:20260422T115406Z
DTSTART:20260225T181500Z
DURATION:PT3H15M
LOCATION:5-317
SEQUENCE:0
SUMMARY:[ЛК\,ПЗ 2п.]Цифровой рынок ценных бума
 г (ТИХОНОВ ГЕННАДИЙ ВИТАЛЬЕВИЧ)
UID:ab44cd9d-eafd-4bc5-b320-bcd3797e546c
END:VEVENT
BEGIN:VEVENT
ATTENDEE;CN=ТАРАСОВА НАТАЛЬЯ ВЛАДИМИРОВНА:https:
 //public.mai.ru/schedule/data/ecd045dd-0d8e-11e4-b897-005056c00008.json
DESCRIPTION:Преподаватель: ТАРАСОВА НАТАЛЬЯ В
 ЛАДИМИРОВНА
DTSTAMP:20260422T115406Z
DTSTART:20260226T181500Z
DURATION:PT3H15M
LOCATION:5-317
SEQUENCE:0
SUMMARY:[ЛК\,ПЗ 2п.]Инновационный менеджмент (
 ТАРАСОВА НАТАЛЬЯ ВЛАДИМИРОВНА)
UID:d3ed3087-5b29-4ade-ab9a-4898844d1014
END:VEVENT
BEGIN:VEVENT
ATTENDEE;CN=Новиков Сергей Вячеславович:https://pu
 blic.mai.ru/schedule/data/3a6dfbd5-1d9a-11e0-9baf-1c6f65450efa.json
DESCRIPTION:Преподаватель: Новиков Сергей Вяч
 еславович
DTSTAMP:20260422T115406Z
DTSTART:20260227T181500Z
DURATION:PT3H15M
LOCATION:5-317
SEQUENCE:0
SUMMARY:[ЛК\,ПЗ 2п.]Технологии Big Data (Новиков Се
 ргей Вячеславович)
UID:4a2ae5e1-4b3f-4b44-ba41-836477a18cde
END:VEVENT
BEGIN:VEVENT
ATTENDEE;CN=МОСОЛОВА ВЕРА ВЛАДИМИРОВНА:https://publ
 ic.mai.ru/schedule/data/e0d5b424-0d8e-11e4-b897-005056c00008.json
DESCRIPTION:Преподаватель: МОСОЛОВА ВЕРА ВЛАД
 ИМИРОВНА
DTSTAMP:20260422T115406Z
DTSTART:20260228T163000Z
DURATION:PT5H
LOCATION:5-317
SEQUENCE:0
SUMMARY:[ЛК\,ПЗ 3п.]Интернет банкинг (МОСОЛОВА 
 ВЕРА ВЛАДИМИРОВНА)
UID:49aa1b04-cecc-48a3-b1ee-2712a56cd6aa
END:VEVENT
BEGIN:VEVENT
ATTENDEE;CN=Сивоплясова Светлана Юрьевна:https://
 public.mai.ru/schedule/data/523cd032-c1a7-11e0-9eca-00304866c649.json
DESCRIPTION:Преподаватель: Сивоплясова Светла
 на Юрьевна
DTSTAMP:20260422T115406Z
DTSTART:20260302T181500Z
DURATION:PT3H15M
LOCATION:5-317
SEQUENCE:0
SUMMARY:[ЛК\,ПЗ 2п.]Экономика информационных п
 родуктов и услуг (Сивоплясова Светлана Ю
 рьевна)
UID:8aa32442-6b30-4cf2-b843-99bcf4bfe047
END:VEVENT
BEGIN:VEVENT
ATTENDEE;CN=Новиков Сергей Вячеславович:https://pu
 blic.mai.ru/schedule/data/3a6dfbd5-1d9a-11e0-9baf-1c6f65450efa.json
DESCRIPTION:Преподаватель: Новиков Сергей Вяч
 еславович
DTSTAMP:20260422T115406Z
DTSTART:20260303T181500Z
DURATION:PT3H15M
LOCATION:5-317
SEQUENCE:0
SUMMARY:[ЛК\,ПЗ 2п.]Инфокоммуникационные сист
 емы (Новиков Сергей Вячеславович)
UID:2f5b41d8-3b2d-4a4c-a144-a703203c29f5
END:VEVENT
BEGIN:VEVENT
ATTENDEE;CN=ТИХОНОВ ГЕННАДИЙ ВИТАЛЬЕВИЧ:https://pu
 blic.mai.ru/schedule/data/74bb39e8-0d8f-11e4-b897-005056c00008.json
DESCRIPTION:Преподаватель: ТИХОНОВ ГЕННАДИЙ В
 ИТАЛЬЕВИЧ
DTSTAMP:20260422T115406Z
DTSTART:20260304T181500Z
DURATION:PT3H15M
LOCATION:5-317
SEQUENCE:0
SUMMARY:[ЛК\,ПЗ 2п.]Цифровой рынок ценных бума
 г (ТИХОНОВ ГЕННАДИЙ ВИТАЛЬЕВИЧ)
UID:d3541732-0d43-45e9-b352-fe731a5f6232
END:VEVENT
BEGIN:VEVENT
ATTENDEE;CN=ТАРАСОВА НАТАЛЬЯ ВЛАДИМИРОВНА:https:
 //public.mai.ru/schedule/data/ecd045dd-0d8e-11e4-b897-005056c00008.json
DESCRIPTION:Преподаватель: ТАРАСОВА НАТАЛЬЯ В
 ЛАДИМИРОВНА
DTSTAMP:20260422T115406Z
DTSTART:20260305T181500Z
DURATION:PT3H15M
LOCATION:5-317
SEQUENCE:0
SUMMARY:[ЛК\,ПЗ 2п.]Инновационный менеджмент (
 ТАРАСОВА НАТАЛЬЯ ВЛАДИМИРОВНА)
UID:65c8c669-c8fc-4ee3-80af-804c65f46019
END:VEVENT
BEGIN:VEVENT
ATTENDEE;CN=Новиков Сергей Вячеславович:https://pu
 blic.mai.ru/schedule/data/3a6dfbd5-1d9a-11e0-9baf-1c6f65450efa.json
DESCRIPTION:Преподаватель: Новиков Сергей Вяч
 еславович
DTSTAMP:20260422T115406Z
DTSTART:20260306T181500Z
DURATION:PT3H15M
LOCATION:5-317
SEQUENCE:0
SUMMARY:[ЛК\,ПЗ 2п.]Технологии Big Data (Новиков Се
 ргей Вячеславович)
UID:582a54b5-5375-4609-ad8b-4dcbfeb0f7d1
END:VEVENT
BEGIN:VEVENT
ATTENDEE;CN=Новиков Сергей Вячеславович:https://pu
 blic.mai.ru/schedule/data/3a6dfbd5-1d9a-11e0-9baf-1c6f65450efa.json
DESCRIPTION:Преподаватель: Новиков Сергей Вяч
 еславович
DTSTAMP:20260422T115406Z
DTSTART:20260310T181500Z
DURATION:PT3H15M
LOCATION:5-317
SEQUENCE:0
SUMMARY:[ЛК\,ПЗ 2п.]Инфокоммуникационные сист
 емы (Новиков Сергей Вячеславович)
UID:053c64a5-9b14-4fc8-aa04-1a6b4dfbe6c1
END:VEVENT
BEGIN:VEVENT
ATTENDEE;CN=ТИХОНОВ ГЕННАДИЙ ВИТАЛЬЕВИЧ:https://pu
 blic.mai.ru/schedule/data/74bb39e8-0d8f-11e4-b897-005056c00008.json
DESCRIPTION:Преподаватель: ТИХОНОВ ГЕННАДИЙ В
 ИТАЛЬЕВИЧ
DTSTAMP:20260422T115406Z
DTSTART:20260311T181500Z
DURATION:PT3H15M
LOCATION:5-317
SEQUENCE:0
SUMMARY:[ЛК\,ПЗ 2п.]Цифровой рынок ценных бума
 г (ТИХОНОВ ГЕННАДИЙ ВИТАЛЬЕВИЧ)
UID:0f4e618a-9856-44a6-90fc-8261e12fc6ba
END:VEVENT
BEGIN:VEVENT
ATTENDEE;CN=ТАРАСОВА НАТАЛЬЯ ВЛАДИМИРОВНА:https:
 //public.mai.ru/schedule/data/ecd045dd-0d8e-11e4-b897-005056c00008.json
DESCRIPTION:Преподаватель: ТАРАСОВА НАТАЛЬЯ В
 ЛАДИМИРОВНА
DTSTAMP:20260422T115406Z
DTSTART:20260312T181500Z
DURATION:PT3H15M
LOCATION:5-317
SEQUENCE:0
SUMMARY:[ЛК\,ПЗ 2п.]Инновационный менеджмент (
 ТАРАСОВА НАТАЛЬЯ ВЛАДИМИРОВНА)
UID:4bc48594-492b-403f-9d72-fa369765b064
END:VEVENT
BEGIN:VEVENT
ATTENDEE;CN=Новиков Сергей Вячеславович:https://pu
 blic.mai.ru/schedule/data/3a6dfbd5-1d9a-11e0-9baf-1c6f65450efa.json
DESCRIPTION:Преподаватель: Новиков Сергей Вяч
 еславович
DTSTAMP:20260422T115406Z
DTSTART:20260313T181500Z
DURATION:PT3H15M
LOCATION:5-317
SEQUENCE:0
SUMMARY:[ЛК\,ПЗ 2п.]Технологии Big Data (Новиков Се
 ргей Вячеславович)
UID:92458022-5bea-421c-acfb-30fd958525e6
END:VEVENT
BEGIN:VEVENT
ATTENDEE;CN=МОСОЛОВА ВЕРА ВЛАДИМИРОВНА:https://publ
 ic.mai.ru/schedule/data/e0d5b424-0d8e-11e4-b897-005056c00008.json
DESCRIPTION:Преподаватель: МОСОЛОВА ВЕРА ВЛАД
 ИМИРОВНА
DTSTAMP:20260422T115406Z
DTSTART:20260314T163000Z
DURATION:PT5H
LOCATION:5-317
SEQUENCE:0
SUMMARY:[ЛК\,ПЗ 3п.]Интернет банкинг (МОСОЛОВА 
 ВЕРА ВЛАДИМИРОВНА)
UID:62ed81a3-bdc1-4d46-a25e-5c51a86ac714
END:VEVENT
BEGIN:VEVENT
ATTENDEE;CN=Сивоплясова Светлана Юрьевна:https://
 public.mai.ru/schedule/data/523cd032-c1a7-11e0-9eca-00304866c649.json
DESCRIPTION:Преподаватель: Сивоплясова Светла
 на Юрьевна
DTSTAMP:20260422T115406Z
DTSTART:20260316T181500Z
DURATION:PT3H15M
LOCATION:5-317
SEQUENCE:0
SUMMARY:[ЛК\,ПЗ 2п.]Экономика информационных п
 родуктов и услуг (Сивоплясова Светлана Ю
 рьевна)
UID:d6aabd06-e7ea-4605-b161-daa3ff62d8af
END:VEVENT
BEGIN:VEVENT
ATTENDEE;CN=Новиков Сергей Вячеславович:https://pu
 blic.mai.ru/schedule/data/3a6dfbd5-1d9a-11e0-9baf-1c6f65450efa.json
DESCRIPTION:Преподаватель: Новиков Сергей Вяч
 еславович
DTSTAMP:20260422T115406Z
DTSTART:20260317T181500Z
DURATION:PT3H15M
LOCATION:5-317
SEQUENCE:0
SUMMARY:[ЛК\,ПЗ 2п.]Инфокоммуникационные сист
 емы (Новиков Сергей Вячеславович)
UID:1316f979-3ae0-4a98-8468-6ddc83ad8073
END:VEVENT
BEGIN:VEVENT
ATTENDEE;CN=ТИХОНОВ ГЕННАДИЙ ВИТАЛЬЕВИЧ:https://pu
 blic.mai.ru/schedule/data/74bb39e8-0d8f-11e4-b897-005056c00008.json
DESCRIPTION:Преподаватель: ТИХОНОВ ГЕННАДИЙ В
 ИТАЛЬЕВИЧ
DTSTAMP:20260422T115406Z
DTSTART:20260318T181500Z
DURATION:PT3H15M
LOCATION:5-317
SEQUENCE:0
SUMMARY:[ЛК\,ПЗ 2п.]Цифровой рынок ценных бума
 г (ТИХОНОВ ГЕННАДИЙ ВИТАЛЬЕВИЧ)
UID:8cf46d64-38fe-4893-bc8d-2690fd7f38ad
END:VEVENT
BEGIN:VEVENT
ATTENDEE;CN=ТАРАСОВА НАТАЛЬЯ ВЛАДИМИРОВНА:https:
 //public.mai.ru/schedule/data/ecd045dd-0d8e-11e4-b897-005056c00008.json
DESCRIPTION:Преподаватель: ТАРАСОВА НАТАЛЬЯ В
 ЛАДИМИРОВНА
DTSTAMP:20260422T115406Z
DTSTART:20260319T181500Z
DURATION:PT3H15M
LOCATION:5-317
SEQUENCE:0
SUMMARY:[ЛК\,ПЗ 2п.]Инновационный менеджмент (
 ТАРАСОВА НАТАЛЬЯ ВЛАДИМИРОВНА)
UID:353e3597-9ef2-4131-96d1-393d6319698d
END:VEVENT
BEGIN:VEVENT
ATTENDEE;CN=Новиков Сергей Вячеславович:https://pu
 blic.mai.ru/schedule/data/3a6dfbd5-1d9a-11e0-9baf-1c6f65450efa.json
DESCRIPTION:Преподаватель: Новиков Сергей Вяч
 еславович
DTSTAMP:20260422T115406Z
DTSTART:20260320T181500Z
DURATION:PT3H15M
LOCATION:5-317
SEQUENCE:0
SUMMARY:[ЛК\,ПЗ 2п.]Технологии Big Data (Новиков Се
 ргей Вячеславович)
UID:9327b903-1789-44d2-acea-5f8f0c0b3154
END:VEVENT
BEGIN:VEVENT
ATTENDEE;CN=МОСОЛОВА ВЕРА ВЛАДИМИРОВНА:https://publ
 ic.mai.ru/schedule/data/e0d5b424-0d8e-11e4-b897-005056c00008.json
DESCRIPTION:Преподаватель: МОСОЛОВА ВЕРА ВЛАД
 ИМИРОВНА
DTSTAMP:20260422T115406Z
DTSTART:20260321T163000Z
DURATION:PT5H
LOCATION:5-317
SEQUENCE:0
SUMMARY:[ЛК\,ПЗ 3п.]Интернет банкинг (МОСОЛОВА 
 ВЕРА ВЛАДИМИРОВНА)
UID:b9421446-7086-4b8c-b644-6dde7c9e05cd
END:VEVENT
BEGIN:VEVENT
ATTENDEE;CN=Сивоплясова Светлана Юрьевна:https://
 public.mai.ru/schedule/data/523cd032-c1a7-11e0-9eca-00304866c649.json
DESCRIPTION:Преподаватель: Сивоплясова Светла
 на Юрьевна
DTSTAMP:20260422T115406Z
DTSTART:20260323T181500Z
DURATION:PT3H15M
LOCATION:5-317
SEQUENCE:0
SUMMARY:[ЛК\,ПЗ 2п.]Экономика информационных п
 родуктов и услуг (Сивоплясова Светлана Ю
 рьевна)
UID:dbd4365a-3325-4b10-866b-1a6b01f899df
END:VEVENT
BEGIN:VEVENT
ATTENDEE;CN=Новиков Сергей Вячеславович:https://pu
 blic.mai.ru/schedule/data/3a6dfbd5-1d9a-11e0-9baf-1c6f65450efa.json
DESCRIPTION:Преподаватель: Новиков Сергей Вяч
 еславович
DTSTAMP:20260422T115406Z
DTSTART:20260324T181500Z
DURATION:PT3H15M
LOCATION:5-317
SEQUENCE:0
SUMMARY:[ЛК\,ПЗ 2п.]Инфокоммуникационные сист
 емы (Новиков Сергей Вячеславович)
UID:e11e36c9-925e-4cae-a39d-53d34ad1cce3
END:VEVENT
BEGIN:VEVENT
ATTENDEE;CN=ТИХОНОВ ГЕННАДИЙ ВИТАЛЬЕВИЧ:https://pu
 blic.mai.ru/schedule/data/74bb39e8-0d8f-11e4-b897-005056c00008.json
DESCRIPTION:Преподаватель: ТИХОНОВ ГЕННАДИЙ В
 ИТАЛЬЕВИЧ
DTSTAMP:20260422T115406Z
DTSTART:20260325T181500Z
DURATION:PT3H15M
LOCATION:5-317
SEQUENCE:0
SUMMARY:[ЛК\,ПЗ 2п.]Цифровой рынок ценных бума
 г (ТИХОНОВ ГЕННАДИЙ ВИТАЛЬЕВИЧ)
UID:bb725d6a-49c1-49e6-a647-329673320fa1
END:VEVENT
BEGIN:VEVENT
ATTENDEE;CN=ТАРАСОВА НАТАЛЬЯ ВЛАДИМИРОВНА:https:
 //public.mai.ru/schedule/data/ecd045dd-0d8e-11e4-b897-005056c00008.json
DESCRIPTION:Преподаватель: ТАРАСОВА НАТАЛЬЯ В
 ЛАДИМИРОВНА
DTSTAMP:20260422T115406Z
DTSTART:20260326T181500Z
DURATION:PT3H15M
LOCATION:5-317
SEQUENCE:0
SUMMARY:[ЛК\,ПЗ 2п.]Инновационный менеджмент (
 ТАРАСОВА НАТАЛЬЯ ВЛАДИМИРОВНА)
UID:d23fedc8-680e-44a3-bb32-23cee8ab419c
END:VEVENT
BEGIN:VEVENT
ATTENDEE;CN=Новиков Сергей Вячеславович:https://pu
 blic.mai.ru/schedule/data/3a6dfbd5-1d9a-11e0-9baf-1c6f65450efa.json
DESCRIPTION:Преподаватель: Новиков Сергей Вяч
 еславович
DTSTAMP:20260422T115406Z
DTSTART:20260327T181500Z
DURATION:PT3H15M
LOCATION:5-317
SEQUENCE:0
SUMMARY:[ЛК\,ПЗ 2п.]Технологии Big Data (Новиков Се
 ргей Вячеславович)
UID:790300db-5db3-42aa-8365-e328106587c6
END:VEVENT
BEGIN:VEVENT
ATTENDEE;CN=МОСОЛОВА ВЕРА ВЛАДИМИРОВНА:https://publ
 ic.mai.ru/schedule/data/e0d5b424-0d8e-11e4-b897-005056c00008.json
DESCRIPTION:Преподаватель: МОСОЛОВА ВЕРА ВЛАД
 ИМИРОВНА
DTSTAMP:20260422T115406Z
DTSTART:20260328T163000Z
DURATION:PT5H
LOCATION:5-317
SEQUENCE:0
SUMMARY:[ЛК\,ПЗ 3п.]Интернет банкинг (МОСОЛОВА 
 ВЕРА ВЛАДИМИРОВНА)
UID:87ca0a33-1b9a-4b4f-86a4-df97dcdbe96b
END:VEVENT
BEGIN:VEVENT
ATTENDEE;CN=Сивоплясова Светлана Юрьевна:https://
 public.mai.ru/schedule/data/523cd032-c1a7-11e0-9eca-00304866c649.json
DESCRIPTION:Преподаватель: Сивоплясова Светла
 на Юрьевна
DTSTAMP:20260422T115406Z
DTSTART:20260330T181500Z
DURATION:PT3H15M
LOCATION:5-317
SEQUENCE:0
SUMMARY:[ЛК\,ПЗ 2п.]Экономика информационных п
 родуктов и услуг (Сивоплясова Светлана Ю
 рьевна)
UID:7ee9d2d6-190b-4cf9-a2e8-3b3bc6c97941
END:VEVENT
BEGIN:VEVENT
ATTENDEE;CN=Новиков Сергей Вячеславович:https://pu
 blic.mai.ru/schedule/data/3a6dfbd5-1d9a-11e0-9baf-1c6f65450efa.json
DESCRIPTION:Преподаватель: Новиков Сергей Вяч
 еславович
DTSTAMP:20260422T115406Z
DTSTART:20260331T181500Z
DURATION:PT3H15M
LOCATION:5-317
SEQUENCE:0
SUMMARY:[ЛК\,ПЗ 2п.]Инфокоммуникационные сист
 емы (Новиков Сергей Вячеславович)
UID:6f52cd0c-c059-4f5b-b6ce-1809b0a7c08e
END:VEVENT
BEGIN:VEVENT
ATTENDEE;CN=ТИХОНОВ ГЕННАДИЙ ВИТАЛЬЕВИЧ:https://pu
 blic.mai.ru/schedule/data/74bb39e8-0d8f-11e4-b897-005056c00008.json
DESCRIPTION:Преподаватель: ТИХОНОВ ГЕННАДИЙ В
 ИТАЛЬЕВИЧ
DTSTAMP:20260422T115406Z
DTSTART:20260401T181500Z
DURATION:PT3H15M
LOCATION:5-317
SEQUENCE:0
SUMMARY:[ЛК\,ПЗ 2п.]Цифровой рынок ценных бума
 г (ТИХОНОВ ГЕННАДИЙ ВИТАЛЬЕВИЧ)
UID:8c72a556-03a1-40b5-8d54-c1c9d2c2b57c
END:VEVENT
BEGIN:VEVENT
ATTENDEE;CN=ТАРАСОВА НАТАЛЬЯ ВЛАДИМИРОВНА:https:
 //public.mai.ru/schedule/data/ecd045dd-0d8e-11e4-b897-005056c00008.json
DESCRIPTION:Преподаватель: ТАРАСОВА НАТАЛЬЯ В
 ЛАДИМИРОВНА
DTSTAMP:20260422T115406Z
DTSTART:20260402T181500Z
DURATION:PT3H15M
LOCATION:5-317
SEQUENCE:0
SUMMARY:[ЛК\,ПЗ 2п.]Инновационный менеджмент (
 ТАРАСОВА НАТАЛЬЯ ВЛАДИМИРОВНА)
UID:5f07296a-71b4-4c33-b5b3-38a6c57a0275
END:VEVENT
BEGIN:VEVENT
ATTENDEE;CN=Новиков Сергей Вячеславович:https://pu
 blic.mai.ru/schedule/data/3a6dfbd5-1d9a-11e0-9baf-1c6f65450efa.json
DESCRIPTION:Преподаватель: Новиков Сергей Вяч
 еславович
DTSTAMP:20260422T115406Z
DTSTART:20260403T181500Z
DURATION:PT3H15M
LOCATION:5-317
SEQUENCE:0
SUMMARY:[ЛК\,ПЗ 2п.]Технологии Big Data (Новиков Се
 ргей Вячеславович)
UID:bcb1f97e-e62b-49ff-9227-87f8c7c438ef
END:VEVENT
BEGIN:VEVENT
ATTENDEE;CN=МОСОЛОВА ВЕРА ВЛАДИМИРОВНА:https://publ
 ic.mai.ru/schedule/data/e0d5b424-0d8e-11e4-b897-005056c00008.json
DESCRIPTION:Преподаватель: МОСОЛОВА ВЕРА ВЛАД
 ИМИРОВНА
DTSTAMP:20260422T115406Z
DTSTART:20260404T163000Z
DURATION:PT5H
LOCATION:5-317
SEQUENCE:0
SUMMARY:[ЛК\,ПЗ 3п.]Интернет банкинг (МОСОЛОВА 
 ВЕРА ВЛАДИМИРОВНА)
UID:3f76e1e8-89fe-4489-8095-3d7f370a394a
END:VEVENT
BEGIN:VEVENT
ATTENDEE;CN=Сивоплясова Светлана Юрьевна:https://
 public.mai.ru/schedule/data/523cd032-c1a7-11e0-9eca-00304866c649.json
DESCRIPTION:Преподаватель: Сивоплясова Светла
 на Юрьевна
DTSTAMP:20260422T115406Z
DTSTART:20260406T181500Z
DURATION:PT3H15M
LOCATION:5-317
SEQUENCE:0
SUMMARY:[ЛК\,ПЗ 2п.]Экономика информационных п
 родуктов и услуг (Сивоплясова Светлана Ю
 рьевна)
UID:e97af523-2324-41a5-be7e-7265a42f2798
END:VEVENT
BEGIN:VEVENT
ATTENDEE;CN=Новиков Сергей Вячеславович:https://pu
 blic.mai.ru/schedule/data/3a6dfbd5-1d9a-11e0-9baf-1c6f65450efa.json
DESCRIPTION:Преподаватель: Новиков Сергей Вяч
 еславович
DTSTAMP:20260422T115406Z
DTSTART:20260407T181500Z
DURATION:PT3H15M
LOCATION:5-317
SEQUENCE:0
SUMMARY:[ЛК\,ПЗ 2п.]Инфокоммуникационные сист
 емы (Новиков Сергей Вячеславович)
UID:f0104bb7-2c87-401c-a28b-8f6fa8e1f20e
END:VEVENT
BEGIN:VEVENT
ATTENDEE;CN=ТАРАСОВА НАТАЛЬЯ ВЛАДИМИРОВНА:https:
 //public.mai.ru/schedule/data/ecd045dd-0d8e-11e4-b897-005056c00008.json
DESCRIPTION:Преподаватель: ТАРАСОВА НАТАЛЬЯ В
 ЛАДИМИРОВНА
DTSTAMP:20260422T115406Z
DTSTART:20260409T163000Z
DURATION:PT5H
LOCATION:5-317
SEQUENCE:0
SUMMARY:[ЛК\,ПЗ 3п.]Инновационный менеджмент (
 ТАРАСОВА НАТАЛЬЯ ВЛАДИМИРОВНА)
UID:63ea188b-0987-40b4-821e-552fc647a67e
END:VEVENT
BEGIN:VEVENT
ATTENDEE;CN=Новиков Сергей Вячеславович:https://pu
 blic.mai.ru/schedule/data/3a6dfbd5-1d9a-11e0-9baf-1c6f65450efa.json
DESCRIPTION:Преподаватель: Новиков Сергей Вяч
 еславович
DTSTAMP:20260422T115406Z
DTSTART:20260410T181500Z
DURATION:PT3H15M
LOCATION:5-317
SEQUENCE:0
SUMMARY:[ЛК\,ПЗ 2п.]Технологии Big Data (Новиков Се
 ргей Вячеславович)
UID:daca21bd-d812-4def-ad25-7eac8f553ab1
END:VEVENT
BEGIN:VEVENT
ATTENDEE;CN=МОСОЛОВА ВЕРА ВЛАДИМИРОВНА:https://publ
 ic.mai.ru/schedule/data/e0d5b424-0d8e-11e4-b897-005056c00008.json
DESCRIPTION:Преподаватель: МОСОЛОВА ВЕРА ВЛАД
 ИМИРОВНА
DTSTAMP:20260422T115406Z
DTSTART:20260411T163000Z
DURATION:PT5H
LOCATION:5-317
SEQUENCE:0
SUMMARY:[ЛК\,ПЗ 3п.]Интернет банкинг (МОСОЛОВА 
 ВЕРА ВЛАДИМИРОВНА)
UID:f63aaf74-570c-4d2a-a41d-817bc297e545
END:VEVENT
BEGIN:VEVENT
ATTENDEE;CN=Сивоплясова Светлана Юрьевна:https://
 public.mai.ru/schedule/data/523cd032-c1a7-11e0-9eca-00304866c649.json
DESCRIPTION:Преподаватель: Сивоплясова Светла
 на Юрьевна
DTSTAMP:20260422T115406Z
DTSTART:20260413T181500Z
DURATION:PT3H15M
LOCATION:5-317
SEQUENCE:0
SUMMARY:[ЛК\,ПЗ 2п.]Экономика информационных п
 родуктов и услуг (Сивоплясова Светлана Ю
 рьевна)
UID:a156436e-288c-4643-b325-4b34a19111c6
END:VEVENT
BEGIN:VEVENT
ATTENDEE;CN=Новиков Сергей Вячеславович:https://pu
 blic.mai.ru/schedule/data/3a6dfbd5-1d9a-11e0-9baf-1c6f65450efa.json
DESCRIPTION:Преподаватель: Новиков Сергей Вяч
 еславович
DTSTAMP:20260422T115406Z
DTSTART:20260417T181500Z
DURATION:PT3H15M
LOCATION:5-317
SEQUENCE:0
SUMMARY:[ЛК\,ПЗ 2п.]Технологии Big Data (Новиков Се
 ргей Вячеславович)
UID:dd7dc7fc-786d-4a6a-a224-5ca9e2c1ba65
END:VEVENT
BEGIN:VEVENT
ATTENDEE;CN=МОСОЛОВА ВЕРА ВЛАДИМИРОВНА:https://publ
 ic.mai.ru/schedule/data/e0d5b424-0d8e-11e4-b897-005056c00008.json
DESCRIPTION:Преподаватель: МОСОЛОВА ВЕРА ВЛАД
 ИМИРОВНА
DTSTAMP:20260422T115406Z
DTSTART:20260418T163000Z
DURATION:PT5H
LOCATION:5-317
SEQUENCE:0
SUMMARY:[ЛК\,ПЗ 3п.]Интернет банкинг (МОСОЛОВА 
 ВЕРА ВЛАДИМИРОВНА)
UID:7ddb9d48-3357-4f45-b732-f26c8a62c733
END:VEVENT
BEGIN:VEVENT
ATTENDEE;CN=Новиков Сергей Вячеславович:https://pu
 blic.mai.ru/schedule/data/3a6dfbd5-1d9a-11e0-9baf-1c6f65450efa.json
DESCRIPTION:Преподаватель: Новиков Сергей Вяч
 еславович
DTSTAMP:20260422T115406Z
DTSTART:20260424T181500Z
DURATION:PT3H15M
LOCATION:5-317
SEQUENCE:0
SUMMARY:[ЛК 2п.]Технологии Big Data (Новиков Серге
 й Вячеславович)
UID:db283467-12e9-4847-8be1-6bbc1836a894
END:VEVENT
BEGIN:VEVENT
ATTENDEE;CN=Новиков Сергей Вячеславович:https://pu
 blic.mai.ru/schedule/data/3a6dfbd5-1d9a-11e0-9baf-1c6f65450efa.json
DESCRIPTION:Преподаватель: Новиков Сергей Вяч
 еславович
DTSTAMP:20260422T115406Z
DTSTART:20260425T163000Z
DURATION:PT3H15M
LOCATION:5-317
SEQUENCE:0
SUMMARY:[ЛК 2п.]Технологии Big Data (Новиков Серге
 й Вячеславович)
UID:b9fe3f9b-099c-4c35-9466-166d86179c48
END:VEVENT
BEGIN:VEVENT
ATTENDEE;CN=Новиков Сергей Вячеславович:https://pu
 blic.mai.ru/schedule/data/3a6dfbd5-1d9a-11e0-9baf-1c6f65450efa.json
DESCRIPTION:Преподаватель: Новиков Сергей Вяч
 еславович
DTSTAMP:20260422T115406Z
DTSTART:20260502T163000Z
DURATION:PT3H15M
LOCATION:5-317
SEQUENCE:0
SUMMARY:[ЛК 2п.]Технологии Big Data (Новиков Серге
 й Вячеславович)
UID:8404186e-b678-4974-912e-0bd92f324142
END:VEVENT
END:VCALENDAR
