﻿BEGIN:VCALENDAR
CALSCALE:GREGORIAN
METHOD:PUBLISH
PRODID:-//MAI-dep406//MAI Dep406 1.01//RU
VERSION:2.0
X-WR-TIMEZONE:Europe/Moscow
BEGIN:VTIMEZONE
TZID:Europe/Moscow
X-LIC-LOCATION:Europe/Moscow
BEGIN:STANDARD
DTSTART;VALUE=DATE:19700101
TZNAME:GMT+3
TZOFFSETTO:+0300
END:STANDARD
END:VTIMEZONE
BEGIN:VEVENT
ATTENDEE;CN=Одинцова Екатерина Игоревна:https://pu
 blic.mai.ru/schedule/data/c87c2d40-1fd2-11e1-a954-00304866c649.json
DESCRIPTION:Преподаватель: Одинцова Екатерина
  Игоревна
DTSTAMP:20260422T115540Z
DTSTART:20260210T181500Z
DURATION:PT3H15M
LOCATION:24-709
SEQUENCE:0
SUMMARY:[ЛК 2п.]Технологии искусственного инт
 еллекта в инженерной и управленческой д
 еятельности (Одинцова Екатерина Игоревн
 а)
UID:b530cbcf-e0eb-4f81-887b-44149b19d1a7
END:VEVENT
BEGIN:VEVENT
ATTENDEE;CN=Нуруллаев Эльмар Джаннаталиевич:ht
 tps://public.mai.ru/schedule/data/0014de41-1d9a-11e0-9baf-1c6f65450efa.jso
 n
DESCRIPTION:Преподаватель: Нуруллаев Эльмар Д
 жаннаталиевич
DTSTAMP:20260422T115540Z
DTSTART:20260214T090000Z
DURATION:PT7H15M
LOCATION:11-34
SEQUENCE:0
SUMMARY:[ЛК\,ПЗ 4п.]Надежность изделий и систе
 м РКТ (Нуруллаев Эльмар Джаннаталиевич)
UID:93728bbe-0f87-419d-b800-5a3dd30c0403
END:VEVENT
BEGIN:VEVENT
ATTENDEE;CN=Федотов Дмитрий Михайлович:https://publ
 ic.mai.ru/schedule/data/79d46467-1d99-11e0-9baf-1c6f65450efa.json
DESCRIPTION:Преподаватель: Федотов Дмитрий Ми
 хайлович
DTSTAMP:20260422T115540Z
DTSTART:20260217T181500Z
DURATION:PT3H15M
LOCATION:24-402
SEQUENCE:0
SUMMARY:[ПЗ 2п.]Научный семинар по ракетным си
 стемам и космонавтике (Федотов Дмитрий М
 ихайлович)
UID:7879d573-2270-40b1-923e-6a66d7212e7a
END:VEVENT
BEGIN:VEVENT
ATTENDEE;CN=Одинцова Екатерина Игоревна:https://pu
 blic.mai.ru/schedule/data/c87c2d40-1fd2-11e1-a954-00304866c649.json
DESCRIPTION:Преподаватель: Одинцова Екатерина
  Игоревна
DTSTAMP:20260422T115540Z
DTSTART:20260219T181500Z
DURATION:PT3H15M
LOCATION:24-709
SEQUENCE:0
SUMMARY:[ЛР 2п.]Технологии искусственного инт
 еллекта в инженерной и управленческой д
 еятельности (Одинцова Екатерина Игоревн
 а)
UID:3e4d4ccb-9630-44d4-bfd4-6afb31cb816c
END:VEVENT
BEGIN:VEVENT
ATTENDEE;CN=Нуруллаев Эльмар Джаннаталиевич:ht
 tps://public.mai.ru/schedule/data/0014de41-1d9a-11e0-9baf-1c6f65450efa.jso
 n
DESCRIPTION:Преподаватель: Нуруллаев Эльмар Д
 жаннаталиевич
DTSTAMP:20260422T115540Z
DTSTART:20260221T130000Z
DURATION:PT3H15M
LOCATION:11-34
SEQUENCE:0
SUMMARY:[ЛК 2п.]Надежность изделий и систем РК
 Т (Нуруллаев Эльмар Джаннаталиевич)
UID:d49fab6f-17d7-496d-acb3-d1ad8584a928
END:VEVENT
BEGIN:VEVENT
ATTENDEE;CN=Одинцова Екатерина Игоревна:https://pu
 blic.mai.ru/schedule/data/c87c2d40-1fd2-11e1-a954-00304866c649.json
DESCRIPTION:Преподаватель: Одинцова Екатерина
  Игоревна
DTSTAMP:20260422T115540Z
DTSTART:20260224T181500Z
DURATION:PT3H15M
LOCATION:24-709
SEQUENCE:0
SUMMARY:[ЛК 2п.]Технологии искусственного инт
 еллекта в инженерной и управленческой д
 еятельности (Одинцова Екатерина Игоревн
 а)
UID:b9b92a7d-c876-414c-ad91-848ea7c2a5eb
END:VEVENT
BEGIN:VEVENT
ATTENDEE;CN=Нуруллаев Эльмар Джаннаталиевич:ht
 tps://public.mai.ru/schedule/data/0014de41-1d9a-11e0-9baf-1c6f65450efa.jso
 n
DESCRIPTION:Преподаватель: Нуруллаев Эльмар Д
 жаннаталиевич
DTSTAMP:20260422T115540Z
DTSTART:20260228T090000Z
DURATION:PT7H15M
LOCATION:11-34
SEQUENCE:0
SUMMARY:[ЛК\,ПЗ 4п.]Надежность изделий и систе
 м РКТ (Нуруллаев Эльмар Джаннаталиевич)
UID:7c4894de-1a4e-444c-99a1-c1386810a86d
END:VEVENT
BEGIN:VEVENT
ATTENDEE;CN=Федотов Дмитрий Михайлович:https://publ
 ic.mai.ru/schedule/data/79d46467-1d99-11e0-9baf-1c6f65450efa.json
DESCRIPTION:Преподаватель: Федотов Дмитрий Ми
 хайлович
DTSTAMP:20260422T115540Z
DTSTART:20260303T181500Z
DURATION:PT3H15M
LOCATION:24-402
SEQUENCE:0
SUMMARY:[ПЗ 2п.]Научный семинар по ракетным си
 стемам и космонавтике (Федотов Дмитрий М
 ихайлович)
UID:9eb814fa-f2e1-4b9d-9d60-f50f1af3f784
END:VEVENT
BEGIN:VEVENT
ATTENDEE;CN=Одинцова Екатерина Игоревна:https://pu
 blic.mai.ru/schedule/data/c87c2d40-1fd2-11e1-a954-00304866c649.json
DESCRIPTION:Преподаватель: Одинцова Екатерина
  Игоревна
DTSTAMP:20260422T115540Z
DTSTART:20260305T181500Z
DURATION:PT3H15M
LOCATION:24-709
SEQUENCE:0
SUMMARY:[ЛР 2п.]Технологии искусственного инт
 еллекта в инженерной и управленческой д
 еятельности (Одинцова Екатерина Игоревн
 а)
UID:30a7817c-a49a-4159-9bcc-e19da077a1ad
END:VEVENT
BEGIN:VEVENT
ATTENDEE;CN=Одинцова Екатерина Игоревна:https://pu
 blic.mai.ru/schedule/data/c87c2d40-1fd2-11e1-a954-00304866c649.json
DESCRIPTION:Преподаватель: Одинцова Екатерина
  Игоревна
DTSTAMP:20260422T115540Z
DTSTART:20260310T181500Z
DURATION:PT3H15M
LOCATION:24-709
SEQUENCE:0
SUMMARY:[ЛК 2п.]Технологии искусственного инт
 еллекта в инженерной и управленческой д
 еятельности (Одинцова Екатерина Игоревн
 а)
UID:61b294e3-1bf9-4eea-bc9c-4cf8950ee6cd
END:VEVENT
BEGIN:VEVENT
ATTENDEE;CN=Нуруллаев Эльмар Джаннаталиевич:ht
 tps://public.mai.ru/schedule/data/0014de41-1d9a-11e0-9baf-1c6f65450efa.jso
 n
DESCRIPTION:Преподаватель: Нуруллаев Эльмар Д
 жаннаталиевич
DTSTAMP:20260422T115540Z
DTSTART:20260314T090000Z
DURATION:PT7H15M
LOCATION:11-34
SEQUENCE:0
SUMMARY:[ЛК\,ПЗ 4п.]Надежность изделий и систе
 м РКТ (Нуруллаев Эльмар Джаннаталиевич)
UID:7accd23c-5623-4b86-bdac-88b4cf9fcb5b
END:VEVENT
BEGIN:VEVENT
ATTENDEE;CN=Федотов Дмитрий Михайлович:https://publ
 ic.mai.ru/schedule/data/79d46467-1d99-11e0-9baf-1c6f65450efa.json
DESCRIPTION:Преподаватель: Федотов Дмитрий Ми
 хайлович
DTSTAMP:20260422T115540Z
DTSTART:20260317T181500Z
DURATION:PT3H15M
LOCATION:24-402
SEQUENCE:0
SUMMARY:[ПЗ 2п.]Научный семинар по ракетным си
 стемам и космонавтике (Федотов Дмитрий М
 ихайлович)
UID:ab87a21c-571f-4e5a-a7e7-7ba35f8de6a0
END:VEVENT
BEGIN:VEVENT
ATTENDEE;CN=Одинцова Екатерина Игоревна:https://pu
 blic.mai.ru/schedule/data/c87c2d40-1fd2-11e1-a954-00304866c649.json
DESCRIPTION:Преподаватель: Одинцова Екатерина
  Игоревна
DTSTAMP:20260422T115540Z
DTSTART:20260319T181500Z
DURATION:PT3H15M
LOCATION:24-709
SEQUENCE:0
SUMMARY:[ЛР 2п.]Технологии искусственного инт
 еллекта в инженерной и управленческой д
 еятельности (Одинцова Екатерина Игоревн
 а)
UID:4c0bd9f6-713f-4806-a564-75e1324b9b4b
END:VEVENT
BEGIN:VEVENT
ATTENDEE;CN=Одинцова Екатерина Игоревна:https://pu
 blic.mai.ru/schedule/data/c87c2d40-1fd2-11e1-a954-00304866c649.json
DESCRIPTION:Преподаватель: Одинцова Екатерина
  Игоревна
DTSTAMP:20260422T115540Z
DTSTART:20260324T181500Z
DURATION:PT3H15M
LOCATION:24-709
SEQUENCE:0
SUMMARY:[ЛК 2п.]Технологии искусственного инт
 еллекта в инженерной и управленческой д
 еятельности (Одинцова Екатерина Игоревн
 а)
UID:7134222c-a11d-4133-85bb-009a5c691b5f
END:VEVENT
BEGIN:VEVENT
ATTENDEE;CN=Нуруллаев Эльмар Джаннаталиевич:ht
 tps://public.mai.ru/schedule/data/0014de41-1d9a-11e0-9baf-1c6f65450efa.jso
 n
DESCRIPTION:Преподаватель: Нуруллаев Эльмар Д
 жаннаталиевич
DTSTAMP:20260422T115540Z
DTSTART:20260328T090000Z
DURATION:PT7H15M
LOCATION:11-34
SEQUENCE:0
SUMMARY:[ЛК\,ПЗ 4п.]Надежность изделий и систе
 м РКТ (Нуруллаев Эльмар Джаннаталиевич)
UID:73f0dccf-a2aa-4831-a333-e1aa0b8564a1
END:VEVENT
BEGIN:VEVENT
ATTENDEE;CN=Федотов Дмитрий Михайлович:https://publ
 ic.mai.ru/schedule/data/79d46467-1d99-11e0-9baf-1c6f65450efa.json
DESCRIPTION:Преподаватель: Федотов Дмитрий Ми
 хайлович
DTSTAMP:20260422T115540Z
DTSTART:20260331T181500Z
DURATION:PT3H15M
LOCATION:24-402
SEQUENCE:0
SUMMARY:[ПЗ 2п.]Научный семинар по ракетным си
 стемам и космонавтике (Федотов Дмитрий М
 ихайлович)
UID:86854b97-dd45-4a32-93a6-b4921e8ef4e9
END:VEVENT
BEGIN:VEVENT
ATTENDEE;CN=Одинцова Екатерина Игоревна:https://pu
 blic.mai.ru/schedule/data/c87c2d40-1fd2-11e1-a954-00304866c649.json
DESCRIPTION:Преподаватель: Одинцова Екатерина
  Игоревна
DTSTAMP:20260422T115540Z
DTSTART:20260402T181500Z
DURATION:PT3H15M
LOCATION:24-709
SEQUENCE:0
SUMMARY:[ЛР 2п.]Технологии искусственного инт
 еллекта в инженерной и управленческой д
 еятельности (Одинцова Екатерина Игоревн
 а)
UID:60daafdb-7742-4acc-8acc-89b4f407ed14
END:VEVENT
BEGIN:VEVENT
ATTENDEE;CN=Одинцова Екатерина Игоревна:https://pu
 blic.mai.ru/schedule/data/c87c2d40-1fd2-11e1-a954-00304866c649.json
DESCRIPTION:Преподаватель: Одинцова Екатерина
  Игоревна
DTSTAMP:20260422T115540Z
DTSTART:20260407T181500Z
DURATION:PT3H15M
LOCATION:24-709
SEQUENCE:0
SUMMARY:[ЛК 2п.]Технологии искусственного инт
 еллекта в инженерной и управленческой д
 еятельности (Одинцова Екатерина Игоревн
 а)
UID:e3e64e9a-2177-44dc-9265-7d5d3973eba4
END:VEVENT
BEGIN:VEVENT
ATTENDEE;CN=Нуруллаев Эльмар Джаннаталиевич:ht
 tps://public.mai.ru/schedule/data/0014de41-1d9a-11e0-9baf-1c6f65450efa.jso
 n
DESCRIPTION:Преподаватель: Нуруллаев Эльмар Д
 жаннаталиевич
DTSTAMP:20260422T115540Z
DTSTART:20260411T090000Z
DURATION:PT7H15M
LOCATION:11-34
SEQUENCE:0
SUMMARY:[ЛК\,ПЗ 4п.]Надежность изделий и систе
 м РКТ (Нуруллаев Эльмар Джаннаталиевич)
UID:d641e83a-7fbe-4c3f-ab34-616289aa3d4d
END:VEVENT
BEGIN:VEVENT
ATTENDEE;CN=Федотов Дмитрий Михайлович:https://publ
 ic.mai.ru/schedule/data/79d46467-1d99-11e0-9baf-1c6f65450efa.json
DESCRIPTION:Преподаватель: Федотов Дмитрий Ми
 хайлович
DTSTAMP:20260422T115540Z
DTSTART:20260414T181500Z
DURATION:PT3H15M
LOCATION:24-402
SEQUENCE:0
SUMMARY:[ПЗ 2п.]Научный семинар по ракетным си
 стемам и космонавтике (Федотов Дмитрий М
 ихайлович)
UID:b047a2f3-3aee-4969-8d4d-3ddf05959bed
END:VEVENT
BEGIN:VEVENT
ATTENDEE;CN=Одинцова Екатерина Игоревна:https://pu
 blic.mai.ru/schedule/data/c87c2d40-1fd2-11e1-a954-00304866c649.json
DESCRIPTION:Преподаватель: Одинцова Екатерина
  Игоревна
DTSTAMP:20260422T115540Z
DTSTART:20260416T181500Z
DURATION:PT3H15M
LOCATION:24-709
SEQUENCE:0
SUMMARY:[ЛР 2п.]Технологии искусственного инт
 еллекта в инженерной и управленческой д
 еятельности (Одинцова Екатерина Игоревн
 а)
UID:88c007a0-97e7-47fd-8eb6-86c4e0da1198
END:VEVENT
BEGIN:VEVENT
ATTENDEE;CN=Одинцова Екатерина Игоревна:https://pu
 blic.mai.ru/schedule/data/c87c2d40-1fd2-11e1-a954-00304866c649.json
DESCRIPTION:Преподаватель: Одинцова Екатерина
  Игоревна
DTSTAMP:20260422T115540Z
DTSTART:20260421T181500Z
DURATION:PT3H15M
LOCATION:24-709
SEQUENCE:0
SUMMARY:[ЛК 2п.]Технологии искусственного инт
 еллекта в инженерной и управленческой д
 еятельности (Одинцова Екатерина Игоревн
 а)
UID:9e99634a-2c7c-40b3-8521-ed40401a97f4
END:VEVENT
BEGIN:VEVENT
ATTENDEE;CN=Нуруллаев Эльмар Джаннаталиевич:ht
 tps://public.mai.ru/schedule/data/0014de41-1d9a-11e0-9baf-1c6f65450efa.jso
 n
DESCRIPTION:Преподаватель: Нуруллаев Эльмар Д
 жаннаталиевич
DTSTAMP:20260422T115540Z
DTSTART:20260425T090000Z
DURATION:PT7H15M
LOCATION:11-34
SEQUENCE:0
SUMMARY:[ЛК\,ПЗ 4п.]Надежность изделий и систе
 м РКТ (Нуруллаев Эльмар Джаннаталиевич)
UID:0c9a55b2-9586-4422-b5bb-a7af314dca13
END:VEVENT
BEGIN:VEVENT
ATTENDEE;CN=Федотов Дмитрий Михайлович:https://publ
 ic.mai.ru/schedule/data/79d46467-1d99-11e0-9baf-1c6f65450efa.json
DESCRIPTION:Преподаватель: Федотов Дмитрий Ми
 хайлович
DTSTAMP:20260422T115540Z
DTSTART:20260428T181500Z
DURATION:PT3H15M
LOCATION:24-402
SEQUENCE:0
SUMMARY:[ПЗ 2п.]Научный семинар по ракетным си
 стемам и космонавтике (Федотов Дмитрий М
 ихайлович)
UID:7e7f0a72-8b58-4e8c-b88f-400bc6b74bf2
END:VEVENT
BEGIN:VEVENT
ATTENDEE;CN=Одинцова Екатерина Игоревна:https://pu
 blic.mai.ru/schedule/data/c87c2d40-1fd2-11e1-a954-00304866c649.json
DESCRIPTION:Преподаватель: Одинцова Екатерина
  Игоревна
DTSTAMP:20260422T115540Z
DTSTART:20260505T181500Z
DURATION:PT3H15M
LOCATION:24-709
SEQUENCE:0
SUMMARY:[ЛК 2п.]Технологии искусственного инт
 еллекта в инженерной и управленческой д
 еятельности (Одинцова Екатерина Игоревн
 а)
UID:52d8fb88-3104-462a-9907-39c111dcf82a
END:VEVENT
BEGIN:VEVENT
ATTENDEE;CN=Федотов Дмитрий Михайлович:https://publ
 ic.mai.ru/schedule/data/79d46467-1d99-11e0-9baf-1c6f65450efa.json
DESCRIPTION:Преподаватель: Федотов Дмитрий Ми
 хайлович
DTSTAMP:20260422T115540Z
DTSTART:20260512T181500Z
DURATION:PT3H15M
LOCATION:24-402
SEQUENCE:0
SUMMARY:[ПЗ 2п.]Научный семинар по ракетным си
 стемам и космонавтике (Федотов Дмитрий М
 ихайлович)
UID:0b9b289a-66a7-49a7-b4a7-75376c6b47a8
END:VEVENT
BEGIN:VEVENT
ATTENDEE;CN=Федотов Дмитрий Михайлович:https://publ
 ic.mai.ru/schedule/data/79d46467-1d99-11e0-9baf-1c6f65450efa.json
DESCRIPTION:Преподаватель: Федотов Дмитрий Ми
 хайлович
DTSTAMP:20260422T115540Z
DTSTART:20260526T181500Z
DURATION:PT3H15M
LOCATION:24-402
SEQUENCE:0
SUMMARY:[ПЗ 2п.]Научный семинар по ракетным си
 стемам и космонавтике (Федотов Дмитрий М
 ихайлович)
UID:45bbb210-48e3-4663-ba15-3473568dd31b
END:VEVENT
END:VCALENDAR
