﻿BEGIN:VCALENDAR
CALSCALE:GREGORIAN
METHOD:PUBLISH
PRODID:-//MAI-dep406//MAI Dep406 1.01//RU
VERSION:2.0
X-WR-TIMEZONE:Europe/Moscow
BEGIN:VTIMEZONE
TZID:Europe/Moscow
X-LIC-LOCATION:Europe/Moscow
BEGIN:STANDARD
DTSTART;VALUE=DATE:19700101
TZNAME:GMT+3
TZOFFSETTO:+0300
END:STANDARD
END:VTIMEZONE
BEGIN:VEVENT
ATTENDEE;CN=Лысаков Николай Дмитриевич:https://publ
 ic.mai.ru/schedule/data/e5d29ea9-5b22-11e2-91ec-3cd92bf20bfe.json
DESCRIPTION:Преподаватель: Лысаков Николай Дм
 итриевич
DTSTAMP:20260421T184919Z
DTSTART:20260304T163000Z
DURATION:PT3H15M
LOCATION:Орш. В-501
SEQUENCE:0
SUMMARY:[ЛК 2п.]Педагогика и психология высше
 й школы (Лысаков Николай Дмитриевич)
UID:e18fbcda-3bbc-4c2e-8c75-af39a5607caa
END:VEVENT
BEGIN:VEVENT
ATTENDEE;CN=Старков Александр Владимирович:http
 s://public.mai.ru/schedule/data/6c63f7a6-1d99-11e0-9baf-1c6f65450efa.json
DESCRIPTION:Преподаватель: Старков Александр 
 Владимирович
DTSTAMP:20260421T184919Z
DTSTART:20260316T163000Z
DURATION:PT5H
LOCATION:24-312
SEQUENCE:0
SUMMARY:[ЛК\,ПЗ 3п.]Системный анализ\, управлен
 ие и обработка информации (Старков Алекс
 андр Владимирович)
UID:9e0b0434-5ebb-49be-ba00-5db574f24f45
END:VEVENT
BEGIN:VEVENT
ATTENDEE;CN=Лысаков Николай Дмитриевич:https://publ
 ic.mai.ru/schedule/data/e5d29ea9-5b22-11e2-91ec-3cd92bf20bfe.json
DESCRIPTION:Преподаватель: Лысаков Николай Дм
 итриевич
DTSTAMP:20260421T184919Z
DTSTART:20260318T163000Z
DURATION:PT3H15M
LOCATION:Орш. В-501
SEQUENCE:0
SUMMARY:[ЛК 2п.]Педагогика и психология высше
 й школы (Лысаков Николай Дмитриевич)
UID:e9f210d7-bfdf-400f-a9f0-aebe2095cf2b
END:VEVENT
BEGIN:VEVENT
ATTENDEE;CN=Старков Александр Владимирович:http
 s://public.mai.ru/schedule/data/6c63f7a6-1d99-11e0-9baf-1c6f65450efa.json
DESCRIPTION:Преподаватель: Старков Александр 
 Владимирович
DTSTAMP:20260421T184919Z
DTSTART:20260323T163000Z
DURATION:PT5H
LOCATION:24-312
SEQUENCE:0
SUMMARY:[ЛК\,ПЗ 3п.]Системный анализ\, управлен
 ие и обработка информации (Старков Алекс
 андр Владимирович)
UID:54afbedb-a2ba-4e4d-8f7d-f61174f7c9ed
END:VEVENT
BEGIN:VEVENT
ATTENDEE;CN=Старков Александр Владимирович:http
 s://public.mai.ru/schedule/data/6c63f7a6-1d99-11e0-9baf-1c6f65450efa.json
DESCRIPTION:Преподаватель: Старков Александр 
 Владимирович
DTSTAMP:20260421T184919Z
DTSTART:20260330T163000Z
DURATION:PT5H
LOCATION:24-312
SEQUENCE:0
SUMMARY:[ЛК\,ПЗ 3п.]Системный анализ\, управлен
 ие и обработка информации (Старков Алекс
 андр Владимирович)
UID:ded1cddc-6bdf-4647-86e8-910621227749
END:VEVENT
BEGIN:VEVENT
ATTENDEE;CN=Лысаков Николай Дмитриевич:https://publ
 ic.mai.ru/schedule/data/e5d29ea9-5b22-11e2-91ec-3cd92bf20bfe.json
DESCRIPTION:Преподаватель: Лысаков Николай Дм
 итриевич
DTSTAMP:20260421T184919Z
DTSTART:20260401T163000Z
DURATION:PT1H30M
LOCATION:Орш. В-501
SEQUENCE:0
SUMMARY:[ЛК 1п.]Педагогика и психология высше
 й школы (Лысаков Николай Дмитриевич)
UID:19a9ee51-006b-45b0-a3ba-ba1ce30cf654
END:VEVENT
BEGIN:VEVENT
ATTENDEE;CN=Старков Александр Владимирович:http
 s://public.mai.ru/schedule/data/6c63f7a6-1d99-11e0-9baf-1c6f65450efa.json
DESCRIPTION:Преподаватель: Старков Александр 
 Владимирович
DTSTAMP:20260421T184919Z
DTSTART:20260406T163000Z
DURATION:PT5H
LOCATION:24-312
SEQUENCE:0
SUMMARY:[ЛК\,ПЗ 3п.]Системный анализ\, управлен
 ие и обработка информации (Старков Алекс
 андр Владимирович)
UID:33649acf-5b22-4eeb-a5ab-c61ba9f38549
END:VEVENT
BEGIN:VEVENT
ATTENDEE;CN=Гриб Елена Витальевна:https://public.mai.ru/
 schedule/data/eb7d5e24-1d99-11e0-9baf-1c6f65450efa.json
DESCRIPTION:Преподаватель: Гриб Елена Виталье
 вна
DTSTAMP:20260421T184919Z
DTSTART:20260408T163000Z
DURATION:PT3H15M
LOCATION:3-115
SEQUENCE:0
SUMMARY:[ПЗ 2п.]Педагогика и психология высше
 й школы (Гриб Елена Витальевна)
UID:e90a424a-ffc5-42d5-959e-39e758400354
END:VEVENT
BEGIN:VEVENT
ATTENDEE;CN=Старков Александр Владимирович:http
 s://public.mai.ru/schedule/data/6c63f7a6-1d99-11e0-9baf-1c6f65450efa.json
DESCRIPTION:Преподаватель: Старков Александр 
 Владимирович
DTSTAMP:20260421T184919Z
DTSTART:20260413T163000Z
DURATION:PT5H
LOCATION:24-312
SEQUENCE:0
SUMMARY:[ЛК\,ПЗ 3п.]Системный анализ\, управлен
 ие и обработка информации (Старков Алекс
 андр Владимирович)
UID:6c40ccd3-24db-4b8e-a32f-7359703620f2
END:VEVENT
BEGIN:VEVENT
ATTENDEE;CN=Старков Александр Владимирович:http
 s://public.mai.ru/schedule/data/6c63f7a6-1d99-11e0-9baf-1c6f65450efa.json
DESCRIPTION:Преподаватель: Старков Александр 
 Владимирович
DTSTAMP:20260421T184919Z
DTSTART:20260420T163000Z
DURATION:PT5H
LOCATION:24-312
SEQUENCE:0
SUMMARY:[ЛК\,ПЗ 3п.]Системный анализ\, управлен
 ие и обработка информации (Старков Алекс
 андр Владимирович)
UID:0bacd969-c8a5-49af-a881-d03d1cb9dc1f
END:VEVENT
BEGIN:VEVENT
ATTENDEE;CN=Гриб Елена Витальевна:https://public.mai.ru/
 schedule/data/eb7d5e24-1d99-11e0-9baf-1c6f65450efa.json
DESCRIPTION:Преподаватель: Гриб Елена Виталье
 вна
DTSTAMP:20260421T184919Z
DTSTART:20260422T163000Z
DURATION:PT3H15M
LOCATION:3-115
SEQUENCE:0
SUMMARY:[ПЗ 2п.]Педагогика и психология высше
 й школы (Гриб Елена Витальевна)
UID:980b3969-2562-4d65-a293-d0a17b815f2c
END:VEVENT
BEGIN:VEVENT
ATTENDEE;CN=Старков Александр Владимирович:http
 s://public.mai.ru/schedule/data/6c63f7a6-1d99-11e0-9baf-1c6f65450efa.json
DESCRIPTION:Преподаватель: Старков Александр 
 Владимирович
DTSTAMP:20260421T184919Z
DTSTART:20260427T163000Z
DURATION:PT5H
LOCATION:24-312
SEQUENCE:0
SUMMARY:[ЛК\,ПЗ 3п.]Системный анализ\, управлен
 ие и обработка информации (Старков Алекс
 андр Владимирович)
UID:57319085-913c-441a-a446-da639619dc5a
END:VEVENT
BEGIN:VEVENT
ATTENDEE;CN=Старков Александр Владимирович:http
 s://public.mai.ru/schedule/data/6c63f7a6-1d99-11e0-9baf-1c6f65450efa.json
DESCRIPTION:Преподаватель: Старков Александр 
 Владимирович
DTSTAMP:20260421T184919Z
DTSTART:20260504T163000Z
DURATION:PT5H
LOCATION:24-312
SEQUENCE:0
SUMMARY:[ЛК\,ПЗ 3п.]Системный анализ\, управлен
 ие и обработка информации (Старков Алекс
 андр Владимирович)
UID:6fee79a3-3db2-44e3-8210-221804c20e70
END:VEVENT
BEGIN:VEVENT
ATTENDEE;CN=Старков Александр Владимирович:http
 s://public.mai.ru/schedule/data/6c63f7a6-1d99-11e0-9baf-1c6f65450efa.json
DESCRIPTION:Преподаватель: Старков Александр 
 Владимирович
DTSTAMP:20260421T184919Z
DTSTART:20260511T163000Z
DURATION:PT5H
LOCATION:24-312
SEQUENCE:0
SUMMARY:[ЛК\,ПЗ 3п.]Системный анализ\, управлен
 ие и обработка информации (Старков Алекс
 андр Владимирович)
UID:3d3a87c7-5be0-4359-8365-d11c7fb5d413
END:VEVENT
BEGIN:VEVENT
ATTENDEE;CN=Старков Александр Владимирович:http
 s://public.mai.ru/schedule/data/6c63f7a6-1d99-11e0-9baf-1c6f65450efa.json
DESCRIPTION:Преподаватель: Старков Александр 
 Владимирович
DTSTAMP:20260421T184919Z
DTSTART:20260518T163000Z
DURATION:PT5H
LOCATION:24-312
SEQUENCE:0
SUMMARY:[ПЗ\,ЛК 3п.]Системный анализ\, управлен
 ие и обработка информации (Старков Алекс
 андр Владимирович)
UID:1421d91c-781a-4468-b040-a18a2c7bccbb
END:VEVENT
BEGIN:VEVENT
ATTENDEE;CN=Старков Александр Владимирович:http
 s://public.mai.ru/schedule/data/6c63f7a6-1d99-11e0-9baf-1c6f65450efa.json
DESCRIPTION:Преподаватель: Старков Александр 
 Владимирович
DTSTAMP:20260421T184919Z
DTSTART:20260525T163000Z
DURATION:PT5H
LOCATION:24-312
SEQUENCE:0
SUMMARY:[ПЗ 3п.]Системный анализ\, управление 
 и обработка информации (Старков Алексан
 др Владимирович)
UID:a112798a-06c2-44c2-a071-5ceada33930a
END:VEVENT
BEGIN:VEVENT
ATTENDEE;CN=Старков Александр Владимирович:http
 s://public.mai.ru/schedule/data/6c63f7a6-1d99-11e0-9baf-1c6f65450efa.json
DESCRIPTION:Преподаватель: Старков Александр 
 Владимирович
DTSTAMP:20260421T184919Z
DTSTART:20260601T163000Z
DURATION:PT3H15M
LOCATION:24-312
SEQUENCE:0
SUMMARY:[ПЗ 2п.]Системный анализ\, управление 
 и обработка информации (Старков Алексан
 др Владимирович)
UID:3cf58aa3-5852-45ff-a708-42aba70dfba2
END:VEVENT
BEGIN:VEVENT
ATTENDEE;CN=Старков Александр Владимирович:http
 s://public.mai.ru/schedule/data/6c63f7a6-1d99-11e0-9baf-1c6f65450efa.json
DESCRIPTION:Преподаватель: Старков Александр 
 Владимирович
DTSTAMP:20260421T184919Z
DTSTART:20260629T163000Z
DURATION:PT1H30M
LOCATION:24-312
SEQUENCE:0
SUMMARY:[Экзамен 1п.]Системный анализ\, управл
 ение и обработка информации (Старков Але
 ксандр Владимирович)
UID:95045136-ebb9-4eb6-82e0-382e28d75380
END:VEVENT
END:VCALENDAR
