﻿BEGIN:VCALENDAR
CALSCALE:GREGORIAN
METHOD:PUBLISH
PRODID:-//MAI-dep406//MAI Dep406 1.01//RU
VERSION:2.0
X-WR-TIMEZONE:Europe/Moscow
BEGIN:VTIMEZONE
TZID:Europe/Moscow
X-LIC-LOCATION:Europe/Moscow
BEGIN:STANDARD
DTSTART;VALUE=DATE:19700101
TZNAME:GMT+3
TZOFFSETTO:+0300
END:STANDARD
END:VTIMEZONE
BEGIN:VEVENT
ATTENDEE;CN=Малышев Вениамин Васильевич:https://pu
 blic.mai.ru/schedule/data/65f93dd8-1d99-11e0-9baf-1c6f65450efa.json
DESCRIPTION:Преподаватель: Малышев Вениамин В
 асильевич
DTSTAMP:20260425T174825Z
DTSTART:20260212T163000Z
DURATION:PT3H15M
LOCATION:24-314
SEQUENCE:0
SUMMARY:[ЛК\,ПЗ 2п.]Анализ и синтез информацио
 нных спутниковых систем (Малышев Вениам
 ин Васильевич)
UID:3d5c8844-ed31-45c2-a2f8-9d96c386dcf9
END:VEVENT
BEGIN:VEVENT
ATTENDEE;CN=Юдин Андрей Дмитриевич:https://public.mai.r
 u/schedule/data/d188a545-4f80-11ed-bbea-ac1f6b64c5eb.json
DESCRIPTION:Преподаватель: Юдин Андрей Дмитри
 евич
DTSTAMP:20260425T174825Z
DTSTART:20260213T163000Z
DURATION:PT3H15M
LOCATION:24-314
SEQUENCE:0
SUMMARY:[ЛК 2п.]Перспективные технологии в АК
 С (Юдин Андрей Дмитриевич)
UID:86e36d68-b87d-427b-afa3-44f08cfa7d1d
END:VEVENT
BEGIN:VEVENT
ATTENDEE;CN=Малышев Вениамин Васильевич:https://pu
 blic.mai.ru/schedule/data/65f93dd8-1d99-11e0-9baf-1c6f65450efa.json
DESCRIPTION:Преподаватель: Малышев Вениамин В
 асильевич
DTSTAMP:20260425T174825Z
DTSTART:20260219T163000Z
DURATION:PT3H15M
LOCATION:24-314
SEQUENCE:0
SUMMARY:[ЛК\,ПЗ 2п.]Анализ и синтез информацио
 нных спутниковых систем (Малышев Вениам
 ин Васильевич)
UID:e16fa9f3-8b4e-4874-8d2b-a96fe2fc99e1
END:VEVENT
BEGIN:VEVENT
ATTENDEE;CN=Малышев Вениамин Васильевич:https://pu
 blic.mai.ru/schedule/data/65f93dd8-1d99-11e0-9baf-1c6f65450efa.json
DESCRIPTION:Преподаватель: Малышев Вениамин В
 асильевич
DTSTAMP:20260425T174825Z
DTSTART:20260226T163000Z
DURATION:PT3H15M
LOCATION:24-314
SEQUENCE:0
SUMMARY:[ЛК\,ПЗ 2п.]Анализ и синтез информацио
 нных спутниковых систем (Малышев Вениам
 ин Васильевич)
UID:46f60971-9036-44d7-b242-af2678d187a5
END:VEVENT
BEGIN:VEVENT
ATTENDEE;CN=Юдин Андрей Дмитриевич:https://public.mai.r
 u/schedule/data/d188a545-4f80-11ed-bbea-ac1f6b64c5eb.json
DESCRIPTION:Преподаватель: Юдин Андрей Дмитри
 евич
DTSTAMP:20260425T174825Z
DTSTART:20260227T163000Z
DURATION:PT3H15M
LOCATION:24-314
SEQUENCE:0
SUMMARY:[ЛК 2п.]Перспективные технологии в АК
 С (Юдин Андрей Дмитриевич)
UID:e5e201b6-8fda-4b5b-aa4f-1fe1e5c3e5ac
END:VEVENT
BEGIN:VEVENT
ATTENDEE;CN=Малышев Вениамин Васильевич:https://pu
 blic.mai.ru/schedule/data/65f93dd8-1d99-11e0-9baf-1c6f65450efa.json
DESCRIPTION:Преподаватель: Малышев Вениамин В
 асильевич
DTSTAMP:20260425T174825Z
DTSTART:20260305T163000Z
DURATION:PT3H15M
LOCATION:24-314
SEQUENCE:0
SUMMARY:[ЛК\,ПЗ 2п.]Анализ и синтез информацио
 нных спутниковых систем (Малышев Вениам
 ин Васильевич)
UID:0bb6479e-9ecc-409d-93c6-f70367d396da
END:VEVENT
BEGIN:VEVENT
ATTENDEE;CN=Малышев Вениамин Васильевич:https://pu
 blic.mai.ru/schedule/data/65f93dd8-1d99-11e0-9baf-1c6f65450efa.json
DESCRIPTION:Преподаватель: Малышев Вениамин В
 асильевич
DTSTAMP:20260425T174825Z
DTSTART:20260312T163000Z
DURATION:PT3H15M
LOCATION:24-314
SEQUENCE:0
SUMMARY:[ЛК\,ПЗ 2п.]Анализ и синтез информацио
 нных спутниковых систем (Малышев Вениам
 ин Васильевич)
UID:75cf6484-345f-4c4d-8e71-b3e23fe15a01
END:VEVENT
BEGIN:VEVENT
ATTENDEE;CN=Юдин Андрей Дмитриевич:https://public.mai.r
 u/schedule/data/d188a545-4f80-11ed-bbea-ac1f6b64c5eb.json
DESCRIPTION:Преподаватель: Юдин Андрей Дмитри
 евич
DTSTAMP:20260425T174825Z
DTSTART:20260313T163000Z
DURATION:PT3H15M
LOCATION:24-314
SEQUENCE:0
SUMMARY:[ЛК 2п.]Перспективные технологии в АК
 С (Юдин Андрей Дмитриевич)
UID:90248171-b124-4494-a4d2-9ad7aa03644c
END:VEVENT
BEGIN:VEVENT
ATTENDEE;CN=Малышев Вениамин Васильевич:https://pu
 blic.mai.ru/schedule/data/65f93dd8-1d99-11e0-9baf-1c6f65450efa.json
DESCRIPTION:Преподаватель: Малышев Вениамин В
 асильевич
DTSTAMP:20260425T174825Z
DTSTART:20260319T163000Z
DURATION:PT3H15M
LOCATION:24-314
SEQUENCE:0
SUMMARY:[ЛК\,ПЗ 2п.]Анализ и синтез информацио
 нных спутниковых систем (Малышев Вениам
 ин Васильевич)
UID:d9931b9d-9f2b-4cc4-a11a-ac9e915f3f87
END:VEVENT
BEGIN:VEVENT
ATTENDEE;CN=Малышев Вениамин Васильевич:https://pu
 blic.mai.ru/schedule/data/65f93dd8-1d99-11e0-9baf-1c6f65450efa.json
DESCRIPTION:Преподаватель: Малышев Вениамин В
 асильевич
DTSTAMP:20260425T174825Z
DTSTART:20260326T163000Z
DURATION:PT3H15M
LOCATION:24-314
SEQUENCE:0
SUMMARY:[ЛК\,ПЗ 2п.]Анализ и синтез информацио
 нных спутниковых систем (Малышев Вениам
 ин Васильевич)
UID:694f02ca-4dea-49d1-b8a1-893bee2f9cae
END:VEVENT
BEGIN:VEVENT
ATTENDEE;CN=Юдин Андрей Дмитриевич:https://public.mai.r
 u/schedule/data/d188a545-4f80-11ed-bbea-ac1f6b64c5eb.json
DESCRIPTION:Преподаватель: Юдин Андрей Дмитри
 евич
DTSTAMP:20260425T174825Z
DTSTART:20260327T163000Z
DURATION:PT3H15M
LOCATION:24-314
SEQUENCE:0
SUMMARY:[ПЗ 2п.]Перспективные технологии в АК
 С (Юдин Андрей Дмитриевич)
UID:668ca14b-463a-4075-9b74-83910704df8f
END:VEVENT
BEGIN:VEVENT
ATTENDEE;CN=Юдин Андрей Дмитриевич:https://public.mai.r
 u/schedule/data/d188a545-4f80-11ed-bbea-ac1f6b64c5eb.json
DESCRIPTION:Преподаватель: Юдин Андрей Дмитри
 евич
DTSTAMP:20260425T174825Z
DTSTART:20260330T181500Z
DURATION:PT3H15M
LOCATION:24-318Б
SEQUENCE:0
SUMMARY:[ЛР 2п.]Перспективные технологии в АК
 С (Юдин Андрей Дмитриевич)
UID:1749f793-b040-44eb-8c77-18db383b33a1
END:VEVENT
BEGIN:VEVENT
ATTENDEE;CN=Малышев Вениамин Васильевич:https://pu
 blic.mai.ru/schedule/data/65f93dd8-1d99-11e0-9baf-1c6f65450efa.json
DESCRIPTION:Преподаватель: Малышев Вениамин В
 асильевич
DTSTAMP:20260425T174825Z
DTSTART:20260402T163000Z
DURATION:PT3H15M
LOCATION:24-314
SEQUENCE:0
SUMMARY:[ЛК\,ПЗ 2п.]Анализ и синтез информацио
 нных спутниковых систем (Малышев Вениам
 ин Васильевич)
UID:740363d8-29c1-4923-a1c9-de7111ba7dd1
END:VEVENT
BEGIN:VEVENT
ATTENDEE;CN=Малышев Вениамин Васильевич:https://pu
 blic.mai.ru/schedule/data/65f93dd8-1d99-11e0-9baf-1c6f65450efa.json
DESCRIPTION:Преподаватель: Малышев Вениамин В
 асильевич
DTSTAMP:20260425T174825Z
DTSTART:20260409T163000Z
DURATION:PT3H15M
LOCATION:24-314
SEQUENCE:0
SUMMARY:[ЛК\,ПЗ 2п.]Анализ и синтез информацио
 нных спутниковых систем (Малышев Вениам
 ин Васильевич)
UID:fdfd38ce-4605-4133-813f-e8b4ca908c30
END:VEVENT
BEGIN:VEVENT
ATTENDEE;CN=Юдин Андрей Дмитриевич:https://public.mai.r
 u/schedule/data/d188a545-4f80-11ed-bbea-ac1f6b64c5eb.json
DESCRIPTION:Преподаватель: Юдин Андрей Дмитри
 евич
DTSTAMP:20260425T174825Z
DTSTART:20260410T163000Z
DURATION:PT3H15M
LOCATION:24-314
SEQUENCE:0
SUMMARY:[ПЗ 2п.]Перспективные технологии в АК
 С (Юдин Андрей Дмитриевич)
UID:e0ef8e58-a17c-4f16-875a-a7b4c718096f
END:VEVENT
BEGIN:VEVENT
ATTENDEE;CN=Юдин Андрей Дмитриевич:https://public.mai.r
 u/schedule/data/d188a545-4f80-11ed-bbea-ac1f6b64c5eb.json
DESCRIPTION:Преподаватель: Юдин Андрей Дмитри
 евич
DTSTAMP:20260425T174825Z
DTSTART:20260413T181500Z
DURATION:PT3H15M
LOCATION:24-318Б
SEQUENCE:0
SUMMARY:[ЛР 2п.]Перспективные технологии в АК
 С (Юдин Андрей Дмитриевич)
UID:10795e56-d8a3-46c9-9c6d-7cb2bd97a369
END:VEVENT
BEGIN:VEVENT
ATTENDEE;CN=Малышев Вениамин Васильевич:https://pu
 blic.mai.ru/schedule/data/65f93dd8-1d99-11e0-9baf-1c6f65450efa.json
DESCRIPTION:Преподаватель: Малышев Вениамин В
 асильевич
DTSTAMP:20260425T174825Z
DTSTART:20260416T163000Z
DURATION:PT3H15M
LOCATION:24-314
SEQUENCE:0
SUMMARY:[ЛК\,ПЗ 2п.]Анализ и синтез информацио
 нных спутниковых систем (Малышев Вениам
 ин Васильевич)
UID:9f82d6fc-65c9-4062-a935-262dbc03c15a
END:VEVENT
BEGIN:VEVENT
ATTENDEE;CN=Малышев Вениамин Васильевич:https://pu
 blic.mai.ru/schedule/data/65f93dd8-1d99-11e0-9baf-1c6f65450efa.json
DESCRIPTION:Преподаватель: Малышев Вениамин В
 асильевич
DTSTAMP:20260425T174825Z
DTSTART:20260423T163000Z
DURATION:PT3H15M
LOCATION:24-314
SEQUENCE:0
SUMMARY:[ЛК\,ПЗ 2п.]Анализ и синтез информацио
 нных спутниковых систем (Малышев Вениам
 ин Васильевич)
UID:781fd544-d288-428e-be70-db457ea68148
END:VEVENT
BEGIN:VEVENT
ATTENDEE;CN=Юдин Андрей Дмитриевич:https://public.mai.r
 u/schedule/data/d188a545-4f80-11ed-bbea-ac1f6b64c5eb.json
DESCRIPTION:Преподаватель: Юдин Андрей Дмитри
 евич
DTSTAMP:20260425T174825Z
DTSTART:20260424T163000Z
DURATION:PT3H15M
LOCATION:24-314
SEQUENCE:0
SUMMARY:[ПЗ 2п.]Перспективные технологии в АК
 С (Юдин Андрей Дмитриевич)
UID:35df46e4-d19d-4767-8a18-6e28b9a644c3
END:VEVENT
BEGIN:VEVENT
ATTENDEE;CN=Юдин Андрей Дмитриевич:https://public.mai.r
 u/schedule/data/d188a545-4f80-11ed-bbea-ac1f6b64c5eb.json
DESCRIPTION:Преподаватель: Юдин Андрей Дмитри
 евич
DTSTAMP:20260425T174825Z
DTSTART:20260427T181500Z
DURATION:PT3H15M
LOCATION:24-318Б
SEQUENCE:0
SUMMARY:[ЛР 2п.]Перспективные технологии в АК
 С (Юдин Андрей Дмитриевич)
UID:a5717250-8f0a-4db4-bdc8-d194d6173eaf
END:VEVENT
BEGIN:VEVENT
ATTENDEE;CN=Малышев Вениамин Васильевич:https://pu
 blic.mai.ru/schedule/data/65f93dd8-1d99-11e0-9baf-1c6f65450efa.json
DESCRIPTION:Преподаватель: Малышев Вениамин В
 асильевич
DTSTAMP:20260425T174825Z
DTSTART:20260514T163000Z
DURATION:PT1H30M
LOCATION:24-314
SEQUENCE:0
SUMMARY:[Экзамен 1п.]Анализ и синтез информац
 ионных спутниковых систем (Малышев Вени
 амин Васильевич)
UID:13b0fb16-4ea8-4aad-99e1-64bcc1c6bcf8
END:VEVENT
END:VCALENDAR
