﻿BEGIN:VCALENDAR
CALSCALE:GREGORIAN
METHOD:PUBLISH
PRODID:-//MAI-dep406//MAI Dep406 1.01//RU
VERSION:2.0
X-WR-TIMEZONE:Europe/Moscow
BEGIN:VTIMEZONE
TZID:Europe/Moscow
X-LIC-LOCATION:Europe/Moscow
BEGIN:STANDARD
DTSTART;VALUE=DATE:19700101
TZNAME:GMT+3
TZOFFSETTO:+0300
END:STANDARD
END:VTIMEZONE
BEGIN:VEVENT
ATTENDEE;CN=Константинов Михаил Сергеевич:https:
 //public.mai.ru/schedule/data/65f93dbf-1d99-11e0-9baf-1c6f65450efa.json
DESCRIPTION:Преподаватель: Константинов Михаи
 л Сергеевич
DTSTAMP:20260421T012126Z
DTSTART:20260305T163000Z
DURATION:PT5H
LOCATION:11-26
SEQUENCE:0
SUMMARY:[ЛК\,ПЗ 3п.]Динамика\, баллистика\, упра
 вление движением летательных аппаратов 
 (Константинов Михаил Сергеевич)
UID:60920bef-97e6-471a-a92a-4b8bed67abf8
END:VEVENT
BEGIN:VEVENT
ATTENDEE;CN=Константинов Михаил Сергеевич:https:
 //public.mai.ru/schedule/data/65f93dbf-1d99-11e0-9baf-1c6f65450efa.json
DESCRIPTION:Преподаватель: Константинов Михаи
 л Сергеевич
DTSTAMP:20260421T012126Z
DTSTART:20260312T163000Z
DURATION:PT5H
LOCATION:11-26
SEQUENCE:0
SUMMARY:[ЛК\,ПЗ 3п.]Динамика\, баллистика\, упра
 вление движением летательных аппаратов 
 (Константинов Михаил Сергеевич)
UID:7108a165-5ede-433c-9b01-0dc2c21f15e2
END:VEVENT
BEGIN:VEVENT
ATTENDEE;CN=Константинов Михаил Сергеевич:https:
 //public.mai.ru/schedule/data/65f93dbf-1d99-11e0-9baf-1c6f65450efa.json
DESCRIPTION:Преподаватель: Константинов Михаи
 л Сергеевич
DTSTAMP:20260421T012126Z
DTSTART:20260319T163000Z
DURATION:PT5H
LOCATION:11-26
SEQUENCE:0
SUMMARY:[ЛК\,ПЗ 3п.]Динамика\, баллистика\, упра
 вление движением летательных аппаратов 
 (Константинов Михаил Сергеевич)
UID:1e7ad05f-3550-4bfb-b029-dc0c0fe79a03
END:VEVENT
BEGIN:VEVENT
ATTENDEE;CN=Константинов Михаил Сергеевич:https:
 //public.mai.ru/schedule/data/65f93dbf-1d99-11e0-9baf-1c6f65450efa.json
DESCRIPTION:Преподаватель: Константинов Михаи
 л Сергеевич
DTSTAMP:20260421T012126Z
DTSTART:20260326T163000Z
DURATION:PT5H
LOCATION:11-26
SEQUENCE:0
SUMMARY:[ЛК\,ПЗ 3п.]Динамика\, баллистика\, упра
 вление движением летательных аппаратов 
 (Константинов Михаил Сергеевич)
UID:5dab6840-bf7c-412a-a0c1-19ee64704205
END:VEVENT
BEGIN:VEVENT
ATTENDEE;CN=Константинов Михаил Сергеевич:https:
 //public.mai.ru/schedule/data/65f93dbf-1d99-11e0-9baf-1c6f65450efa.json
DESCRIPTION:Преподаватель: Константинов Михаи
 л Сергеевич
DTSTAMP:20260421T012126Z
DTSTART:20260402T163000Z
DURATION:PT5H
LOCATION:11-26
SEQUENCE:0
SUMMARY:[ЛК\,ПЗ 3п.]Динамика\, баллистика\, упра
 вление движением летательных аппаратов 
 (Константинов Михаил Сергеевич)
UID:a36a9267-cebb-4c00-b89c-4f3bec8cbd71
END:VEVENT
BEGIN:VEVENT
ATTENDEE;CN=Константинов Михаил Сергеевич:https:
 //public.mai.ru/schedule/data/65f93dbf-1d99-11e0-9baf-1c6f65450efa.json
DESCRIPTION:Преподаватель: Константинов Михаи
 л Сергеевич
DTSTAMP:20260421T012126Z
DTSTART:20260409T163000Z
DURATION:PT5H
LOCATION:11-26
SEQUENCE:0
SUMMARY:[ЛК\,ПЗ 3п.]Динамика\, баллистика\, упра
 вление движением летательных аппаратов 
 (Константинов Михаил Сергеевич)
UID:3474888d-1274-4a9d-9f70-832b993d9b5b
END:VEVENT
BEGIN:VEVENT
ATTENDEE;CN=Константинов Михаил Сергеевич:https:
 //public.mai.ru/schedule/data/65f93dbf-1d99-11e0-9baf-1c6f65450efa.json
DESCRIPTION:Преподаватель: Константинов Михаи
 л Сергеевич
DTSTAMP:20260421T012126Z
DTSTART:20260416T163000Z
DURATION:PT5H
LOCATION:11-26
SEQUENCE:0
SUMMARY:[ЛК\,ПЗ 3п.]Динамика\, баллистика\, упра
 вление движением летательных аппаратов 
 (Константинов Михаил Сергеевич)
UID:da214fd4-7c4a-4a06-a815-4c233800f1d9
END:VEVENT
BEGIN:VEVENT
ATTENDEE;CN=Константинов Михаил Сергеевич:https:
 //public.mai.ru/schedule/data/65f93dbf-1d99-11e0-9baf-1c6f65450efa.json
DESCRIPTION:Преподаватель: Константинов Михаи
 л Сергеевич
DTSTAMP:20260421T012126Z
DTSTART:20260423T163000Z
DURATION:PT5H
LOCATION:11-26
SEQUENCE:0
SUMMARY:[ЛК\,ПЗ 3п.]Динамика\, баллистика\, упра
 вление движением летательных аппаратов 
 (Константинов Михаил Сергеевич)
UID:e2d1ceb8-3fe2-49c8-a752-16143d2c4d52
END:VEVENT
BEGIN:VEVENT
ATTENDEE;CN=Константинов Михаил Сергеевич:https:
 //public.mai.ru/schedule/data/65f93dbf-1d99-11e0-9baf-1c6f65450efa.json
DESCRIPTION:Преподаватель: Константинов Михаи
 л Сергеевич
DTSTAMP:20260421T012126Z
DTSTART:20260507T163000Z
DURATION:PT5H
LOCATION:11-26
SEQUENCE:0
SUMMARY:[ЛК\,ПЗ 3п.]Динамика\, баллистика\, упра
 вление движением летательных аппаратов 
 (Константинов Михаил Сергеевич)
UID:d8c91a51-a769-441c-a28f-50431ce78c63
END:VEVENT
BEGIN:VEVENT
ATTENDEE;CN=Константинов Михаил Сергеевич:https:
 //public.mai.ru/schedule/data/65f93dbf-1d99-11e0-9baf-1c6f65450efa.json
DESCRIPTION:Преподаватель: Константинов Михаи
 л Сергеевич
DTSTAMP:20260421T012126Z
DTSTART:20260514T163000Z
DURATION:PT5H
LOCATION:11-26
SEQUENCE:0
SUMMARY:[ЛК\,ПЗ 3п.]Динамика\, баллистика\, упра
 вление движением летательных аппаратов 
 (Константинов Михаил Сергеевич)
UID:bf900042-5a0e-4f27-8e47-2bdf1c273137
END:VEVENT
BEGIN:VEVENT
ATTENDEE;CN=Константинов Михаил Сергеевич:https:
 //public.mai.ru/schedule/data/65f93dbf-1d99-11e0-9baf-1c6f65450efa.json
DESCRIPTION:Преподаватель: Константинов Михаи
 л Сергеевич
DTSTAMP:20260421T012126Z
DTSTART:20260521T163000Z
DURATION:PT3H15M
LOCATION:11-26
SEQUENCE:0
SUMMARY:[ПЗ 2п.]Динамика\, баллистика\, управле
 ние движением летательных аппаратов (Ко
 нстантинов Михаил Сергеевич)
UID:d024ecb1-5506-4edb-b558-cf7f1d94ae4e
END:VEVENT
BEGIN:VEVENT
ATTENDEE;CN=Константинов Михаил Сергеевич:https:
 //public.mai.ru/schedule/data/65f93dbf-1d99-11e0-9baf-1c6f65450efa.json
DESCRIPTION:Преподаватель: Константинов Михаи
 л Сергеевич
DTSTAMP:20260421T012126Z
DTSTART:20260528T163000Z
DURATION:PT3H15M
LOCATION:11-26
SEQUENCE:0
SUMMARY:[ПЗ 2п.]Динамика\, баллистика\, управле
 ние движением летательных аппаратов (Ко
 нстантинов Михаил Сергеевич)
UID:dc2bf46b-d3b9-47f4-a203-e33830b3d474
END:VEVENT
BEGIN:VEVENT
ATTENDEE;CN=Константинов Михаил Сергеевич:https:
 //public.mai.ru/schedule/data/65f93dbf-1d99-11e0-9baf-1c6f65450efa.json
DESCRIPTION:Преподаватель: Константинов Михаи
 л Сергеевич
DTSTAMP:20260421T012126Z
DTSTART:20260604T163000Z
DURATION:PT3H15M
LOCATION:11-26
SEQUENCE:0
SUMMARY:[ПЗ 2п.]Динамика\, баллистика\, управле
 ние движением летательных аппаратов (Ко
 нстантинов Михаил Сергеевич)
UID:1920a183-3035-4caf-956c-3090a52c1bc8
END:VEVENT
BEGIN:VEVENT
ATTENDEE;CN=Константинов Михаил Сергеевич:https:
 //public.mai.ru/schedule/data/65f93dbf-1d99-11e0-9baf-1c6f65450efa.json
DESCRIPTION:Преподаватель: Константинов Михаи
 л Сергеевич
DTSTAMP:20260421T012126Z
DTSTART:20260625T144500Z
DURATION:PT1H30M
LOCATION:11-26
SEQUENCE:0
SUMMARY:[Экзамен 1п.]Динамика\, баллистика\, уп
 равление движением летательных аппарат
 ов (Константинов Михаил Сергеевич)
UID:8d9355d5-81cb-4cc5-b983-57fbf8f61ab0
END:VEVENT
END:VCALENDAR
