﻿BEGIN:VCALENDAR
CALSCALE:GREGORIAN
METHOD:PUBLISH
PRODID:-//MAI-dep406//MAI Dep406 1.01//RU
VERSION:2.0
X-WR-TIMEZONE:Europe/Moscow
BEGIN:VTIMEZONE
TZID:Europe/Moscow
X-LIC-LOCATION:Europe/Moscow
BEGIN:STANDARD
DTSTART;VALUE=DATE:19700101
TZNAME:GMT+3
TZOFFSETTO:+0300
END:STANDARD
END:VTIMEZONE
BEGIN:VEVENT
ATTENDEE;CN=Огородникова Светлана Владиславо
 вна:https://public.mai.ru/schedule/data/735b99f7-6c62-11eb-aa35-485b391
 9ee6d.json
DESCRIPTION:Преподаватель: Огородникова Светл
 ана Владиславовна
DTSTAMP:20260420T114223Z
DTSTART:20260210T130000Z
DURATION:PT1H30M
LOCATION:5-117
SEQUENCE:0
SUMMARY:[ЛК 1п.]Эколого-экономический анализ 
 космических проектов и программ (Огород
 никова Светлана Владиславовна)
UID:95467090-9ecb-4e41-838b-399d202e0920
END:VEVENT
BEGIN:VEVENT
ATTENDEE;CN=Огородников Сергей Сергеевич:https://
 public.mai.ru/schedule/data/a459d480-c31c-11e8-aea6-485b3919ee6d.json
DESCRIPTION:Преподаватель: Огородников Сергей
  Сергеевич
DTSTAMP:20260420T114223Z
DTSTART:20260212T104500Z
DURATION:PT3H45M
LOCATION:5-001
SEQUENCE:0
SUMMARY:[ЛК\,ПЗ 2п.]Воздействие ракетно-космич
 еского производства на окружающую среду
  (Огородников Сергей Сергеевич)
UID:d0ab6a87-aae9-4fce-83da-efa525f8e3b7
END:VEVENT
BEGIN:VEVENT
ATTENDEE;CN=АРСЕНЬЕВА НАТАЛЬЯ ВАЛЕРЬЕВНА:https://
 public.mai.ru/schedule/data/d49dfd9f-0d8e-11e4-b897-005056c00008.json
DESCRIPTION:Преподаватель: АРСЕНЬЕВА НАТАЛЬЯ 
 ВАЛЕРЬЕВНА
DTSTAMP:20260420T114223Z
DTSTART:20260212T144500Z
DURATION:PT3H15M
LOCATION:5-404
SEQUENCE:0
SUMMARY:[ЛК 2п.]Организация производства (АРС
 ЕНЬЕВА НАТАЛЬЯ ВАЛЕРЬЕВНА)
UID:8f192ceb-1988-4dcb-a794-77b5dbda23c0
END:VEVENT
BEGIN:VEVENT
ATTENDEE;CN=Колонская Мария Игоревна:https://public.m
 ai.ru/schedule/data/82b070c9-9d42-11f0-bc6b-3cecef1c132f.json
ATTENDEE;CN=Огородникова Светлана Владиславо
 вна:https://public.mai.ru/schedule/data/735b99f7-6c62-11eb-aa35-485b391
 9ee6d.json
DESCRIPTION:Преподаватель: Колонская Мария Иг
 оревна\,Огородникова Светлана Владислав
 овна
DTSTAMP:20260420T114223Z
DTSTART:20260217T090000Z
DURATION:PT5H30M
LOCATION:5-117
SEQUENCE:0
SUMMARY:[ПЗ\,ЛК 3п.]Эколого-экономический анал
 из космических проектов и программ (Коло
 нская Мария Игоревна\,Огородникова Свет
 лана Владиславовна)
UID:cefe02e7-7f65-4917-812b-d3c688847f62
END:VEVENT
BEGIN:VEVENT
ATTENDEE;CN=Галкина Елена Евгеньевна:https://public.m
 ai.ru/schedule/data/6c63f7af-1d99-11e0-9baf-1c6f65450efa.json
DESCRIPTION:Преподаватель: Галкина Елена Евге
 ньевна
DTSTAMP:20260420T114223Z
DTSTART:20260218T090000Z
DURATION:PT5H30M
LOCATION:5-002
SEQUENCE:0
SUMMARY:[ЛК\,ПЗ 3п.]Экологическая экспертиза и
  аудит (Галкина Елена Евгеньевна)
UID:3aa5e934-ad7c-472a-81be-a4bc123bb23b
END:VEVENT
BEGIN:VEVENT
ATTENDEE;CN=Огородников Сергей Сергеевич:https://
 public.mai.ru/schedule/data/a459d480-c31c-11e8-aea6-485b3919ee6d.json
DESCRIPTION:Преподаватель: Огородников Сергей
  Сергеевич
DTSTAMP:20260420T114223Z
DTSTART:20260219T104500Z
DURATION:PT3H45M
LOCATION:5-117
SEQUENCE:0
SUMMARY:[ЛК\,ПЗ 2п.]Воздействие ракетно-космич
 еского производства на окружающую среду
  (Огородников Сергей Сергеевич)
UID:708e0b72-847f-48ed-9b55-5242ea219a3d
END:VEVENT
BEGIN:VEVENT
ATTENDEE;CN=АРСЕНЬЕВА НАТАЛЬЯ ВАЛЕРЬЕВНА:https://
 public.mai.ru/schedule/data/d49dfd9f-0d8e-11e4-b897-005056c00008.json
DESCRIPTION:Преподаватель: АРСЕНЬЕВА НАТАЛЬЯ 
 ВАЛЕРЬЕВНА
DTSTAMP:20260420T114223Z
DTSTART:20260219T144500Z
DURATION:PT3H15M
LOCATION:5-404
SEQUENCE:0
SUMMARY:[ПЗ 2п.]Организация производства (АРС
 ЕНЬЕВА НАТАЛЬЯ ВАЛЕРЬЕВНА)
UID:8c0209cf-4ce8-4c2e-97a8-3b0dc05805c5
END:VEVENT
BEGIN:VEVENT
ATTENDEE;CN=Огородникова Светлана Владиславо
 вна:https://public.mai.ru/schedule/data/735b99f7-6c62-11eb-aa35-485b391
 9ee6d.json
DESCRIPTION:Преподаватель: Огородникова Светл
 ана Владиславовна
DTSTAMP:20260420T114223Z
DTSTART:20260224T130000Z
DURATION:PT1H30M
LOCATION:5-117
SEQUENCE:0
SUMMARY:[ЛК 1п.]Эколого-экономический анализ 
 космических проектов и программ (Огород
 никова Светлана Владиславовна)
UID:cb7a5834-aaf7-4b7f-8180-0def26152fac
END:VEVENT
BEGIN:VEVENT
ATTENDEE;CN=Галкина Елена Евгеньевна:https://public.m
 ai.ru/schedule/data/6c63f7af-1d99-11e0-9baf-1c6f65450efa.json
DESCRIPTION:Преподаватель: Галкина Елена Евге
 ньевна
DTSTAMP:20260420T114223Z
DTSTART:20260226T104500Z
DURATION:PT3H45M
LOCATION:5-117
SEQUENCE:0
SUMMARY:[ПЗ 2п.]Экологическая экспертиза и ау
 дит (Галкина Елена Евгеньевна)
UID:ff8833c2-065b-4a3c-9eab-04b0684bfa26
END:VEVENT
BEGIN:VEVENT
ATTENDEE;CN=АРСЕНЬЕВА НАТАЛЬЯ ВАЛЕРЬЕВНА:https://
 public.mai.ru/schedule/data/d49dfd9f-0d8e-11e4-b897-005056c00008.json
DESCRIPTION:Преподаватель: АРСЕНЬЕВА НАТАЛЬЯ 
 ВАЛЕРЬЕВНА
DTSTAMP:20260420T114223Z
DTSTART:20260226T144500Z
DURATION:PT3H15M
LOCATION:5-404
SEQUENCE:0
SUMMARY:[ЛК 2п.]Организация производства (АРС
 ЕНЬЕВА НАТАЛЬЯ ВАЛЕРЬЕВНА)
UID:35cc455e-cc27-4711-ad1c-e845d2184e83
END:VEVENT
BEGIN:VEVENT
ATTENDEE;CN=Колонская Мария Игоревна:https://public.m
 ai.ru/schedule/data/82b070c9-9d42-11f0-bc6b-3cecef1c132f.json
ATTENDEE;CN=Огородникова Светлана Владиславо
 вна:https://public.mai.ru/schedule/data/735b99f7-6c62-11eb-aa35-485b391
 9ee6d.json
DESCRIPTION:Преподаватель: Колонская Мария Иг
 оревна\,Огородникова Светлана Владислав
 овна
DTSTAMP:20260420T114223Z
DTSTART:20260303T090000Z
DURATION:PT5H30M
LOCATION:5-117
SEQUENCE:0
SUMMARY:[ПЗ\,ЛК 3п.]Эколого-экономический анал
 из космических проектов и программ (Коло
 нская Мария Игоревна\,Огородникова Свет
 лана Владиславовна)
UID:e567ef1e-468f-4b6f-a75c-771af9ed44de
END:VEVENT
BEGIN:VEVENT
ATTENDEE;CN=Галкина Елена Евгеньевна:https://public.m
 ai.ru/schedule/data/6c63f7af-1d99-11e0-9baf-1c6f65450efa.json
DESCRIPTION:Преподаватель: Галкина Елена Евге
 ньевна
DTSTAMP:20260420T114223Z
DTSTART:20260304T090000Z
DURATION:PT5H30M
LOCATION:5-002
SEQUENCE:0
SUMMARY:[ЛК\,ПЗ 3п.]Экологическая экспертиза и
  аудит (Галкина Елена Евгеньевна)
UID:98894792-e01c-46d6-a277-386e04142449
END:VEVENT
BEGIN:VEVENT
ATTENDEE;CN=АРСЕНЬЕВА НАТАЛЬЯ ВАЛЕРЬЕВНА:https://
 public.mai.ru/schedule/data/d49dfd9f-0d8e-11e4-b897-005056c00008.json
DESCRIPTION:Преподаватель: АРСЕНЬЕВА НАТАЛЬЯ 
 ВАЛЕРЬЕВНА
DTSTAMP:20260420T114223Z
DTSTART:20260305T144500Z
DURATION:PT3H15M
LOCATION:5-404
SEQUENCE:0
SUMMARY:[ПЗ 2п.]Организация производства (АРС
 ЕНЬЕВА НАТАЛЬЯ ВАЛЕРЬЕВНА)
UID:b17dd545-2418-4851-bf49-7ecaf188703d
END:VEVENT
BEGIN:VEVENT
ATTENDEE;CN=Огородникова Светлана Владиславо
 вна:https://public.mai.ru/schedule/data/735b99f7-6c62-11eb-aa35-485b391
 9ee6d.json
DESCRIPTION:Преподаватель: Огородникова Светл
 ана Владиславовна
DTSTAMP:20260420T114223Z
DTSTART:20260310T130000Z
DURATION:PT1H30M
LOCATION:5-117
SEQUENCE:0
SUMMARY:[ЛК 1п.]Эколого-экономический анализ 
 космических проектов и программ (Огород
 никова Светлана Владиславовна)
UID:5fc1ac92-f508-4166-b48f-b90a4b12462a
END:VEVENT
BEGIN:VEVENT
ATTENDEE;CN=Галкина Елена Евгеньевна:https://public.m
 ai.ru/schedule/data/6c63f7af-1d99-11e0-9baf-1c6f65450efa.json
DESCRIPTION:Преподаватель: Галкина Елена Евге
 ньевна
DTSTAMP:20260420T114223Z
DTSTART:20260312T104500Z
DURATION:PT3H45M
LOCATION:5-117
SEQUENCE:0
SUMMARY:[ПЗ 2п.]Экологическая экспертиза и ау
 дит (Галкина Елена Евгеньевна)
UID:c7b1edd0-7f9e-4b59-8621-8308ee9de458
END:VEVENT
BEGIN:VEVENT
ATTENDEE;CN=АРСЕНЬЕВА НАТАЛЬЯ ВАЛЕРЬЕВНА:https://
 public.mai.ru/schedule/data/d49dfd9f-0d8e-11e4-b897-005056c00008.json
DESCRIPTION:Преподаватель: АРСЕНЬЕВА НАТАЛЬЯ 
 ВАЛЕРЬЕВНА
DTSTAMP:20260420T114223Z
DTSTART:20260312T144500Z
DURATION:PT3H15M
LOCATION:5-404
SEQUENCE:0
SUMMARY:[ЛК 2п.]Организация производства (АРС
 ЕНЬЕВА НАТАЛЬЯ ВАЛЕРЬЕВНА)
UID:72a9ab30-8a08-4189-9f71-ae3e25c11360
END:VEVENT
BEGIN:VEVENT
ATTENDEE;CN=Колонская Мария Игоревна:https://public.m
 ai.ru/schedule/data/82b070c9-9d42-11f0-bc6b-3cecef1c132f.json
ATTENDEE;CN=Огородникова Светлана Владиславо
 вна:https://public.mai.ru/schedule/data/735b99f7-6c62-11eb-aa35-485b391
 9ee6d.json
DESCRIPTION:Преподаватель: Колонская Мария Иг
 оревна\,Огородникова Светлана Владислав
 овна
DTSTAMP:20260420T114223Z
DTSTART:20260317T090000Z
DURATION:PT5H30M
LOCATION:5-117
SEQUENCE:0
SUMMARY:[ПЗ\,ЛК 3п.]Эколого-экономический анал
 из космических проектов и программ (Коло
 нская Мария Игоревна\,Огородникова Свет
 лана Владиславовна)
UID:d03c4ad4-c419-4b12-a57b-92c45449cf7f
END:VEVENT
BEGIN:VEVENT
ATTENDEE;CN=Огородников Сергей Сергеевич:https://
 public.mai.ru/schedule/data/a459d480-c31c-11e8-aea6-485b3919ee6d.json
DESCRIPTION:Преподаватель: Огородников Сергей
  Сергеевич
DTSTAMP:20260420T114223Z
DTSTART:20260319T104500Z
DURATION:PT3H45M
LOCATION:5-117
SEQUENCE:0
SUMMARY:[ЛК\,ПЗ 2п.]Воздействие ракетно-космич
 еского производства на окружающую среду
  (Огородников Сергей Сергеевич)
UID:9db7a92e-af04-436a-bea3-a68a2ba4deac
END:VEVENT
BEGIN:VEVENT
ATTENDEE;CN=АРСЕНЬЕВА НАТАЛЬЯ ВАЛЕРЬЕВНА:https://
 public.mai.ru/schedule/data/d49dfd9f-0d8e-11e4-b897-005056c00008.json
DESCRIPTION:Преподаватель: АРСЕНЬЕВА НАТАЛЬЯ 
 ВАЛЕРЬЕВНА
DTSTAMP:20260420T114223Z
DTSTART:20260319T144500Z
DURATION:PT3H15M
LOCATION:5-404
SEQUENCE:0
SUMMARY:[ПЗ 2п.]Организация производства (АРС
 ЕНЬЕВА НАТАЛЬЯ ВАЛЕРЬЕВНА)
UID:5dbea925-2b58-48b0-8218-d8a8853cf8c6
END:VEVENT
BEGIN:VEVENT
ATTENDEE;CN=Галкина Елена Евгеньевна:https://public.m
 ai.ru/schedule/data/6c63f7af-1d99-11e0-9baf-1c6f65450efa.json
DESCRIPTION:Преподаватель: Галкина Елена Евге
 ньевна
DTSTAMP:20260420T114223Z
DTSTART:20260323T130000Z
DURATION:PT3H15M
LOCATION:5-117
SEQUENCE:0
SUMMARY:[ЛК 2п.]Экологическая экспертиза и ау
 дит (Галкина Елена Евгеньевна)
UID:8a2063e4-fa85-44a4-9b07-53ceb8ea3326
END:VEVENT
BEGIN:VEVENT
ATTENDEE;CN=Колонская Мария Игоревна:https://public.m
 ai.ru/schedule/data/82b070c9-9d42-11f0-bc6b-3cecef1c132f.json
ATTENDEE;CN=Огородникова Светлана Владиславо
 вна:https://public.mai.ru/schedule/data/735b99f7-6c62-11eb-aa35-485b391
 9ee6d.json
DESCRIPTION:Преподаватель: Колонская Мария Иг
 оревна\,Огородникова Светлана Владислав
 овна
DTSTAMP:20260420T114223Z
DTSTART:20260324T090000Z
DURATION:PT5H30M
LOCATION:5-117
SEQUENCE:0
SUMMARY:[ПЗ\,ЛК 3п.]Эколого-экономический анал
 из космических проектов и программ (Коло
 нская Мария Игоревна\,Огородникова Свет
 лана Владиславовна)
UID:a7a0a0d2-14ad-47b1-95b9-e5a27450b6b6
END:VEVENT
BEGIN:VEVENT
ATTENDEE;CN=Огородников Сергей Сергеевич:https://
 public.mai.ru/schedule/data/a459d480-c31c-11e8-aea6-485b3919ee6d.json
DESCRIPTION:Преподаватель: Огородников Сергей
  Сергеевич
DTSTAMP:20260420T114223Z
DTSTART:20260326T104500Z
DURATION:PT3H45M
LOCATION:5-117
SEQUENCE:0
SUMMARY:[ЛК\,ПЗ 2п.]Воздействие ракетно-космич
 еского производства на окружающую среду
  (Огородников Сергей Сергеевич)
UID:4ad082f0-5926-45c2-8922-e1f06a71d761
END:VEVENT
BEGIN:VEVENT
ATTENDEE;CN=АРСЕНЬЕВА НАТАЛЬЯ ВАЛЕРЬЕВНА:https://
 public.mai.ru/schedule/data/d49dfd9f-0d8e-11e4-b897-005056c00008.json
DESCRIPTION:Преподаватель: АРСЕНЬЕВА НАТАЛЬЯ 
 ВАЛЕРЬЕВНА
DTSTAMP:20260420T114223Z
DTSTART:20260326T144500Z
DURATION:PT3H15M
LOCATION:5-404
SEQUENCE:0
SUMMARY:[ЛК 2п.]Организация производства (АРС
 ЕНЬЕВА НАТАЛЬЯ ВАЛЕРЬЕВНА)
UID:8f3a5fef-f705-4f03-b92f-ddb972874511
END:VEVENT
BEGIN:VEVENT
ATTENDEE;CN=Огородникова Светлана Владиславо
 вна:https://public.mai.ru/schedule/data/735b99f7-6c62-11eb-aa35-485b391
 9ee6d.json
DESCRIPTION:Преподаватель: Огородникова Светл
 ана Владиславовна
DTSTAMP:20260420T114223Z
DTSTART:20260331T130000Z
DURATION:PT1H30M
LOCATION:5-117
SEQUENCE:0
SUMMARY:[ЛК 1п.]Эколого-экономический анализ 
 космических проектов и программ (Огород
 никова Светлана Владиславовна)
UID:a49c3c40-12ed-433d-86e8-93ab4d51157f
END:VEVENT
BEGIN:VEVENT
ATTENDEE;CN=Галкина Елена Евгеньевна:https://public.m
 ai.ru/schedule/data/6c63f7af-1d99-11e0-9baf-1c6f65450efa.json
DESCRIPTION:Преподаватель: Галкина Елена Евге
 ньевна
DTSTAMP:20260420T114223Z
DTSTART:20260401T090000Z
DURATION:PT3H15M
LOCATION:5-002
SEQUENCE:0
SUMMARY:[ЛК 2п.]Экологическая экспертиза и ау
 дит (Галкина Елена Евгеньевна)
UID:41dab9fa-c80d-41ee-834d-20a5f2fa61c9
END:VEVENT
BEGIN:VEVENT
ATTENDEE;CN=Огородников Сергей Сергеевич:https://
 public.mai.ru/schedule/data/a459d480-c31c-11e8-aea6-485b3919ee6d.json
DESCRIPTION:Преподаватель: Огородников Сергей
  Сергеевич
DTSTAMP:20260420T114223Z
DTSTART:20260402T104500Z
DURATION:PT3H45M
LOCATION:5-117
SEQUENCE:0
SUMMARY:[ЛК\,ПЗ 2п.]Воздействие ракетно-космич
 еского производства на окружающую среду
  (Огородников Сергей Сергеевич)
UID:c60f224e-0148-4b2e-b729-105b0044c772
END:VEVENT
BEGIN:VEVENT
ATTENDEE;CN=АРСЕНЬЕВА НАТАЛЬЯ ВАЛЕРЬЕВНА:https://
 public.mai.ru/schedule/data/d49dfd9f-0d8e-11e4-b897-005056c00008.json
DESCRIPTION:Преподаватель: АРСЕНЬЕВА НАТАЛЬЯ 
 ВАЛЕРЬЕВНА
DTSTAMP:20260420T114223Z
DTSTART:20260402T144500Z
DURATION:PT3H15M
LOCATION:5-404
SEQUENCE:0
SUMMARY:[ПЗ 2п.]Организация производства (АРС
 ЕНЬЕВА НАТАЛЬЯ ВАЛЕРЬЕВНА)
UID:2d72c9c4-99c8-4d77-b2f2-9565e6bdd87c
END:VEVENT
BEGIN:VEVENT
ATTENDEE;CN=Колонская Мария Игоревна:https://public.m
 ai.ru/schedule/data/82b070c9-9d42-11f0-bc6b-3cecef1c132f.json
ATTENDEE;CN=Огородникова Светлана Владиславо
 вна:https://public.mai.ru/schedule/data/735b99f7-6c62-11eb-aa35-485b391
 9ee6d.json
DESCRIPTION:Преподаватель: Колонская Мария Иг
 оревна\,Огородникова Светлана Владислав
 овна
DTSTAMP:20260420T114223Z
DTSTART:20260407T090000Z
DURATION:PT5H30M
LOCATION:5-117
SEQUENCE:0
SUMMARY:[ПЗ\,ЛК 3п.]Эколого-экономический анал
 из космических проектов и программ (Коло
 нская Мария Игоревна\,Огородникова Свет
 лана Владиславовна)
UID:8e35c73b-7226-4729-975e-ad6bf0e0f4f7
END:VEVENT
BEGIN:VEVENT
ATTENDEE;CN=Огородников Сергей Сергеевич:https://
 public.mai.ru/schedule/data/a459d480-c31c-11e8-aea6-485b3919ee6d.json
DESCRIPTION:Преподаватель: Огородников Сергей
  Сергеевич
DTSTAMP:20260420T114223Z
DTSTART:20260409T104500Z
DURATION:PT3H45M
LOCATION:5-117
SEQUENCE:0
SUMMARY:[ЛК\,ПЗ 2п.]Воздействие ракетно-космич
 еского производства на окружающую среду
  (Огородников Сергей Сергеевич)
UID:c57b004b-ad27-4127-a854-410b5e799393
END:VEVENT
BEGIN:VEVENT
ATTENDEE;CN=АРСЕНЬЕВА НАТАЛЬЯ ВАЛЕРЬЕВНА:https://
 public.mai.ru/schedule/data/d49dfd9f-0d8e-11e4-b897-005056c00008.json
DESCRIPTION:Преподаватель: АРСЕНЬЕВА НАТАЛЬЯ 
 ВАЛЕРЬЕВНА
DTSTAMP:20260420T114223Z
DTSTART:20260409T144500Z
DURATION:PT3H15M
LOCATION:5-404
SEQUENCE:0
SUMMARY:[ЛК 2п.]Организация производства (АРС
 ЕНЬЕВА НАТАЛЬЯ ВАЛЕРЬЕВНА)
UID:a612ea82-90f3-419d-a73d-0905619b694e
END:VEVENT
BEGIN:VEVENT
ATTENDEE;CN=Огородникова Светлана Владиславо
 вна:https://public.mai.ru/schedule/data/735b99f7-6c62-11eb-aa35-485b391
 9ee6d.json
DESCRIPTION:Преподаватель: Огородникова Светл
 ана Владиславовна
DTSTAMP:20260420T114223Z
DTSTART:20260414T130000Z
DURATION:PT1H30M
LOCATION:5-117
SEQUENCE:0
SUMMARY:[ЛК 1п.]Эколого-экономический анализ 
 космических проектов и программ (Огород
 никова Светлана Владиславовна)
UID:071ae7b5-9b38-42a2-b6ce-9cb94a878635
END:VEVENT
BEGIN:VEVENT
ATTENDEE;CN=Галкина Елена Евгеньевна:https://public.m
 ai.ru/schedule/data/6c63f7af-1d99-11e0-9baf-1c6f65450efa.json
DESCRIPTION:Преподаватель: Галкина Елена Евге
 ньевна
DTSTAMP:20260420T114223Z
DTSTART:20260415T090000Z
DURATION:PT3H15M
LOCATION:5-002
SEQUENCE:0
SUMMARY:[ЛК 2п.]Экологическая экспертиза и ау
 дит (Галкина Елена Евгеньевна)
UID:45c40743-e1bd-4b1b-ac4c-54ff82033d1d
END:VEVENT
BEGIN:VEVENT
ATTENDEE;CN=Огородников Сергей Сергеевич:https://
 public.mai.ru/schedule/data/a459d480-c31c-11e8-aea6-485b3919ee6d.json
DESCRIPTION:Преподаватель: Огородников Сергей
  Сергеевич
DTSTAMP:20260420T114223Z
DTSTART:20260416T104500Z
DURATION:PT3H45M
LOCATION:5-117
SEQUENCE:0
SUMMARY:[ЛК\,ПЗ 2п.]Воздействие ракетно-космич
 еского производства на окружающую среду
  (Огородников Сергей Сергеевич)
UID:a61aa887-dad5-4fe2-b6bd-d78a817b999c
END:VEVENT
BEGIN:VEVENT
ATTENDEE;CN=АРСЕНЬЕВА НАТАЛЬЯ ВАЛЕРЬЕВНА:https://
 public.mai.ru/schedule/data/d49dfd9f-0d8e-11e4-b897-005056c00008.json
DESCRIPTION:Преподаватель: АРСЕНЬЕВА НАТАЛЬЯ 
 ВАЛЕРЬЕВНА
DTSTAMP:20260420T114223Z
DTSTART:20260416T144500Z
DURATION:PT3H15M
LOCATION:5-404
SEQUENCE:0
SUMMARY:[ПЗ 2п.]Организация производства (АРС
 ЕНЬЕВА НАТАЛЬЯ ВАЛЕРЬЕВНА)
UID:1cf80952-609e-427e-8aa0-a25ab38f0f04
END:VEVENT
BEGIN:VEVENT
ATTENDEE;CN=Колонская Мария Игоревна:https://public.m
 ai.ru/schedule/data/82b070c9-9d42-11f0-bc6b-3cecef1c132f.json
ATTENDEE;CN=Огородникова Светлана Владиславо
 вна:https://public.mai.ru/schedule/data/735b99f7-6c62-11eb-aa35-485b391
 9ee6d.json
DESCRIPTION:Преподаватель: Колонская Мария Иг
 оревна\,Огородникова Светлана Владислав
 овна
DTSTAMP:20260420T114223Z
DTSTART:20260421T090000Z
DURATION:PT5H30M
LOCATION:5-117
SEQUENCE:0
SUMMARY:[ПЗ\,ЛК 3п.]Эколого-экономический анал
 из космических проектов и программ (Коло
 нская Мария Игоревна\,Огородникова Свет
 лана Владиславовна)
UID:253bc4e7-94d9-415f-a721-facc9a3cf6fd
END:VEVENT
BEGIN:VEVENT
ATTENDEE;CN=Огородников Сергей Сергеевич:https://
 public.mai.ru/schedule/data/a459d480-c31c-11e8-aea6-485b3919ee6d.json
DESCRIPTION:Преподаватель: Огородников Сергей
  Сергеевич
DTSTAMP:20260420T114223Z
DTSTART:20260423T104500Z
DURATION:PT3H45M
LOCATION:5-117
SEQUENCE:0
SUMMARY:[ЛК\,ПЗ 2п.]Воздействие ракетно-космич
 еского производства на окружающую среду
  (Огородников Сергей Сергеевич)
UID:2125658d-9f9e-4ae7-8130-cdcf2b49b4ba
END:VEVENT
BEGIN:VEVENT
ATTENDEE;CN=АРСЕНЬЕВА НАТАЛЬЯ ВАЛЕРЬЕВНА:https://
 public.mai.ru/schedule/data/d49dfd9f-0d8e-11e4-b897-005056c00008.json
DESCRIPTION:Преподаватель: АРСЕНЬЕВА НАТАЛЬЯ 
 ВАЛЕРЬЕВНА
DTSTAMP:20260420T114223Z
DTSTART:20260423T144500Z
DURATION:PT3H15M
LOCATION:5-404
SEQUENCE:0
SUMMARY:[ЛК 2п.]Организация производства (АРС
 ЕНЬЕВА НАТАЛЬЯ ВАЛЕРЬЕВНА)
UID:a9463d8f-7451-4aab-8f14-cdc22bb3bf59
END:VEVENT
BEGIN:VEVENT
ATTENDEE;CN=Огородникова Светлана Владиславо
 вна:https://public.mai.ru/schedule/data/735b99f7-6c62-11eb-aa35-485b391
 9ee6d.json
DESCRIPTION:Преподаватель: Огородникова Светл
 ана Владиславовна
DTSTAMP:20260420T114223Z
DTSTART:20260428T130000Z
DURATION:PT1H30M
LOCATION:5-117
SEQUENCE:0
SUMMARY:[ЛК 1п.]Эколого-экономический анализ 
 космических проектов и программ (Огород
 никова Светлана Владиславовна)
UID:42b27c71-eb5b-4e07-a41e-7cceaa1ae0ae
END:VEVENT
BEGIN:VEVENT
ATTENDEE;CN=Галкина Елена Евгеньевна:https://public.m
 ai.ru/schedule/data/6c63f7af-1d99-11e0-9baf-1c6f65450efa.json
DESCRIPTION:Преподаватель: Галкина Елена Евге
 ньевна
DTSTAMP:20260420T114223Z
DTSTART:20260429T090000Z
DURATION:PT3H15M
LOCATION:5-002
SEQUENCE:0
SUMMARY:[ПЗ 2п.]Экологическая экспертиза и ау
 дит (Галкина Елена Евгеньевна)
UID:c3bab0e5-328b-4388-acfc-5262f3f520aa
END:VEVENT
BEGIN:VEVENT
ATTENDEE;CN=Огородников Сергей Сергеевич:https://
 public.mai.ru/schedule/data/a459d480-c31c-11e8-aea6-485b3919ee6d.json
DESCRIPTION:Преподаватель: Огородников Сергей
  Сергеевич
DTSTAMP:20260420T114223Z
DTSTART:20260430T104500Z
DURATION:PT3H45M
LOCATION:5-117
SEQUENCE:0
SUMMARY:[ЛК\,ПЗ 2п.]Воздействие ракетно-космич
 еского производства на окружающую среду
  (Огородников Сергей Сергеевич)
UID:b5a6d0af-085b-4e79-8f22-b9c2be671cb9
END:VEVENT
BEGIN:VEVENT
ATTENDEE;CN=Колонская Мария Игоревна:https://public.m
 ai.ru/schedule/data/82b070c9-9d42-11f0-bc6b-3cecef1c132f.json
ATTENDEE;CN=Огородникова Светлана Владиславо
 вна:https://public.mai.ru/schedule/data/735b99f7-6c62-11eb-aa35-485b391
 9ee6d.json
DESCRIPTION:Преподаватель: Колонская Мария Иг
 оревна\,Огородникова Светлана Владислав
 овна
DTSTAMP:20260420T114223Z
DTSTART:20260505T090000Z
DURATION:PT5H30M
LOCATION:5-117
SEQUENCE:0
SUMMARY:[ПЗ\,ЛК 3п.]Эколого-экономический анал
 из космических проектов и программ (Коло
 нская Мария Игоревна\,Огородникова Свет
 лана Владиславовна)
UID:2d66f579-221b-4858-b3c3-49fccf1f2ef5
END:VEVENT
BEGIN:VEVENT
ATTENDEE;CN=Галкина Елена Евгеньевна:https://public.m
 ai.ru/schedule/data/6c63f7af-1d99-11e0-9baf-1c6f65450efa.json
DESCRIPTION:Преподаватель: Галкина Елена Евге
 ньевна
DTSTAMP:20260420T114223Z
DTSTART:20260507T104500Z
DURATION:PT1H30M
LOCATION:5-117
SEQUENCE:0
SUMMARY:[ПЗ 1п.]Экологическая экспертиза и ау
 дит (Галкина Елена Евгеньевна)
UID:27e755b5-43f6-4a89-a59c-b939102cf555
END:VEVENT
BEGIN:VEVENT
ATTENDEE;CN=Огородников Сергей Сергеевич:https://
 public.mai.ru/schedule/data/a459d480-c31c-11e8-aea6-485b3919ee6d.json
DESCRIPTION:Преподаватель: Огородников Сергей
  Сергеевич
DTSTAMP:20260420T114223Z
DTSTART:20260507T130000Z
DURATION:PT1H30M
LOCATION:5-117
SEQUENCE:0
SUMMARY:[ПЗ 1п.]Воздействие ракетно-космическ
 ого производства на окружающую среду (Ог
 ородников Сергей Сергеевич)
UID:cae34b65-a559-424e-9b8f-9908068d86bd
END:VEVENT
BEGIN:VEVENT
ATTENDEE;CN=АРСЕНЬЕВА НАТАЛЬЯ ВАЛЕРЬЕВНА:https://
 public.mai.ru/schedule/data/d49dfd9f-0d8e-11e4-b897-005056c00008.json
DESCRIPTION:Преподаватель: АРСЕНЬЕВА НАТАЛЬЯ 
 ВАЛЕРЬЕВНА
DTSTAMP:20260420T114223Z
DTSTART:20260514T144500Z
DURATION:PT1H30M
LOCATION:5-404
SEQUENCE:0
SUMMARY:[Экзамен 1п.]Организация производств
 а (АРСЕНЬЕВА НАТАЛЬЯ ВАЛЕРЬЕВНА)
UID:4603b18a-78f2-4a7f-b318-d82ceef73289
END:VEVENT
BEGIN:VEVENT
ATTENDEE;CN=Галкина Елена Евгеньевна:https://public.m
 ai.ru/schedule/data/6c63f7af-1d99-11e0-9baf-1c6f65450efa.json
DESCRIPTION:Преподаватель: Галкина Елена Евге
 ньевна
DTSTAMP:20260420T114223Z
DTSTART:20260518T104500Z
DURATION:PT1H30M
LOCATION:5-117
SEQUENCE:0
SUMMARY:[Экзамен 1п.]Экологическая экспертиз
 а и аудит (Галкина Елена Евгеньевна)
UID:bdd87ec2-fe20-41ab-b904-d664c8bd56f8
END:VEVENT
BEGIN:VEVENT
ATTENDEE;CN=Огородников Сергей Сергеевич:https://
 public.mai.ru/schedule/data/a459d480-c31c-11e8-aea6-485b3919ee6d.json
DESCRIPTION:Преподаватель: Огородников Сергей
  Сергеевич
DTSTAMP:20260420T114223Z
DTSTART:20260522T104500Z
DURATION:PT1H30M
LOCATION:5-117
SEQUENCE:0
SUMMARY:[Экзамен 1п.]Воздействие ракетно-косм
 ического производства на окружающую сре
 ду (Огородников Сергей Сергеевич)
UID:c9d28d4e-41f1-495b-98ed-6499efa6969f
END:VEVENT
END:VCALENDAR
