﻿BEGIN:VCALENDAR
CALSCALE:GREGORIAN
METHOD:PUBLISH
PRODID:-//MAI-dep406//MAI Dep406 1.01//RU
VERSION:2.0
X-WR-TIMEZONE:Europe/Moscow
BEGIN:VTIMEZONE
TZID:Europe/Moscow
X-LIC-LOCATION:Europe/Moscow
BEGIN:STANDARD
DTSTART;VALUE=DATE:19700101
TZNAME:GMT+3
TZOFFSETTO:+0300
END:STANDARD
END:VTIMEZONE
BEGIN:VEVENT
ATTENDEE;CN=Галкина Елена Евгеньевна:https://public.m
 ai.ru/schedule/data/6c63f7af-1d99-11e0-9baf-1c6f65450efa.json
DESCRIPTION:Преподаватель: Галкина Елена Евге
 ньевна
DTSTAMP:20260421T120232Z
DTSTART:20260209T090000Z
DURATION:PT3H15M
LOCATION:5-117
SEQUENCE:0
SUMMARY:[ЛК 2п.]Экономический анализ био-техн
 ических проектов и программ (Галкина Еле
 на Евгеньевна)
UID:a0e41ba4-95f6-48c9-bec5-2af4cf2678d2
END:VEVENT
BEGIN:VEVENT
ATTENDEE;CN=Сафронова Ксения Павловна:https://public
 .mai.ru/schedule/data/2ceeb272-29f5-11e9-aa0b-485b3919ee6d.json
DESCRIPTION:Преподаватель: Сафронова Ксения П
 авловна
DTSTAMP:20260421T120232Z
DTSTART:20260210T130000Z
DURATION:PT3H15M
LOCATION:24-410А
SEQUENCE:0
SUMMARY:[ЛК 2п.]Медицинское оборудование мони
 торинга состояния здоровья персонала за
 мкнутого объекта (Сафронова Ксения Павл
 овна)
UID:bd886a3f-012b-4f5e-9c26-8124e2f051ce
END:VEVENT
BEGIN:VEVENT
ATTENDEE;CN=Галкина Елена Евгеньевна:https://public.m
 ai.ru/schedule/data/6c63f7af-1d99-11e0-9baf-1c6f65450efa.json
DESCRIPTION:Преподаватель: Галкина Елена Евге
 ньевна
DTSTAMP:20260421T120232Z
DTSTART:20260211T090000Z
DURATION:PT5H30M
LOCATION:5-002
SEQUENCE:0
SUMMARY:[ЛК\,ПЗ 3п.]Стандарты ISO на системы эко
 логического и интегрированного менеджм
 ента (Галкина Елена Евгеньевна)
UID:4f209516-1ba2-4cd0-a189-43910e03c134
END:VEVENT
BEGIN:VEVENT
ATTENDEE;CN=Кудрявцева Наталья Сергеевна:https://
 public.mai.ru/schedule/data/49405186-1d99-11e0-9baf-1c6f65450efa.json
DESCRIPTION:Преподаватель: Кудрявцева Наталья
  Сергеевна
DTSTAMP:20260421T120232Z
DTSTART:20260212T130000Z
DURATION:PT3H15M
LOCATION:24-744
SEQUENCE:0
SUMMARY:[ЛК 2п.]Биотехнические системы и экол
 огический риск (Кудрявцева Наталья Серг
 еевна)
UID:83abb0f6-ac31-45c1-8f22-e5e2b99b7883
END:VEVENT
BEGIN:VEVENT
ATTENDEE;CN=АЛЕКСАНДРОВА СВЕТЛАНА СЕРГЕЕВНА:ht
 tps://public.mai.ru/schedule/data/32eb50e4-0d8f-11e4-b897-005056c00008.jso
 n
DESCRIPTION:Преподаватель: АЛЕКСАНДРОВА СВЕТЛ
 АНА СЕРГЕЕВНА
DTSTAMP:20260421T120232Z
DTSTART:20260212T163000Z
DURATION:PT3H15M
LOCATION:24-419
SEQUENCE:0
SUMMARY:[ЛК 2п.]Основы технологий искусственн
 ого интеллекта в инженерной деятельност
 и (АЛЕКСАНДРОВА СВЕТЛАНА СЕРГЕЕВНА)
UID:13d5f81e-0f3f-42f8-b37e-b800cadc302a
END:VEVENT
BEGIN:VEVENT
ATTENDEE;CN=Захарчишин Дмитрий Андреевич:https://
 public.mai.ru/schedule/data/16d59e35-ab25-11f0-bc6f-3cecef1c132f.json
DESCRIPTION:Преподаватель: Захарчишин Дмитрий
  Андреевич
DTSTAMP:20260421T120232Z
DTSTART:20260216T090000Z
DURATION:PT3H15M
LOCATION:5-117
SEQUENCE:0
SUMMARY:[ПЗ 2п.]Экономический анализ био-техн
 ических проектов и программ (Захарчишин 
 Дмитрий Андреевич)
UID:8ac0b12c-8ea2-4b6f-a20b-5a88075ee0a4
END:VEVENT
BEGIN:VEVENT
ATTENDEE;CN=Сафронова Ксения Павловна:https://public
 .mai.ru/schedule/data/2ceeb272-29f5-11e9-aa0b-485b3919ee6d.json
DESCRIPTION:Преподаватель: Сафронова Ксения П
 авловна
DTSTAMP:20260421T120232Z
DTSTART:20260217T130000Z
DURATION:PT6H45M
LOCATION:24-410А\; 24-600а
SEQUENCE:0
SUMMARY:[ПЗ\,ЛР 4п.]Медицинское оборудование м
 ониторинга состояния здоровья персонал
 а замкнутого объекта (Сафронова Ксения П
 авловна)
UID:5f9f0c0c-9ae3-42dd-8ac1-fe791b5d93a4
END:VEVENT
BEGIN:VEVENT
ATTENDEE;CN=Кудрявцева Наталья Сергеевна:https://
 public.mai.ru/schedule/data/49405186-1d99-11e0-9baf-1c6f65450efa.json
DESCRIPTION:Преподаватель: Кудрявцева Наталья
  Сергеевна
DTSTAMP:20260421T120232Z
DTSTART:20260219T130000Z
DURATION:PT3H15M
LOCATION:24-744
SEQUENCE:0
SUMMARY:[ЛК 2п.]Биотехнические системы и экол
 огический риск (Кудрявцева Наталья Серг
 еевна)
UID:6fe93d84-8064-4f3c-83af-88beeb17238f
END:VEVENT
BEGIN:VEVENT
ATTENDEE;CN=Сафронова Ксения Павловна:https://public
 .mai.ru/schedule/data/2ceeb272-29f5-11e9-aa0b-485b3919ee6d.json
DESCRIPTION:Преподаватель: Сафронова Ксения П
 авловна
DTSTAMP:20260421T120232Z
DTSTART:20260219T163000Z
DURATION:PT3H15M
LOCATION:24-410А
SEQUENCE:0
SUMMARY:[ЛК 2п.]Медицинское оборудование мони
 торинга состояния здоровья персонала за
 мкнутого объекта (Сафронова Ксения Павл
 овна)
UID:ee8dc3eb-9424-4c75-9de0-031234fd33a2
END:VEVENT
BEGIN:VEVENT
ATTENDEE;CN=Галкина Елена Евгеньевна:https://public.m
 ai.ru/schedule/data/6c63f7af-1d99-11e0-9baf-1c6f65450efa.json
DESCRIPTION:Преподаватель: Галкина Елена Евге
 ньевна
DTSTAMP:20260421T120232Z
DTSTART:20260225T090000Z
DURATION:PT5H30M
LOCATION:5-002
SEQUENCE:0
SUMMARY:[ЛК\,ПЗ 3п.]Стандарты ISO на системы эко
 логического и интегрированного менеджм
 ента (Галкина Елена Евгеньевна)
UID:16573ba6-46df-484f-9073-127ae4f713c6
END:VEVENT
BEGIN:VEVENT
ATTENDEE;CN=Кудрявцева Наталья Сергеевна:https://
 public.mai.ru/schedule/data/49405186-1d99-11e0-9baf-1c6f65450efa.json
DESCRIPTION:Преподаватель: Кудрявцева Наталья
  Сергеевна
DTSTAMP:20260421T120232Z
DTSTART:20260226T130000Z
DURATION:PT3H15M
LOCATION:24-744
SEQUENCE:0
SUMMARY:[ЛК 2п.]Биотехнические системы и экол
 огический риск (Кудрявцева Наталья Серг
 еевна)
UID:dc69f284-4e84-40a1-9a7b-ccc7fa11a2f8
END:VEVENT
BEGIN:VEVENT
ATTENDEE;CN=АЛЕКСАНДРОВА СВЕТЛАНА СЕРГЕЕВНА:ht
 tps://public.mai.ru/schedule/data/32eb50e4-0d8f-11e4-b897-005056c00008.jso
 n
DESCRIPTION:Преподаватель: АЛЕКСАНДРОВА СВЕТЛ
 АНА СЕРГЕЕВНА
DTSTAMP:20260421T120232Z
DTSTART:20260226T163000Z
DURATION:PT3H15M
LOCATION:24-419
SEQUENCE:0
SUMMARY:[ЛК 2п.]Основы технологий искусственн
 ого интеллекта в инженерной деятельност
 и (АЛЕКСАНДРОВА СВЕТЛАНА СЕРГЕЕВНА)
UID:e4ca0b88-6a92-4d65-8c16-9001343f6d77
END:VEVENT
BEGIN:VEVENT
ATTENDEE;CN=Захарчишин Дмитрий Андреевич:https://
 public.mai.ru/schedule/data/16d59e35-ab25-11f0-bc6f-3cecef1c132f.json
DESCRIPTION:Преподаватель: Захарчишин Дмитрий
  Андреевич
DTSTAMP:20260421T120232Z
DTSTART:20260302T090000Z
DURATION:PT3H15M
LOCATION:5-117
SEQUENCE:0
SUMMARY:[ПЗ 2п.]Экономический анализ био-техн
 ических проектов и программ (Захарчишин 
 Дмитрий Андреевич)
UID:235e5ef9-cf3f-44ea-aa54-00b535012f2a
END:VEVENT
BEGIN:VEVENT
ATTENDEE;CN=Сафронова Ксения Павловна:https://public
 .mai.ru/schedule/data/2ceeb272-29f5-11e9-aa0b-485b3919ee6d.json
DESCRIPTION:Преподаватель: Сафронова Ксения П
 авловна
DTSTAMP:20260421T120232Z
DTSTART:20260303T130000Z
DURATION:PT6H45M
LOCATION:24-410А\; 24-600а
SEQUENCE:0
SUMMARY:[ПЗ\,ЛР 4п.]Медицинское оборудование м
 ониторинга состояния здоровья персонал
 а замкнутого объекта (Сафронова Ксения П
 авловна)
UID:c5c304df-22b7-40f3-b825-bfe696dc87b6
END:VEVENT
BEGIN:VEVENT
ATTENDEE;CN=АЛЕКСАНДРОВА СВЕТЛАНА СЕРГЕЕВНА:ht
 tps://public.mai.ru/schedule/data/32eb50e4-0d8f-11e4-b897-005056c00008.jso
 n
DESCRIPTION:Преподаватель: АЛЕКСАНДРОВА СВЕТЛ
 АНА СЕРГЕЕВНА
DTSTAMP:20260421T120232Z
DTSTART:20260304T090000Z
DURATION:PT3H15M
LOCATION:24-721
SEQUENCE:0
SUMMARY:[ЛР 2п.]Основы технологий искусственн
 ого интеллекта в инженерной деятельност
 и (АЛЕКСАНДРОВА СВЕТЛАНА СЕРГЕЕВНА)
UID:ab32c005-7263-4090-965b-343fab9c924d
END:VEVENT
BEGIN:VEVENT
ATTENDEE;CN=Кудрявцева Наталья Сергеевна:https://
 public.mai.ru/schedule/data/49405186-1d99-11e0-9baf-1c6f65450efa.json
DESCRIPTION:Преподаватель: Кудрявцева Наталья
  Сергеевна
DTSTAMP:20260421T120232Z
DTSTART:20260305T130000Z
DURATION:PT3H15M
LOCATION:24-744
SEQUENCE:0
SUMMARY:[ЛК 2п.]Биотехнические системы и экол
 огический риск (Кудрявцева Наталья Серг
 еевна)
UID:54e35630-928c-44be-9504-d0b4251928ae
END:VEVENT
BEGIN:VEVENT
ATTENDEE;CN=Галкина Елена Евгеньевна:https://public.m
 ai.ru/schedule/data/6c63f7af-1d99-11e0-9baf-1c6f65450efa.json
DESCRIPTION:Преподаватель: Галкина Елена Евге
 ньевна
DTSTAMP:20260421T120232Z
DTSTART:20260311T090000Z
DURATION:PT5H30M
LOCATION:5-002
SEQUENCE:0
SUMMARY:[ЛК\,ПЗ 3п.]Стандарты ISO на системы эко
 логического и интегрированного менеджм
 ента (Галкина Елена Евгеньевна)
UID:d64d0591-cc18-4165-95e2-692b6f007ed0
END:VEVENT
BEGIN:VEVENT
ATTENDEE;CN=Кудрявцева Наталья Сергеевна:https://
 public.mai.ru/schedule/data/49405186-1d99-11e0-9baf-1c6f65450efa.json
DESCRIPTION:Преподаватель: Кудрявцева Наталья
  Сергеевна
DTSTAMP:20260421T120232Z
DTSTART:20260312T130000Z
DURATION:PT3H15M
LOCATION:24-744
SEQUENCE:0
SUMMARY:[ЛК 2п.]Биотехнические системы и экол
 огический риск (Кудрявцева Наталья Серг
 еевна)
UID:4e7d4be2-8e16-4802-a5aa-c233e8a9eeb7
END:VEVENT
BEGIN:VEVENT
ATTENDEE;CN=АЛЕКСАНДРОВА СВЕТЛАНА СЕРГЕЕВНА:ht
 tps://public.mai.ru/schedule/data/32eb50e4-0d8f-11e4-b897-005056c00008.jso
 n
DESCRIPTION:Преподаватель: АЛЕКСАНДРОВА СВЕТЛ
 АНА СЕРГЕЕВНА
DTSTAMP:20260421T120232Z
DTSTART:20260312T163000Z
DURATION:PT3H15M
LOCATION:24-419
SEQUENCE:0
SUMMARY:[ЛК 2п.]Основы технологий искусственн
 ого интеллекта в инженерной деятельност
 и (АЛЕКСАНДРОВА СВЕТЛАНА СЕРГЕЕВНА)
UID:0d854939-551d-41a4-853c-0b48a0577a86
END:VEVENT
BEGIN:VEVENT
ATTENDEE;CN=Захарчишин Дмитрий Андреевич:https://
 public.mai.ru/schedule/data/16d59e35-ab25-11f0-bc6f-3cecef1c132f.json
DESCRIPTION:Преподаватель: Захарчишин Дмитрий
  Андреевич
DTSTAMP:20260421T120232Z
DTSTART:20260316T090000Z
DURATION:PT3H15M
LOCATION:5-117
SEQUENCE:0
SUMMARY:[ПЗ 2п.]Экономический анализ био-техн
 ических проектов и программ (Захарчишин 
 Дмитрий Андреевич)
UID:0780ffce-9c5f-4ea7-ba61-3b96ec5d16bb
END:VEVENT
BEGIN:VEVENT
ATTENDEE;CN=Сафронова Ксения Павловна:https://public
 .mai.ru/schedule/data/2ceeb272-29f5-11e9-aa0b-485b3919ee6d.json
DESCRIPTION:Преподаватель: Сафронова Ксения П
 авловна
DTSTAMP:20260421T120232Z
DTSTART:20260317T130000Z
DURATION:PT6H45M
LOCATION:24-410А\; 24-600а
SEQUENCE:0
SUMMARY:[ПЗ\,ЛР 4п.]Медицинское оборудование м
 ониторинга состояния здоровья персонал
 а замкнутого объекта (Сафронова Ксения П
 авловна)
UID:5b52716e-55bd-426e-a56c-2206447fc598
END:VEVENT
BEGIN:VEVENT
ATTENDEE;CN=АЛЕКСАНДРОВА СВЕТЛАНА СЕРГЕЕВНА:ht
 tps://public.mai.ru/schedule/data/32eb50e4-0d8f-11e4-b897-005056c00008.jso
 n
DESCRIPTION:Преподаватель: АЛЕКСАНДРОВА СВЕТЛ
 АНА СЕРГЕЕВНА
DTSTAMP:20260421T120232Z
DTSTART:20260318T090000Z
DURATION:PT3H15M
LOCATION:24-721
SEQUENCE:0
SUMMARY:[ЛР 2п.]Основы технологий искусственн
 ого интеллекта в инженерной деятельност
 и (АЛЕКСАНДРОВА СВЕТЛАНА СЕРГЕЕВНА)
UID:37b891fa-929b-44de-a7e9-290b4bc3fd05
END:VEVENT
BEGIN:VEVENT
ATTENDEE;CN=Кудрявцева Наталья Сергеевна:https://
 public.mai.ru/schedule/data/49405186-1d99-11e0-9baf-1c6f65450efa.json
DESCRIPTION:Преподаватель: Кудрявцева Наталья
  Сергеевна
DTSTAMP:20260421T120232Z
DTSTART:20260319T130000Z
DURATION:PT3H15M
LOCATION:24-744
SEQUENCE:0
SUMMARY:[ПЗ 2п.]Биотехнические системы и экол
 огический риск (Кудрявцева Наталья Серг
 еевна)
UID:7841e658-2523-447e-a90d-4cf052f5c3f9
END:VEVENT
BEGIN:VEVENT
ATTENDEE;CN=Галкина Елена Евгеньевна:https://public.m
 ai.ru/schedule/data/6c63f7af-1d99-11e0-9baf-1c6f65450efa.json
DESCRIPTION:Преподаватель: Галкина Елена Евге
 ньевна
DTSTAMP:20260421T120232Z
DTSTART:20260323T090000Z
DURATION:PT3H15M
LOCATION:5-117
SEQUENCE:0
SUMMARY:[ЛК 2п.]Экономический анализ био-техн
 ических проектов и программ (Галкина Еле
 на Евгеньевна)
UID:411c7428-2d2d-4142-bc7a-692270cd93bb
END:VEVENT
BEGIN:VEVENT
ATTENDEE;CN=Сафронова Ксения Павловна:https://public
 .mai.ru/schedule/data/2ceeb272-29f5-11e9-aa0b-485b3919ee6d.json
DESCRIPTION:Преподаватель: Сафронова Ксения П
 авловна
DTSTAMP:20260421T120232Z
DTSTART:20260324T130000Z
DURATION:PT3H15M
LOCATION:24-410А
SEQUENCE:0
SUMMARY:[ЛК 2п.]Медицинское оборудование мони
 торинга состояния здоровья персонала за
 мкнутого объекта (Сафронова Ксения Павл
 овна)
UID:3981ac60-74ed-406c-889b-76cc3c7df2a4
END:VEVENT
BEGIN:VEVENT
ATTENDEE;CN=Галкина Елена Евгеньевна:https://public.m
 ai.ru/schedule/data/6c63f7af-1d99-11e0-9baf-1c6f65450efa.json
DESCRIPTION:Преподаватель: Галкина Елена Евге
 ньевна
DTSTAMP:20260421T120232Z
DTSTART:20260325T090000Z
DURATION:PT5H30M
LOCATION:5-002
SEQUENCE:0
SUMMARY:[ЛК\,ПЗ 3п.]Стандарты ISO на системы эко
 логического и интегрированного менеджм
 ента (Галкина Елена Евгеньевна)
UID:92d8f906-8890-4ec0-9949-a7884d88c51d
END:VEVENT
BEGIN:VEVENT
ATTENDEE;CN=Кудрявцева Наталья Сергеевна:https://
 public.mai.ru/schedule/data/49405186-1d99-11e0-9baf-1c6f65450efa.json
DESCRIPTION:Преподаватель: Кудрявцева Наталья
  Сергеевна
DTSTAMP:20260421T120232Z
DTSTART:20260326T130000Z
DURATION:PT3H15M
LOCATION:24-744
SEQUENCE:0
SUMMARY:[ПЗ 2п.]Биотехнические системы и экол
 огический риск (Кудрявцева Наталья Серг
 еевна)
UID:6906a905-0852-48e0-a6b1-22cb94eccee9
END:VEVENT
BEGIN:VEVENT
ATTENDEE;CN=АЛЕКСАНДРОВА СВЕТЛАНА СЕРГЕЕВНА:ht
 tps://public.mai.ru/schedule/data/32eb50e4-0d8f-11e4-b897-005056c00008.jso
 n
DESCRIPTION:Преподаватель: АЛЕКСАНДРОВА СВЕТЛ
 АНА СЕРГЕЕВНА
DTSTAMP:20260421T120232Z
DTSTART:20260326T163000Z
DURATION:PT3H15M
LOCATION:24-419
SEQUENCE:0
SUMMARY:[ЛК 2п.]Основы технологий искусственн
 ого интеллекта в инженерной деятельност
 и (АЛЕКСАНДРОВА СВЕТЛАНА СЕРГЕЕВНА)
UID:08558869-e07c-400e-955d-e32fb43ffaee
END:VEVENT
BEGIN:VEVENT
ATTENDEE;CN=Захарчишин Дмитрий Андреевич:https://
 public.mai.ru/schedule/data/16d59e35-ab25-11f0-bc6f-3cecef1c132f.json
DESCRIPTION:Преподаватель: Захарчишин Дмитрий
  Андреевич
DTSTAMP:20260421T120232Z
DTSTART:20260330T090000Z
DURATION:PT3H15M
LOCATION:5-117
SEQUENCE:0
SUMMARY:[ПЗ 2п.]Экономический анализ био-техн
 ических проектов и программ (Захарчишин 
 Дмитрий Андреевич)
UID:7bd04682-bf35-4084-9fe0-581fb58b391f
END:VEVENT
BEGIN:VEVENT
ATTENDEE;CN=Сафронова Ксения Павловна:https://public
 .mai.ru/schedule/data/2ceeb272-29f5-11e9-aa0b-485b3919ee6d.json
DESCRIPTION:Преподаватель: Сафронова Ксения П
 авловна
DTSTAMP:20260421T120232Z
DTSTART:20260331T130000Z
DURATION:PT6H45M
LOCATION:24-410А\; 24-600а
SEQUENCE:0
SUMMARY:[ПЗ\,ЛР 4п.]Медицинское оборудование м
 ониторинга состояния здоровья персонал
 а замкнутого объекта (Сафронова Ксения П
 авловна)
UID:263013b5-eafe-496d-bad3-3018a56deb5f
END:VEVENT
BEGIN:VEVENT
ATTENDEE;CN=АЛЕКСАНДРОВА СВЕТЛАНА СЕРГЕЕВНА:ht
 tps://public.mai.ru/schedule/data/32eb50e4-0d8f-11e4-b897-005056c00008.jso
 n
DESCRIPTION:Преподаватель: АЛЕКСАНДРОВА СВЕТЛ
 АНА СЕРГЕЕВНА
DTSTAMP:20260421T120232Z
DTSTART:20260401T090000Z
DURATION:PT3H15M
LOCATION:24-721
SEQUENCE:0
SUMMARY:[ЛР 2п.]Основы технологий искусственн
 ого интеллекта в инженерной деятельност
 и (АЛЕКСАНДРОВА СВЕТЛАНА СЕРГЕЕВНА)
UID:b8515001-f7a3-4928-8f32-a280c6fc7af6
END:VEVENT
BEGIN:VEVENT
ATTENDEE;CN=Кудрявцева Наталья Сергеевна:https://
 public.mai.ru/schedule/data/49405186-1d99-11e0-9baf-1c6f65450efa.json
DESCRIPTION:Преподаватель: Кудрявцева Наталья
  Сергеевна
DTSTAMP:20260421T120232Z
DTSTART:20260402T130000Z
DURATION:PT3H15M
LOCATION:24-600а
SEQUENCE:0
SUMMARY:[ЛР 2п.]Биотехнические системы и экол
 огический риск (Кудрявцева Наталья Серг
 еевна)
UID:3c8648e9-114f-4526-a6d6-cacb201ebd60
END:VEVENT
BEGIN:VEVENT
ATTENDEE;CN=Галкина Елена Евгеньевна:https://public.m
 ai.ru/schedule/data/6c63f7af-1d99-11e0-9baf-1c6f65450efa.json
DESCRIPTION:Преподаватель: Галкина Елена Евге
 ньевна
DTSTAMP:20260421T120232Z
DTSTART:20260406T090000Z
DURATION:PT3H15M
LOCATION:5-117
SEQUENCE:0
SUMMARY:[ЛК 2п.]Экономический анализ био-техн
 ических проектов и программ (Галкина Еле
 на Евгеньевна)
UID:8fa5f971-53a7-445d-8446-aa65e37f9d24
END:VEVENT
BEGIN:VEVENT
ATTENDEE;CN=Сафронова Ксения Павловна:https://public
 .mai.ru/schedule/data/2ceeb272-29f5-11e9-aa0b-485b3919ee6d.json
DESCRIPTION:Преподаватель: Сафронова Ксения П
 авловна
DTSTAMP:20260421T120232Z
DTSTART:20260407T130000Z
DURATION:PT3H15M
LOCATION:24-410А
SEQUENCE:0
SUMMARY:[ЛК 2п.]Медицинское оборудование мони
 торинга состояния здоровья персонала за
 мкнутого объекта (Сафронова Ксения Павл
 овна)
UID:6b28525d-0f1c-4b91-923a-841e30fbd51b
END:VEVENT
BEGIN:VEVENT
ATTENDEE;CN=Галкина Елена Евгеньевна:https://public.m
 ai.ru/schedule/data/6c63f7af-1d99-11e0-9baf-1c6f65450efa.json
DESCRIPTION:Преподаватель: Галкина Елена Евге
 ньевна
DTSTAMP:20260421T120232Z
DTSTART:20260408T090000Z
DURATION:PT3H15M
LOCATION:5-002
SEQUENCE:0
SUMMARY:[ЛК 2п.]Стандарты ISO на системы эколог
 ического и интегрированного менеджмент
 а (Галкина Елена Евгеньевна)
UID:c7bf0f96-2167-44ad-94d7-ad8600456268
END:VEVENT
BEGIN:VEVENT
ATTENDEE;CN=Кудрявцева Наталья Сергеевна:https://
 public.mai.ru/schedule/data/49405186-1d99-11e0-9baf-1c6f65450efa.json
DESCRIPTION:Преподаватель: Кудрявцева Наталья
  Сергеевна
DTSTAMP:20260421T120232Z
DTSTART:20260409T130000Z
DURATION:PT3H15M
LOCATION:24-600а
SEQUENCE:0
SUMMARY:[ЛР 2п.]Биотехнические системы и экол
 огический риск (Кудрявцева Наталья Серг
 еевна)
UID:086484b5-d770-4508-8069-efde68ee595d
END:VEVENT
BEGIN:VEVENT
ATTENDEE;CN=АЛЕКСАНДРОВА СВЕТЛАНА СЕРГЕЕВНА:ht
 tps://public.mai.ru/schedule/data/32eb50e4-0d8f-11e4-b897-005056c00008.jso
 n
DESCRIPTION:Преподаватель: АЛЕКСАНДРОВА СВЕТЛ
 АНА СЕРГЕЕВНА
DTSTAMP:20260421T120232Z
DTSTART:20260409T163000Z
DURATION:PT3H15M
LOCATION:24-419
SEQUENCE:0
SUMMARY:[ЛК 2п.]Основы технологий искусственн
 ого интеллекта в инженерной деятельност
 и (АЛЕКСАНДРОВА СВЕТЛАНА СЕРГЕЕВНА)
UID:0568073d-a1aa-45dc-9408-46cc3a2fa85d
END:VEVENT
BEGIN:VEVENT
ATTENDEE;CN=Захарчишин Дмитрий Андреевич:https://
 public.mai.ru/schedule/data/16d59e35-ab25-11f0-bc6f-3cecef1c132f.json
DESCRIPTION:Преподаватель: Захарчишин Дмитрий
  Андреевич
DTSTAMP:20260421T120232Z
DTSTART:20260413T090000Z
DURATION:PT3H15M
LOCATION:5-117
SEQUENCE:0
SUMMARY:[ПЗ 2п.]Экономический анализ био-техн
 ических проектов и программ (Захарчишин 
 Дмитрий Андреевич)
UID:141fc5e4-ea06-406b-a12c-99509065aac4
END:VEVENT
BEGIN:VEVENT
ATTENDEE;CN=Сафронова Ксения Павловна:https://public
 .mai.ru/schedule/data/2ceeb272-29f5-11e9-aa0b-485b3919ee6d.json
DESCRIPTION:Преподаватель: Сафронова Ксения П
 авловна
DTSTAMP:20260421T120232Z
DTSTART:20260414T130000Z
DURATION:PT6H45M
LOCATION:24-410А\; 24-600а
SEQUENCE:0
SUMMARY:[ПЗ\,ЛР 4п.]Медицинское оборудование м
 ониторинга состояния здоровья персонал
 а замкнутого объекта (Сафронова Ксения П
 авловна)
UID:67c133e2-290d-49ba-9fcd-47b877b99929
END:VEVENT
BEGIN:VEVENT
ATTENDEE;CN=АЛЕКСАНДРОВА СВЕТЛАНА СЕРГЕЕВНА:ht
 tps://public.mai.ru/schedule/data/32eb50e4-0d8f-11e4-b897-005056c00008.jso
 n
DESCRIPTION:Преподаватель: АЛЕКСАНДРОВА СВЕТЛ
 АНА СЕРГЕЕВНА
DTSTAMP:20260421T120232Z
DTSTART:20260415T090000Z
DURATION:PT3H15M
LOCATION:24-721
SEQUENCE:0
SUMMARY:[ЛР 2п.]Основы технологий искусственн
 ого интеллекта в инженерной деятельност
 и (АЛЕКСАНДРОВА СВЕТЛАНА СЕРГЕЕВНА)
UID:54fbb050-2a05-446d-a72d-bd49d24ba919
END:VEVENT
BEGIN:VEVENT
ATTENDEE;CN=Кудрявцева Наталья Сергеевна:https://
 public.mai.ru/schedule/data/49405186-1d99-11e0-9baf-1c6f65450efa.json
DESCRIPTION:Преподаватель: Кудрявцева Наталья
  Сергеевна
DTSTAMP:20260421T120232Z
DTSTART:20260416T130000Z
DURATION:PT3H15M
LOCATION:24-600а
SEQUENCE:0
SUMMARY:[ЛР 2п.]Биотехнические системы и экол
 огический риск (Кудрявцева Наталья Серг
 еевна)
UID:653f0fa9-761a-42b3-9872-8398da1433bd
END:VEVENT
BEGIN:VEVENT
ATTENDEE;CN=Галкина Елена Евгеньевна:https://public.m
 ai.ru/schedule/data/6c63f7af-1d99-11e0-9baf-1c6f65450efa.json
DESCRIPTION:Преподаватель: Галкина Елена Евге
 ньевна
DTSTAMP:20260421T120232Z
DTSTART:20260420T090000Z
DURATION:PT3H15M
LOCATION:5-117
SEQUENCE:0
SUMMARY:[ЛК 2п.]Экономический анализ био-техн
 ических проектов и программ (Галкина Еле
 на Евгеньевна)
UID:f26c3896-e46e-44cd-b8e4-eb8037c68117
END:VEVENT
BEGIN:VEVENT
ATTENDEE;CN=Сафронова Ксения Павловна:https://public
 .mai.ru/schedule/data/2ceeb272-29f5-11e9-aa0b-485b3919ee6d.json
DESCRIPTION:Преподаватель: Сафронова Ксения П
 авловна
DTSTAMP:20260421T120232Z
DTSTART:20260421T130000Z
DURATION:PT3H15M
LOCATION:24-410А
SEQUENCE:0
SUMMARY:[ЛК 2п.]Медицинское оборудование мони
 торинга состояния здоровья персонала за
 мкнутого объекта (Сафронова Ксения Павл
 овна)
UID:1d90e393-b124-49a0-b3c7-4bb5e1c41403
END:VEVENT
BEGIN:VEVENT
ATTENDEE;CN=Галкина Елена Евгеньевна:https://public.m
 ai.ru/schedule/data/6c63f7af-1d99-11e0-9baf-1c6f65450efa.json
DESCRIPTION:Преподаватель: Галкина Елена Евге
 ньевна
DTSTAMP:20260421T120232Z
DTSTART:20260422T090000Z
DURATION:PT3H15M
LOCATION:5-002
SEQUENCE:0
SUMMARY:[ЛК 2п.]Стандарты ISO на системы эколог
 ического и интегрированного менеджмент
 а (Галкина Елена Евгеньевна)
UID:e4273112-05fd-491d-9f43-cbefc024cbc9
END:VEVENT
BEGIN:VEVENT
ATTENDEE;CN=АЛЕКСАНДРОВА СВЕТЛАНА СЕРГЕЕВНА:ht
 tps://public.mai.ru/schedule/data/32eb50e4-0d8f-11e4-b897-005056c00008.jso
 n
DESCRIPTION:Преподаватель: АЛЕКСАНДРОВА СВЕТЛ
 АНА СЕРГЕЕВНА
DTSTAMP:20260421T120232Z
DTSTART:20260423T163000Z
DURATION:PT3H15M
LOCATION:24-419
SEQUENCE:0
SUMMARY:[ЛК 2п.]Основы технологий искусственн
 ого интеллекта в инженерной деятельност
 и (АЛЕКСАНДРОВА СВЕТЛАНА СЕРГЕЕВНА)
UID:d2b8bcac-a37d-404d-b179-c7a2d5b5c77a
END:VEVENT
BEGIN:VEVENT
ATTENDEE;CN=АЛЕКСАНДРОВА СВЕТЛАНА СЕРГЕЕВНА:ht
 tps://public.mai.ru/schedule/data/32eb50e4-0d8f-11e4-b897-005056c00008.jso
 n
DESCRIPTION:Преподаватель: АЛЕКСАНДРОВА СВЕТЛ
 АНА СЕРГЕЕВНА
DTSTAMP:20260421T120232Z
DTSTART:20260429T090000Z
DURATION:PT3H15M
LOCATION:24-721
SEQUENCE:0
SUMMARY:[ЛР 2п.]Основы технологий искусственн
 ого интеллекта в инженерной деятельност
 и (АЛЕКСАНДРОВА СВЕТЛАНА СЕРГЕЕВНА)
UID:1de26633-aecd-4a20-96f2-cd72d6ad4c63
END:VEVENT
BEGIN:VEVENT
ATTENDEE;CN=Галкина Елена Евгеньевна:https://public.m
 ai.ru/schedule/data/6c63f7af-1d99-11e0-9baf-1c6f65450efa.json
DESCRIPTION:Преподаватель: Галкина Елена Евге
 ньевна
DTSTAMP:20260421T120232Z
DTSTART:20260504T090000Z
DURATION:PT3H15M
LOCATION:5-117
SEQUENCE:0
SUMMARY:[ЛК 2п.]Экономический анализ био-техн
 ических проектов и программ (Галкина Еле
 на Евгеньевна)
UID:561959e9-9aa3-4fa0-be6e-065ac81b0ae6
END:VEVENT
BEGIN:VEVENT
ATTENDEE;CN=Сафронова Ксения Павловна:https://public
 .mai.ru/schedule/data/2ceeb272-29f5-11e9-aa0b-485b3919ee6d.json
DESCRIPTION:Преподаватель: Сафронова Ксения П
 авловна
DTSTAMP:20260421T120232Z
DTSTART:20260505T130000Z
DURATION:PT3H15M
LOCATION:24-410А
SEQUENCE:0
SUMMARY:[ЛК 2п.]Медицинское оборудование мони
 торинга состояния здоровья персонала за
 мкнутого объекта (Сафронова Ксения Павл
 овна)
UID:ca66bf2c-2e93-4687-b4d9-661b55c72939
END:VEVENT
BEGIN:VEVENT
ATTENDEE;CN=Галкина Елена Евгеньевна:https://public.m
 ai.ru/schedule/data/6c63f7af-1d99-11e0-9baf-1c6f65450efa.json
DESCRIPTION:Преподаватель: Галкина Елена Евге
 ньевна
DTSTAMP:20260421T120232Z
DTSTART:20260506T090000Z
DURATION:PT3H15M
LOCATION:5-002
SEQUENCE:0
SUMMARY:[ПЗ 2п.]Стандарты ISO на системы эколог
 ического и интегрированного менеджмент
 а (Галкина Елена Евгеньевна)
UID:6754b49f-7036-444b-815e-403293849f15
END:VEVENT
BEGIN:VEVENT
ATTENDEE;CN=Кудрявцева Наталья Сергеевна:https://
 public.mai.ru/schedule/data/49405186-1d99-11e0-9baf-1c6f65450efa.json
DESCRIPTION:Преподаватель: Кудрявцева Наталья
  Сергеевна
DTSTAMP:20260421T120232Z
DTSTART:20260514T130000Z
DURATION:PT1H30M
LOCATION:24-744
SEQUENCE:0
SUMMARY:[Экзамен 1п.]Биотехнические системы и
  экологический риск (Кудрявцева Наталья 
 Сергеевна)
UID:befb36a1-0e21-4855-821a-d5fc03889541
END:VEVENT
BEGIN:VEVENT
ATTENDEE;CN=Галкина Елена Евгеньевна:https://public.m
 ai.ru/schedule/data/6c63f7af-1d99-11e0-9baf-1c6f65450efa.json
DESCRIPTION:Преподаватель: Галкина Елена Евге
 ньевна
DTSTAMP:20260421T120232Z
DTSTART:20260518T090000Z
DURATION:PT1H30M
LOCATION:5-117
SEQUENCE:0
SUMMARY:[Экзамен 1п.]Экономический анализ био
 -технических проектов и программ (Галкин
 а Елена Евгеньевна)
UID:acb509e8-ffb4-4e14-866f-7aacee6130e6
END:VEVENT
BEGIN:VEVENT
ATTENDEE;CN=Галкина Елена Евгеньевна:https://public.m
 ai.ru/schedule/data/6c63f7af-1d99-11e0-9baf-1c6f65450efa.json
DESCRIPTION:Преподаватель: Галкина Елена Евге
 ньевна
DTSTAMP:20260421T120232Z
DTSTART:20260522T090000Z
DURATION:PT1H30M
LOCATION:5-117
SEQUENCE:0
SUMMARY:[Экзамен 1п.]Стандарты ISO на системы э
 кологического и интегрированного менед
 жмента (Галкина Елена Евгеньевна)
UID:e199f537-5f57-4cad-ab6e-84954ef354a8
END:VEVENT
END:VCALENDAR
