﻿BEGIN:VCALENDAR
CALSCALE:GREGORIAN
METHOD:PUBLISH
PRODID:-//MAI-dep406//MAI Dep406 1.01//RU
VERSION:2.0
X-WR-TIMEZONE:Europe/Moscow
BEGIN:VTIMEZONE
TZID:Europe/Moscow
X-LIC-LOCATION:Europe/Moscow
BEGIN:STANDARD
DTSTART;VALUE=DATE:19700101
TZNAME:GMT+3
TZOFFSETTO:+0300
END:STANDARD
END:VTIMEZONE
BEGIN:VEVENT
ATTENDEE;CN=Антуфьев Борис Андреевич:https://public.m
 ai.ru/schedule/data/65f93e04-1d99-11e0-9baf-1c6f65450efa.json
DESCRIPTION:Преподаватель: Антуфьев Борис Анд
 реевич
DTSTAMP:20260421T113058Z
DTSTART:20260210T130000Z
DURATION:PT3H15M
LOCATION:ГУК Б-346
SEQUENCE:0
SUMMARY:[ЛК\,ПЗ 2п.]Основы аэрогидроупругости 
 (Антуфьев Борис Андреевич)
UID:6c5ad059-e9c2-46a8-854e-4aeefacc1798
END:VEVENT
BEGIN:VEVENT
ATTENDEE;CN=Сидоренко Александр Сергеевич:https:
 //public.mai.ru/schedule/data/494051aa-1d99-11e0-9baf-1c6f65450efa.json
DESCRIPTION:Преподаватель: Сидоренко Александ
 р Сергеевич
DTSTAMP:20260421T113058Z
DTSTART:20260210T163000Z
DURATION:PT3H15M
LOCATION:ГУК Б-660
SEQUENCE:0
SUMMARY:[ЛК 2п.]Экспериментальные методы иссл
 едования прочности конструкций (Сидорен
 ко Александр Сергеевич)
UID:29758b97-9ee8-4523-a662-fc3945f8b0b8
END:VEVENT
BEGIN:VEVENT
ATTENDEE;CN=ЗИНИН АЛЕКСАНДР ВЛАДИМИРОВИЧ:https://
 public.mai.ru/schedule/data/dac35d1e-0d8e-11e4-b897-005056c00008.json
DESCRIPTION:Преподаватель: ЗИНИН АЛЕКСАНДР ВЛ
 АДИМИРОВИЧ
DTSTAMP:20260421T113058Z
DTSTART:20260211T130000Z
DURATION:PT3H15M
LOCATION:Орш. В-211
SEQUENCE:0
SUMMARY:[ЛК 2п.]Основы прочности конструкций (
 ЗИНИН АЛЕКСАНДР ВЛАДИМИРОВИЧ)
UID:8529357c-dde8-4c04-a6e0-87b560eebfb7
END:VEVENT
BEGIN:VEVENT
ATTENDEE;CN=Федотенков Григорий Валерьевич:http
 s://public.mai.ru/schedule/data/d72d63de-1d99-11e0-9baf-1c6f65450efa.json
DESCRIPTION:Преподаватель: Федотенков Григори
 й Валерьевич
DTSTAMP:20260421T113058Z
DTSTART:20260212T104500Z
DURATION:PT1H30M
LOCATION:ГУК Б-346
SEQUENCE:0
SUMMARY:[ЛК 1п.]УИРС (Федотенков Григорий Вале
 рьевич)
UID:ebe34df7-f065-4a8c-9038-7a42f6c5e2e5
END:VEVENT
BEGIN:VEVENT
ATTENDEE;CN=Сердюк Дмитрий Олегович:https://public.mai
 .ru/schedule/data/773007e0-920f-11e6-b2eb-3cd92bf20bfe.json
DESCRIPTION:Преподаватель: Сердюк Дмитрий Оле
 гович
DTSTAMP:20260421T113058Z
DTSTART:20260212T130000Z
DURATION:PT3H15M
LOCATION:ГУК Б-346
SEQUENCE:0
SUMMARY:[ЛК 2п.]Программные комплексы механик
 и конструкций (Сердюк Дмитрий Олегович)
UID:92a9e4e9-6e86-4698-bbcc-31f1f1460256
END:VEVENT
BEGIN:VEVENT
ATTENDEE;CN=Антуфьев Борис Андреевич:https://public.m
 ai.ru/schedule/data/65f93e04-1d99-11e0-9baf-1c6f65450efa.json
DESCRIPTION:Преподаватель: Антуфьев Борис Анд
 реевич
DTSTAMP:20260421T113058Z
DTSTART:20260217T130000Z
DURATION:PT3H15M
LOCATION:ГУК Б-346
SEQUENCE:0
SUMMARY:[ЛК\,ПЗ 2п.]Основы аэрогидроупругости 
 (Антуфьев Борис Андреевич)
UID:1ddf5006-fe7f-46ab-bf49-8de86fa3364f
END:VEVENT
BEGIN:VEVENT
ATTENDEE;CN=Сидоренко Александр Сергеевич:https:
 //public.mai.ru/schedule/data/494051aa-1d99-11e0-9baf-1c6f65450efa.json
DESCRIPTION:Преподаватель: Сидоренко Александ
 р Сергеевич
DTSTAMP:20260421T113058Z
DTSTART:20260217T163000Z
DURATION:PT3H15M
LOCATION:ГУК Б-660
SEQUENCE:0
SUMMARY:[ЛР 2п.]Экспериментальные методы иссл
 едования прочности конструкций (Сидорен
 ко Александр Сергеевич)
UID:8affc500-1e3f-4375-9b1f-361081ea6dc2
END:VEVENT
BEGIN:VEVENT
ATTENDEE;CN=ЗИНИН АЛЕКСАНДР ВЛАДИМИРОВИЧ:https://
 public.mai.ru/schedule/data/dac35d1e-0d8e-11e4-b897-005056c00008.json
DESCRIPTION:Преподаватель: ЗИНИН АЛЕКСАНДР ВЛ
 АДИМИРОВИЧ
DTSTAMP:20260421T113058Z
DTSTART:20260218T130000Z
DURATION:PT3H15M
LOCATION:Орш. В-211
SEQUENCE:0
SUMMARY:[ЛК 2п.]Основы прочности конструкций (
 ЗИНИН АЛЕКСАНДР ВЛАДИМИРОВИЧ)
UID:cf03612e-ef8e-40e5-bcd6-dee963f0e31f
END:VEVENT
BEGIN:VEVENT
ATTENDEE;CN=Федотенков Григорий Валерьевич:http
 s://public.mai.ru/schedule/data/d72d63de-1d99-11e0-9baf-1c6f65450efa.json
DESCRIPTION:Преподаватель: Федотенков Григори
 й Валерьевич
DTSTAMP:20260421T113058Z
DTSTART:20260219T104500Z
DURATION:PT1H30M
LOCATION:ГУК Б-346
SEQUENCE:0
SUMMARY:[ЛК 1п.]УИРС (Федотенков Григорий Вале
 рьевич)
UID:c3ca9a89-f8b2-4338-8e25-6a6c706a5355
END:VEVENT
BEGIN:VEVENT
ATTENDEE;CN=Сердюк Дмитрий Олегович:https://public.mai
 .ru/schedule/data/773007e0-920f-11e6-b2eb-3cd92bf20bfe.json
DESCRIPTION:Преподаватель: Сердюк Дмитрий Оле
 гович
DTSTAMP:20260421T113058Z
DTSTART:20260219T130000Z
DURATION:PT3H15M
LOCATION:ГУК Б-346
SEQUENCE:0
SUMMARY:[ЛР 2п.]Программные комплексы механик
 и конструкций (Сердюк Дмитрий Олегович)
UID:9d1d4b45-8bcc-4f22-9f4e-1143c4fdda40
END:VEVENT
BEGIN:VEVENT
ATTENDEE;CN=Антуфьев Борис Андреевич:https://public.m
 ai.ru/schedule/data/65f93e04-1d99-11e0-9baf-1c6f65450efa.json
DESCRIPTION:Преподаватель: Антуфьев Борис Анд
 реевич
DTSTAMP:20260421T113058Z
DTSTART:20260224T130000Z
DURATION:PT3H15M
LOCATION:ГУК Б-346
SEQUENCE:0
SUMMARY:[ЛК\,ПЗ 2п.]Основы аэрогидроупругости 
 (Антуфьев Борис Андреевич)
UID:7cc8ddc8-f4af-4ece-b4c0-776fe3feef31
END:VEVENT
BEGIN:VEVENT
ATTENDEE;CN=Сидоренко Александр Сергеевич:https:
 //public.mai.ru/schedule/data/494051aa-1d99-11e0-9baf-1c6f65450efa.json
DESCRIPTION:Преподаватель: Сидоренко Александ
 р Сергеевич
DTSTAMP:20260421T113058Z
DTSTART:20260224T163000Z
DURATION:PT3H15M
LOCATION:ГУК Б-660
SEQUENCE:0
SUMMARY:[ЛК 2п.]Экспериментальные методы иссл
 едования прочности конструкций (Сидорен
 ко Александр Сергеевич)
UID:5d238a10-9e35-4579-91fa-ff503a4590a0
END:VEVENT
BEGIN:VEVENT
ATTENDEE;CN=ЗИНИН АЛЕКСАНДР ВЛАДИМИРОВИЧ:https://
 public.mai.ru/schedule/data/dac35d1e-0d8e-11e4-b897-005056c00008.json
DESCRIPTION:Преподаватель: ЗИНИН АЛЕКСАНДР ВЛ
 АДИМИРОВИЧ
DTSTAMP:20260421T113058Z
DTSTART:20260225T130000Z
DURATION:PT3H15M
LOCATION:Орш. В-211
SEQUENCE:0
SUMMARY:[ЛК 2п.]Основы прочности конструкций (
 ЗИНИН АЛЕКСАНДР ВЛАДИМИРОВИЧ)
UID:1db8f5bd-c12e-4244-8aeb-100ee5f9f527
END:VEVENT
BEGIN:VEVENT
ATTENDEE;CN=Федотенков Григорий Валерьевич:http
 s://public.mai.ru/schedule/data/d72d63de-1d99-11e0-9baf-1c6f65450efa.json
DESCRIPTION:Преподаватель: Федотенков Григори
 й Валерьевич
DTSTAMP:20260421T113058Z
DTSTART:20260226T104500Z
DURATION:PT1H30M
LOCATION:ГУК Б-346
SEQUENCE:0
SUMMARY:[ЛК 1п.]УИРС (Федотенков Григорий Вале
 рьевич)
UID:ce55659e-e4a6-42e3-84b3-e2a544e6474f
END:VEVENT
BEGIN:VEVENT
ATTENDEE;CN=Сердюк Дмитрий Олегович:https://public.mai
 .ru/schedule/data/773007e0-920f-11e6-b2eb-3cd92bf20bfe.json
DESCRIPTION:Преподаватель: Сердюк Дмитрий Оле
 гович
DTSTAMP:20260421T113058Z
DTSTART:20260226T130000Z
DURATION:PT3H15M
LOCATION:ГУК Б-346
SEQUENCE:0
SUMMARY:[ЛР 2п.]Программные комплексы механик
 и конструкций (Сердюк Дмитрий Олегович)
UID:b3930d67-6291-4705-8adf-c1d3a56bf076
END:VEVENT
BEGIN:VEVENT
ATTENDEE;CN=Антуфьев Борис Андреевич:https://public.m
 ai.ru/schedule/data/65f93e04-1d99-11e0-9baf-1c6f65450efa.json
DESCRIPTION:Преподаватель: Антуфьев Борис Анд
 реевич
DTSTAMP:20260421T113058Z
DTSTART:20260303T130000Z
DURATION:PT3H15M
LOCATION:ГУК Б-346
SEQUENCE:0
SUMMARY:[ЛК\,ПЗ 2п.]Основы аэрогидроупругости 
 (Антуфьев Борис Андреевич)
UID:d8947e49-1a80-449c-901f-dcd46f33fc87
END:VEVENT
BEGIN:VEVENT
ATTENDEE;CN=Сидоренко Александр Сергеевич:https:
 //public.mai.ru/schedule/data/494051aa-1d99-11e0-9baf-1c6f65450efa.json
DESCRIPTION:Преподаватель: Сидоренко Александ
 р Сергеевич
DTSTAMP:20260421T113058Z
DTSTART:20260303T163000Z
DURATION:PT3H15M
LOCATION:ГУК Б-660
SEQUENCE:0
SUMMARY:[ЛР 2п.]Экспериментальные методы иссл
 едования прочности конструкций (Сидорен
 ко Александр Сергеевич)
UID:df2b02e4-41f0-4fbf-8067-156de9de83af
END:VEVENT
BEGIN:VEVENT
ATTENDEE;CN=ЗИНИН АЛЕКСАНДР ВЛАДИМИРОВИЧ:https://
 public.mai.ru/schedule/data/dac35d1e-0d8e-11e4-b897-005056c00008.json
DESCRIPTION:Преподаватель: ЗИНИН АЛЕКСАНДР ВЛ
 АДИМИРОВИЧ
DTSTAMP:20260421T113058Z
DTSTART:20260304T130000Z
DURATION:PT3H15M
LOCATION:Орш. В-211
SEQUENCE:0
SUMMARY:[ЛК 2п.]Основы прочности конструкций (
 ЗИНИН АЛЕКСАНДР ВЛАДИМИРОВИЧ)
UID:06375618-789b-4683-999b-da31ce0d1e8f
END:VEVENT
BEGIN:VEVENT
ATTENDEE;CN=Федотенков Григорий Валерьевич:http
 s://public.mai.ru/schedule/data/d72d63de-1d99-11e0-9baf-1c6f65450efa.json
DESCRIPTION:Преподаватель: Федотенков Григори
 й Валерьевич
DTSTAMP:20260421T113058Z
DTSTART:20260305T104500Z
DURATION:PT1H30M
LOCATION:ГУК Б-346
SEQUENCE:0
SUMMARY:[ЛК 1п.]УИРС (Федотенков Григорий Вале
 рьевич)
UID:c0579ef5-eed2-492b-af1b-602546b5e5bd
END:VEVENT
BEGIN:VEVENT
ATTENDEE;CN=Сердюк Дмитрий Олегович:https://public.mai
 .ru/schedule/data/773007e0-920f-11e6-b2eb-3cd92bf20bfe.json
DESCRIPTION:Преподаватель: Сердюк Дмитрий Оле
 гович
DTSTAMP:20260421T113058Z
DTSTART:20260305T130000Z
DURATION:PT3H15M
LOCATION:ГУК Б-346
SEQUENCE:0
SUMMARY:[ЛР 2п.]Программные комплексы механик
 и конструкций (Сердюк Дмитрий Олегович)
UID:c07df8f1-f144-4eb8-aa46-ca1586042bcc
END:VEVENT
BEGIN:VEVENT
ATTENDEE;CN=Антуфьев Борис Андреевич:https://public.m
 ai.ru/schedule/data/65f93e04-1d99-11e0-9baf-1c6f65450efa.json
DESCRIPTION:Преподаватель: Антуфьев Борис Анд
 реевич
DTSTAMP:20260421T113058Z
DTSTART:20260310T130000Z
DURATION:PT3H15M
LOCATION:ГУК Б-346
SEQUENCE:0
SUMMARY:[ЛК\,ПЗ 2п.]Основы аэрогидроупругости 
 (Антуфьев Борис Андреевич)
UID:6d2418a4-3d4b-4451-b53d-696ebae6e7d7
END:VEVENT
BEGIN:VEVENT
ATTENDEE;CN=Сидоренко Александр Сергеевич:https:
 //public.mai.ru/schedule/data/494051aa-1d99-11e0-9baf-1c6f65450efa.json
DESCRIPTION:Преподаватель: Сидоренко Александ
 р Сергеевич
DTSTAMP:20260421T113058Z
DTSTART:20260310T163000Z
DURATION:PT3H15M
LOCATION:ГУК Б-660
SEQUENCE:0
SUMMARY:[ЛК 2п.]Экспериментальные методы иссл
 едования прочности конструкций (Сидорен
 ко Александр Сергеевич)
UID:564fcd68-e8c6-415a-a20c-8b43a4faf21a
END:VEVENT
BEGIN:VEVENT
ATTENDEE;CN=ЗИНИН АЛЕКСАНДР ВЛАДИМИРОВИЧ:https://
 public.mai.ru/schedule/data/dac35d1e-0d8e-11e4-b897-005056c00008.json
DESCRIPTION:Преподаватель: ЗИНИН АЛЕКСАНДР ВЛ
 АДИМИРОВИЧ
DTSTAMP:20260421T113058Z
DTSTART:20260311T130000Z
DURATION:PT3H15M
LOCATION:Орш. В-211
SEQUENCE:0
SUMMARY:[ЛК 2п.]Основы прочности конструкций (
 ЗИНИН АЛЕКСАНДР ВЛАДИМИРОВИЧ)
UID:aa8e176d-1481-4301-8020-cd49eeaf2077
END:VEVENT
BEGIN:VEVENT
ATTENDEE;CN=Федотенков Григорий Валерьевич:http
 s://public.mai.ru/schedule/data/d72d63de-1d99-11e0-9baf-1c6f65450efa.json
DESCRIPTION:Преподаватель: Федотенков Григори
 й Валерьевич
DTSTAMP:20260421T113058Z
DTSTART:20260312T104500Z
DURATION:PT1H30M
LOCATION:ГУК Б-346
SEQUENCE:0
SUMMARY:[ЛК 1п.]УИРС (Федотенков Григорий Вале
 рьевич)
UID:8c7bf174-78ed-47c5-afbc-a55382544b0e
END:VEVENT
BEGIN:VEVENT
ATTENDEE;CN=Сердюк Дмитрий Олегович:https://public.mai
 .ru/schedule/data/773007e0-920f-11e6-b2eb-3cd92bf20bfe.json
DESCRIPTION:Преподаватель: Сердюк Дмитрий Оле
 гович
DTSTAMP:20260421T113058Z
DTSTART:20260312T130000Z
DURATION:PT3H15M
LOCATION:ГУК Б-346
SEQUENCE:0
SUMMARY:[ЛР 2п.]Программные комплексы механик
 и конструкций (Сердюк Дмитрий Олегович)
UID:247ccdbe-2508-42f5-bc8b-f5662ab69f42
END:VEVENT
BEGIN:VEVENT
ATTENDEE;CN=Антуфьев Борис Андреевич:https://public.m
 ai.ru/schedule/data/65f93e04-1d99-11e0-9baf-1c6f65450efa.json
DESCRIPTION:Преподаватель: Антуфьев Борис Анд
 реевич
DTSTAMP:20260421T113058Z
DTSTART:20260317T130000Z
DURATION:PT3H15M
LOCATION:ГУК Б-346
SEQUENCE:0
SUMMARY:[ЛК\,ПЗ 2п.]Основы аэрогидроупругости 
 (Антуфьев Борис Андреевич)
UID:cbc6d2da-7d68-4289-8af7-919a01c87ee3
END:VEVENT
BEGIN:VEVENT
ATTENDEE;CN=Сидоренко Александр Сергеевич:https:
 //public.mai.ru/schedule/data/494051aa-1d99-11e0-9baf-1c6f65450efa.json
DESCRIPTION:Преподаватель: Сидоренко Александ
 р Сергеевич
DTSTAMP:20260421T113058Z
DTSTART:20260317T163000Z
DURATION:PT3H15M
LOCATION:ГУК Б-660
SEQUENCE:0
SUMMARY:[ЛР 2п.]Экспериментальные методы иссл
 едования прочности конструкций (Сидорен
 ко Александр Сергеевич)
UID:70608bc6-797f-4e0e-a015-2a17506f22b8
END:VEVENT
BEGIN:VEVENT
ATTENDEE;CN=ЗИНИН АЛЕКСАНДР ВЛАДИМИРОВИЧ:https://
 public.mai.ru/schedule/data/dac35d1e-0d8e-11e4-b897-005056c00008.json
DESCRIPTION:Преподаватель: ЗИНИН АЛЕКСАНДР ВЛ
 АДИМИРОВИЧ
DTSTAMP:20260421T113058Z
DTSTART:20260318T130000Z
DURATION:PT3H15M
LOCATION:Орш. В-211
SEQUENCE:0
SUMMARY:[ЛК 2п.]Основы прочности конструкций (
 ЗИНИН АЛЕКСАНДР ВЛАДИМИРОВИЧ)
UID:8b711db2-2716-4329-9663-861996f806b7
END:VEVENT
BEGIN:VEVENT
ATTENDEE;CN=Федотенков Григорий Валерьевич:http
 s://public.mai.ru/schedule/data/d72d63de-1d99-11e0-9baf-1c6f65450efa.json
DESCRIPTION:Преподаватель: Федотенков Григори
 й Валерьевич
DTSTAMP:20260421T113058Z
DTSTART:20260319T104500Z
DURATION:PT1H30M
LOCATION:ГУК Б-346
SEQUENCE:0
SUMMARY:[ЛК 1п.]УИРС (Федотенков Григорий Вале
 рьевич)
UID:4b83c70a-ea3d-408d-b592-f3f32b2391ad
END:VEVENT
BEGIN:VEVENT
ATTENDEE;CN=Сердюк Дмитрий Олегович:https://public.mai
 .ru/schedule/data/773007e0-920f-11e6-b2eb-3cd92bf20bfe.json
DESCRIPTION:Преподаватель: Сердюк Дмитрий Оле
 гович
DTSTAMP:20260421T113058Z
DTSTART:20260319T130000Z
DURATION:PT3H15M
LOCATION:ГУК Б-346
SEQUENCE:0
SUMMARY:[ЛР 2п.]Программные комплексы механик
 и конструкций (Сердюк Дмитрий Олегович)
UID:1b0de8b9-c0ea-418f-9031-56dcc0a133d3
END:VEVENT
BEGIN:VEVENT
ATTENDEE;CN=Антуфьев Борис Андреевич:https://public.m
 ai.ru/schedule/data/65f93e04-1d99-11e0-9baf-1c6f65450efa.json
DESCRIPTION:Преподаватель: Антуфьев Борис Анд
 реевич
DTSTAMP:20260421T113058Z
DTSTART:20260324T130000Z
DURATION:PT3H15M
LOCATION:ГУК Б-346
SEQUENCE:0
SUMMARY:[ЛК\,ПЗ 2п.]Основы аэрогидроупругости 
 (Антуфьев Борис Андреевич)
UID:83fe809d-220b-4cb9-93d8-52ccad401a18
END:VEVENT
BEGIN:VEVENT
ATTENDEE;CN=Сидоренко Александр Сергеевич:https:
 //public.mai.ru/schedule/data/494051aa-1d99-11e0-9baf-1c6f65450efa.json
DESCRIPTION:Преподаватель: Сидоренко Александ
 р Сергеевич
DTSTAMP:20260421T113058Z
DTSTART:20260324T163000Z
DURATION:PT3H15M
LOCATION:ГУК Б-660
SEQUENCE:0
SUMMARY:[ЛК 2п.]Экспериментальные методы иссл
 едования прочности конструкций (Сидорен
 ко Александр Сергеевич)
UID:4a56bbe2-0d8c-46e2-ba23-86293bbc5e71
END:VEVENT
BEGIN:VEVENT
ATTENDEE;CN=ЗИНИН АЛЕКСАНДР ВЛАДИМИРОВИЧ:https://
 public.mai.ru/schedule/data/dac35d1e-0d8e-11e4-b897-005056c00008.json
DESCRIPTION:Преподаватель: ЗИНИН АЛЕКСАНДР ВЛ
 АДИМИРОВИЧ
DTSTAMP:20260421T113058Z
DTSTART:20260325T130000Z
DURATION:PT3H15M
LOCATION:Орш. В-211
SEQUENCE:0
SUMMARY:[ЛК 2п.]Основы прочности конструкций (
 ЗИНИН АЛЕКСАНДР ВЛАДИМИРОВИЧ)
UID:481c410b-8afe-4dec-ba64-5ddb55936c69
END:VEVENT
BEGIN:VEVENT
ATTENDEE;CN=Федотенков Григорий Валерьевич:http
 s://public.mai.ru/schedule/data/d72d63de-1d99-11e0-9baf-1c6f65450efa.json
DESCRIPTION:Преподаватель: Федотенков Григори
 й Валерьевич
DTSTAMP:20260421T113058Z
DTSTART:20260326T104500Z
DURATION:PT1H30M
LOCATION:ГУК Б-346
SEQUENCE:0
SUMMARY:[ЛК 1п.]УИРС (Федотенков Григорий Вале
 рьевич)
UID:49bada96-a024-45cb-9ea0-5602f9a5821d
END:VEVENT
BEGIN:VEVENT
ATTENDEE;CN=Сердюк Дмитрий Олегович:https://public.mai
 .ru/schedule/data/773007e0-920f-11e6-b2eb-3cd92bf20bfe.json
DESCRIPTION:Преподаватель: Сердюк Дмитрий Оле
 гович
DTSTAMP:20260421T113058Z
DTSTART:20260326T130000Z
DURATION:PT3H15M
LOCATION:ГУК Б-346
SEQUENCE:0
SUMMARY:[ЛР 2п.]Программные комплексы механик
 и конструкций (Сердюк Дмитрий Олегович)
UID:4296e1d9-8abc-4f5b-a415-357b354f5526
END:VEVENT
BEGIN:VEVENT
ATTENDEE;CN=Антуфьев Борис Андреевич:https://public.m
 ai.ru/schedule/data/65f93e04-1d99-11e0-9baf-1c6f65450efa.json
DESCRIPTION:Преподаватель: Антуфьев Борис Анд
 реевич
DTSTAMP:20260421T113058Z
DTSTART:20260331T130000Z
DURATION:PT3H15M
LOCATION:ГУК Б-346
SEQUENCE:0
SUMMARY:[ЛК\,ПЗ 2п.]Основы аэрогидроупругости 
 (Антуфьев Борис Андреевич)
UID:39f0a89f-bb89-4cb4-8c7e-1eebf100b743
END:VEVENT
BEGIN:VEVENT
ATTENDEE;CN=Сидоренко Александр Сергеевич:https:
 //public.mai.ru/schedule/data/494051aa-1d99-11e0-9baf-1c6f65450efa.json
DESCRIPTION:Преподаватель: Сидоренко Александ
 р Сергеевич
DTSTAMP:20260421T113058Z
DTSTART:20260331T163000Z
DURATION:PT3H15M
LOCATION:ГУК Б-660
SEQUENCE:0
SUMMARY:[ЛР 2п.]Экспериментальные методы иссл
 едования прочности конструкций (Сидорен
 ко Александр Сергеевич)
UID:28ad355b-d020-4c1e-b20b-807d2138b29e
END:VEVENT
BEGIN:VEVENT
ATTENDEE;CN=ЗИНИН АЛЕКСАНДР ВЛАДИМИРОВИЧ:https://
 public.mai.ru/schedule/data/dac35d1e-0d8e-11e4-b897-005056c00008.json
DESCRIPTION:Преподаватель: ЗИНИН АЛЕКСАНДР ВЛ
 АДИМИРОВИЧ
DTSTAMP:20260421T113058Z
DTSTART:20260401T130000Z
DURATION:PT3H15M
LOCATION:Орш. В-211
SEQUENCE:0
SUMMARY:[ЛК 2п.]Основы прочности конструкций (
 ЗИНИН АЛЕКСАНДР ВЛАДИМИРОВИЧ)
UID:91d5b0f8-1448-4dd7-a808-5ab4bf0402b1
END:VEVENT
BEGIN:VEVENT
ATTENDEE;CN=Федотенков Григорий Валерьевич:http
 s://public.mai.ru/schedule/data/d72d63de-1d99-11e0-9baf-1c6f65450efa.json
DESCRIPTION:Преподаватель: Федотенков Григори
 й Валерьевич
DTSTAMP:20260421T113058Z
DTSTART:20260402T104500Z
DURATION:PT1H30M
LOCATION:ГУК Б-346
SEQUENCE:0
SUMMARY:[ЛК 1п.]УИРС (Федотенков Григорий Вале
 рьевич)
UID:de057a57-0b8e-4397-839b-9ce51ecf7eb9
END:VEVENT
BEGIN:VEVENT
ATTENDEE;CN=Сердюк Дмитрий Олегович:https://public.mai
 .ru/schedule/data/773007e0-920f-11e6-b2eb-3cd92bf20bfe.json
DESCRIPTION:Преподаватель: Сердюк Дмитрий Оле
 гович
DTSTAMP:20260421T113058Z
DTSTART:20260402T130000Z
DURATION:PT3H15M
LOCATION:ГУК Б-346
SEQUENCE:0
SUMMARY:[ЛР 2п.]Программные комплексы механик
 и конструкций (Сердюк Дмитрий Олегович)
UID:b406dae0-2dab-4145-81ad-739426966db1
END:VEVENT
BEGIN:VEVENT
ATTENDEE;CN=Антуфьев Борис Андреевич:https://public.m
 ai.ru/schedule/data/65f93e04-1d99-11e0-9baf-1c6f65450efa.json
DESCRIPTION:Преподаватель: Антуфьев Борис Анд
 реевич
DTSTAMP:20260421T113058Z
DTSTART:20260407T130000Z
DURATION:PT3H15M
LOCATION:ГУК Б-346
SEQUENCE:0
SUMMARY:[ЛК\,ПЗ 2п.]Основы аэрогидроупругости 
 (Антуфьев Борис Андреевич)
UID:e3032a38-f8d8-4bee-a638-50fb7ca7e958
END:VEVENT
BEGIN:VEVENT
ATTENDEE;CN=Сидоренко Александр Сергеевич:https:
 //public.mai.ru/schedule/data/494051aa-1d99-11e0-9baf-1c6f65450efa.json
DESCRIPTION:Преподаватель: Сидоренко Александ
 р Сергеевич
DTSTAMP:20260421T113058Z
DTSTART:20260407T163000Z
DURATION:PT3H15M
LOCATION:ГУК Б-660
SEQUENCE:0
SUMMARY:[ЛК 2п.]Экспериментальные методы иссл
 едования прочности конструкций (Сидорен
 ко Александр Сергеевич)
UID:d145ed4e-7f18-419d-bf9c-e0752abf5fef
END:VEVENT
BEGIN:VEVENT
ATTENDEE;CN=ЗИНИН АЛЕКСАНДР ВЛАДИМИРОВИЧ:https://
 public.mai.ru/schedule/data/dac35d1e-0d8e-11e4-b897-005056c00008.json
DESCRIPTION:Преподаватель: ЗИНИН АЛЕКСАНДР ВЛ
 АДИМИРОВИЧ
DTSTAMP:20260421T113058Z
DTSTART:20260408T130000Z
DURATION:PT3H15M
LOCATION:Орш. В-211
SEQUENCE:0
SUMMARY:[ПЗ 2п.]Основы прочности конструкций (
 ЗИНИН АЛЕКСАНДР ВЛАДИМИРОВИЧ)
UID:dc32d5c8-dfa9-43e2-a459-c85b63d9e29e
END:VEVENT
BEGIN:VEVENT
ATTENDEE;CN=Федотенков Григорий Валерьевич:http
 s://public.mai.ru/schedule/data/d72d63de-1d99-11e0-9baf-1c6f65450efa.json
DESCRIPTION:Преподаватель: Федотенков Григори
 й Валерьевич
DTSTAMP:20260421T113058Z
DTSTART:20260409T104500Z
DURATION:PT1H30M
LOCATION:ГУК Б-346
SEQUENCE:0
SUMMARY:[ЛК 1п.]УИРС (Федотенков Григорий Вале
 рьевич)
UID:3b48fb52-1546-48db-aae4-c834bc776eed
END:VEVENT
BEGIN:VEVENT
ATTENDEE;CN=Сердюк Дмитрий Олегович:https://public.mai
 .ru/schedule/data/773007e0-920f-11e6-b2eb-3cd92bf20bfe.json
DESCRIPTION:Преподаватель: Сердюк Дмитрий Оле
 гович
DTSTAMP:20260421T113058Z
DTSTART:20260409T130000Z
DURATION:PT3H15M
LOCATION:ГУК Б-346
SEQUENCE:0
SUMMARY:[ЛР 2п.]Программные комплексы механик
 и конструкций (Сердюк Дмитрий Олегович)
UID:3788373f-ae9d-45fa-943e-b21f9a9c7ab7
END:VEVENT
BEGIN:VEVENT
ATTENDEE;CN=Антуфьев Борис Андреевич:https://public.m
 ai.ru/schedule/data/65f93e04-1d99-11e0-9baf-1c6f65450efa.json
DESCRIPTION:Преподаватель: Антуфьев Борис Анд
 реевич
DTSTAMP:20260421T113058Z
DTSTART:20260414T144500Z
DURATION:PT1H30M
LOCATION:ГУК Б-346
SEQUENCE:0
SUMMARY:[ПЗ 1п.]Основы аэрогидроупругости (Ан
 туфьев Борис Андреевич)
UID:4e26bc65-d23f-48eb-a13a-5bfc45af2617
END:VEVENT
BEGIN:VEVENT
ATTENDEE;CN=Сидоренко Александр Сергеевич:https:
 //public.mai.ru/schedule/data/494051aa-1d99-11e0-9baf-1c6f65450efa.json
DESCRIPTION:Преподаватель: Сидоренко Александ
 р Сергеевич
DTSTAMP:20260421T113058Z
DTSTART:20260414T163000Z
DURATION:PT3H15M
LOCATION:ГУК Б-660
SEQUENCE:0
SUMMARY:[ЛР 2п.]Экспериментальные методы иссл
 едования прочности конструкций (Сидорен
 ко Александр Сергеевич)
UID:6f54c06c-1fac-459c-8260-6bd00688cee3
END:VEVENT
BEGIN:VEVENT
ATTENDEE;CN=ЗИНИН АЛЕКСАНДР ВЛАДИМИРОВИЧ:https://
 public.mai.ru/schedule/data/dac35d1e-0d8e-11e4-b897-005056c00008.json
DESCRIPTION:Преподаватель: ЗИНИН АЛЕКСАНДР ВЛ
 АДИМИРОВИЧ
DTSTAMP:20260421T113058Z
DTSTART:20260415T130000Z
DURATION:PT3H15M
LOCATION:Орш. В-211
SEQUENCE:0
SUMMARY:[ПЗ 2п.]Основы прочности конструкций (
 ЗИНИН АЛЕКСАНДР ВЛАДИМИРОВИЧ)
UID:8cc96956-72ab-49f0-b3e6-d7fd8d21ef01
END:VEVENT
BEGIN:VEVENT
ATTENDEE;CN=Федотенков Григорий Валерьевич:http
 s://public.mai.ru/schedule/data/d72d63de-1d99-11e0-9baf-1c6f65450efa.json
DESCRIPTION:Преподаватель: Федотенков Григори
 й Валерьевич
DTSTAMP:20260421T113058Z
DTSTART:20260416T104500Z
DURATION:PT1H30M
LOCATION:ГУК Б-346
SEQUENCE:0
SUMMARY:[ЛК 1п.]УИРС (Федотенков Григорий Вале
 рьевич)
UID:b667f25e-4e36-4b5c-b898-a2cf5c06df52
END:VEVENT
BEGIN:VEVENT
ATTENDEE;CN=Сердюк Дмитрий Олегович:https://public.mai
 .ru/schedule/data/773007e0-920f-11e6-b2eb-3cd92bf20bfe.json
DESCRIPTION:Преподаватель: Сердюк Дмитрий Оле
 гович
DTSTAMP:20260421T113058Z
DTSTART:20260416T130000Z
DURATION:PT3H15M
LOCATION:ГУК Б-346
SEQUENCE:0
SUMMARY:[ЛР 2п.]Программные комплексы механик
 и конструкций (Сердюк Дмитрий Олегович)
UID:92383fb7-e2ea-4f01-98b5-f6b404bb713c
END:VEVENT
BEGIN:VEVENT
ATTENDEE;CN=ЗИНИН АЛЕКСАНДР ВЛАДИМИРОВИЧ:https://
 public.mai.ru/schedule/data/dac35d1e-0d8e-11e4-b897-005056c00008.json
DESCRIPTION:Преподаватель: ЗИНИН АЛЕКСАНДР ВЛ
 АДИМИРОВИЧ
DTSTAMP:20260421T113058Z
DTSTART:20260422T130000Z
DURATION:PT3H15M
LOCATION:Орш. В-211
SEQUENCE:0
SUMMARY:[ПЗ 2п.]Основы прочности конструкций (
 ЗИНИН АЛЕКСАНДР ВЛАДИМИРОВИЧ)
UID:ce3c472c-381e-4897-8e13-0e817ecf9444
END:VEVENT
BEGIN:VEVENT
ATTENDEE;CN=Федотенков Григорий Валерьевич:http
 s://public.mai.ru/schedule/data/d72d63de-1d99-11e0-9baf-1c6f65450efa.json
DESCRIPTION:Преподаватель: Федотенков Григори
 й Валерьевич
DTSTAMP:20260421T113058Z
DTSTART:20260423T104500Z
DURATION:PT1H30M
LOCATION:ГУК Б-346
SEQUENCE:0
SUMMARY:[ЛК 1п.]УИРС (Федотенков Григорий Вале
 рьевич)
UID:1e667d74-87a7-4935-ad98-31f9546bdb71
END:VEVENT
BEGIN:VEVENT
ATTENDEE;CN=Сердюк Дмитрий Олегович:https://public.mai
 .ru/schedule/data/773007e0-920f-11e6-b2eb-3cd92bf20bfe.json
DESCRIPTION:Преподаватель: Сердюк Дмитрий Оле
 гович
DTSTAMP:20260421T113058Z
DTSTART:20260423T130000Z
DURATION:PT3H15M
LOCATION:ГУК Б-346
SEQUENCE:0
SUMMARY:[ЛР 2п.]Программные комплексы механик
 и конструкций (Сердюк Дмитрий Олегович)
UID:4c024584-acf9-4859-8b14-9c3c957fde35
END:VEVENT
BEGIN:VEVENT
ATTENDEE;CN=ЗИНИН АЛЕКСАНДР ВЛАДИМИРОВИЧ:https://
 public.mai.ru/schedule/data/dac35d1e-0d8e-11e4-b897-005056c00008.json
DESCRIPTION:Преподаватель: ЗИНИН АЛЕКСАНДР ВЛ
 АДИМИРОВИЧ
DTSTAMP:20260421T113058Z
DTSTART:20260429T130000Z
DURATION:PT3H15M
LOCATION:Орш. В-211
SEQUENCE:0
SUMMARY:[ПЗ 2п.]Основы прочности конструкций (
 ЗИНИН АЛЕКСАНДР ВЛАДИМИРОВИЧ)
UID:e73e7b59-e45b-4b9c-a781-7b3a6e6dfdae
END:VEVENT
BEGIN:VEVENT
ATTENDEE;CN=Федотенков Григорий Валерьевич:http
 s://public.mai.ru/schedule/data/d72d63de-1d99-11e0-9baf-1c6f65450efa.json
DESCRIPTION:Преподаватель: Федотенков Григори
 й Валерьевич
DTSTAMP:20260421T113058Z
DTSTART:20260430T104500Z
DURATION:PT1H30M
LOCATION:ГУК Б-346
SEQUENCE:0
SUMMARY:[ЛК 1п.]УИРС (Федотенков Григорий Вале
 рьевич)
UID:d6ddee30-12eb-4ca6-9dc8-898d8a0371a3
END:VEVENT
BEGIN:VEVENT
ATTENDEE;CN=Сердюк Дмитрий Олегович:https://public.mai
 .ru/schedule/data/773007e0-920f-11e6-b2eb-3cd92bf20bfe.json
DESCRIPTION:Преподаватель: Сердюк Дмитрий Оле
 гович
DTSTAMP:20260421T113058Z
DTSTART:20260430T130000Z
DURATION:PT3H15M
LOCATION:ГУК Б-346
SEQUENCE:0
SUMMARY:[ЛР 2п.]Программные комплексы механик
 и конструкций (Сердюк Дмитрий Олегович)
UID:26b0530b-b625-44ed-8abe-9cb9d777fce1
END:VEVENT
BEGIN:VEVENT
ATTENDEE;CN=ЗИНИН АЛЕКСАНДР ВЛАДИМИРОВИЧ:https://
 public.mai.ru/schedule/data/dac35d1e-0d8e-11e4-b897-005056c00008.json
DESCRIPTION:Преподаватель: ЗИНИН АЛЕКСАНДР ВЛ
 АДИМИРОВИЧ
DTSTAMP:20260421T113058Z
DTSTART:20260506T130000Z
DURATION:PT3H15M
LOCATION:Орш. В-211
SEQUENCE:0
SUMMARY:[ПЗ 2п.]Основы прочности конструкций (
 ЗИНИН АЛЕКСАНДР ВЛАДИМИРОВИЧ)
UID:dd59fdfd-3c62-4406-812c-35e5dd780d68
END:VEVENT
BEGIN:VEVENT
ATTENDEE;CN=Федотенков Григорий Валерьевич:http
 s://public.mai.ru/schedule/data/d72d63de-1d99-11e0-9baf-1c6f65450efa.json
DESCRIPTION:Преподаватель: Федотенков Григори
 й Валерьевич
DTSTAMP:20260421T113058Z
DTSTART:20260507T104500Z
DURATION:PT1H30M
LOCATION:ГУК Б-346
SEQUENCE:0
SUMMARY:[ПЗ 1п.]УИРС (Федотенков Григорий Вале
 рьевич)
UID:ddf152de-7c52-4e2c-ab0f-45f3c56e30f3
END:VEVENT
BEGIN:VEVENT
ATTENDEE;CN=Сердюк Дмитрий Олегович:https://public.mai
 .ru/schedule/data/773007e0-920f-11e6-b2eb-3cd92bf20bfe.json
DESCRIPTION:Преподаватель: Сердюк Дмитрий Оле
 гович
DTSTAMP:20260421T113058Z
DTSTART:20260507T130000Z
DURATION:PT3H15M
LOCATION:ГУК Б-346
SEQUENCE:0
SUMMARY:[ЛР 2п.]Программные комплексы механик
 и конструкций (Сердюк Дмитрий Олегович)
UID:9090428e-2b34-43b8-a9a9-d523a9e99da7
END:VEVENT
BEGIN:VEVENT
ATTENDEE;CN=Сидоренко Александр Сергеевич:https:
 //public.mai.ru/schedule/data/494051aa-1d99-11e0-9baf-1c6f65450efa.json
DESCRIPTION:Преподаватель: Сидоренко Александ
 р Сергеевич
DTSTAMP:20260421T113058Z
DTSTART:20260514T163000Z
DURATION:PT3H15M
LOCATION:ГУК Б-660
SEQUENCE:0
SUMMARY:[Экзамен 2п.]Экспериментальные метод
 ы исследования прочности конструкций (С
 идоренко Александр Сергеевич)
UID:fc1dafd4-dfed-45a3-9eb7-e054cff9ef38
END:VEVENT
BEGIN:VEVENT
ATTENDEE;CN=Антуфьев Борис Андреевич:https://public.m
 ai.ru/schedule/data/65f93e04-1d99-11e0-9baf-1c6f65450efa.json
DESCRIPTION:Преподаватель: Антуфьев Борис Анд
 реевич
DTSTAMP:20260421T113058Z
DTSTART:20260518T163000Z
DURATION:PT3H15M
LOCATION:ГУК Б-350
SEQUENCE:0
SUMMARY:[Экзамен 2п.]Основы аэрогидроупругос
 ти (Антуфьев Борис Андреевич)
UID:b1ad364f-3683-4828-b71c-babf0390a705
END:VEVENT
BEGIN:VEVENT
ATTENDEE;CN=ЗИНИН АЛЕКСАНДР ВЛАДИМИРОВИЧ:https://
 public.mai.ru/schedule/data/dac35d1e-0d8e-11e4-b897-005056c00008.json
DESCRIPTION:Преподаватель: ЗИНИН АЛЕКСАНДР ВЛ
 АДИМИРОВИЧ
DTSTAMP:20260421T113058Z
DTSTART:20260522T144500Z
DURATION:PT3H15M
LOCATION:Орш. В-211
SEQUENCE:0
SUMMARY:[Экзамен 2п.]Основы прочности констру
 кций (ЗИНИН АЛЕКСАНДР ВЛАДИМИРОВИЧ)
UID:30b486d1-dbe3-449c-90a4-16df838795d9
END:VEVENT
END:VCALENDAR
