﻿BEGIN:VCALENDAR
CALSCALE:GREGORIAN
METHOD:PUBLISH
PRODID:-//MAI-dep406//MAI Dep406 1.01//RU
VERSION:2.0
X-WR-TIMEZONE:Europe/Moscow
BEGIN:VTIMEZONE
TZID:Europe/Moscow
X-LIC-LOCATION:Europe/Moscow
BEGIN:STANDARD
DTSTART;VALUE=DATE:19700101
TZNAME:GMT+3
TZOFFSETTO:+0300
END:STANDARD
END:VTIMEZONE
BEGIN:VEVENT
ATTENDEE;CN=Гофин Михаил Яковлевич:https://public.mai.r
 u/schedule/data/65f93e66-1d99-11e0-9baf-1c6f65450efa.json
DESCRIPTION:Преподаватель: Гофин Михаил Яковл
 евич
DTSTAMP:20260422T041937Z
DTSTART:20260209T090000Z
DURATION:PT7H15M
LOCATION:24-408\; 24-438
SEQUENCE:0
SUMMARY:[ПЗ 4п.]Динамика наземного оборудован
 ия (Гофин Михаил Яковлевич)
UID:9c5183ce-63d7-4b3e-a5f5-b5f0b041f0a5
END:VEVENT
BEGIN:VEVENT
ATTENDEE;CN=Лякина Полина Федоровна:https://public.mai
 .ru/schedule/data/563677f6-ddf5-11e4-9091-3cd92bf20bfe.json
DESCRIPTION:Преподаватель: Лякина Полина Федо
 ровна
DTSTAMP:20260422T041937Z
DTSTART:20260210T163000Z
DURATION:PT3H15M
LOCATION:24-408
SEQUENCE:0
SUMMARY:[ЛК 2п.]Правовые основы инженерной де
 ятельности (Лякина Полина Федоровна)
UID:f56404fa-d153-4312-b4e6-c66e06d57189
END:VEVENT
BEGIN:VEVENT
ATTENDEE;CN=Гусев Евгений Владимирович:https://publ
 ic.mai.ru/schedule/data/8f0e04f3-1d99-11e0-9baf-1c6f65450efa.json
DESCRIPTION:Преподаватель: Гусев Евгений Влад
 имирович
DTSTAMP:20260422T041937Z
DTSTART:20260211T090000Z
DURATION:PT7H15M
LOCATION:24-438
SEQUENCE:0
SUMMARY:[ЛК\,ЛР 4п.]Надежность оборудования на
 земных комплексов (Гусев Евгений Владим
 ирович)
UID:b4c2b297-3d90-4075-88d3-59dc1f520541
END:VEVENT
BEGIN:VEVENT
ATTENDEE;CN=Лякина Полина Федоровна:https://public.mai
 .ru/schedule/data/563677f6-ddf5-11e4-9091-3cd92bf20bfe.json
DESCRIPTION:Преподаватель: Лякина Полина Федо
 ровна
DTSTAMP:20260422T041937Z
DTSTART:20260212T130000Z
DURATION:PT6H45M
LOCATION:24-225
SEQUENCE:0
SUMMARY:[ЛК\,ЛР 4п.]Автоматизированное цифров
 ое проектирование (Лякина Полина Федоро
 вна)
UID:a69be961-35d9-4b5d-a39f-4fc065dca607
END:VEVENT
BEGIN:VEVENT
DESCRIPTION:Преподаватель: 
DTSTAMP:20260422T041937Z
DTSTART:20260213T144500Z
DURATION:PT5H
LOCATION:24-438
SEQUENCE:0
SUMMARY:[ЛК 3п.]Технологии производства обору
 дования комплексов ()
UID:0f7e4e16-bc6c-4023-920b-0e4fe89762d7
END:VEVENT
BEGIN:VEVENT
ATTENDEE;CN=Оделевский Владимир Константинов
 ич:https://public.mai.ru/schedule/data/8f0e059e-1d99-11e0-9baf-1c6f65450
 efa.json
DESCRIPTION:Преподаватель: Оделевский Владими
 р Константинович
DTSTAMP:20260422T041937Z
DTSTART:20260214T090000Z
DURATION:PT5H30M
LOCATION:24-408
SEQUENCE:0
SUMMARY:[ЛК\,ПЗ 3п.]Основы коммерциализации на
 учно-технических разработок (Оделевский
  Владимир Константинович)
UID:e61ad3ab-1b9c-4542-a764-1a2bde89260c
END:VEVENT
BEGIN:VEVENT
ATTENDEE;CN=Гофин Михаил Яковлевич:https://public.mai.r
 u/schedule/data/65f93e66-1d99-11e0-9baf-1c6f65450efa.json
DESCRIPTION:Преподаватель: Гофин Михаил Яковл
 евич
DTSTAMP:20260422T041937Z
DTSTART:20260216T090000Z
DURATION:PT3H15M
LOCATION:24-408
SEQUENCE:0
SUMMARY:[ПЗ 2п.]Динамика наземного оборудован
 ия (Гофин Михаил Яковлевич)
UID:f28afaeb-b7e3-41d0-94b0-cf8fdf037f36
END:VEVENT
BEGIN:VEVENT
ATTENDEE;CN=Лякина Полина Федоровна:https://public.mai
 .ru/schedule/data/563677f6-ddf5-11e4-9091-3cd92bf20bfe.json
DESCRIPTION:Преподаватель: Лякина Полина Федо
 ровна
DTSTAMP:20260422T041937Z
DTSTART:20260217T163000Z
DURATION:PT3H15M
LOCATION:24-408
SEQUENCE:0
SUMMARY:[ЛК 2п.]Правовые основы инженерной де
 ятельности (Лякина Полина Федоровна)
UID:491c0f46-defe-4c51-aa3f-21e6326437a4
END:VEVENT
BEGIN:VEVENT
ATTENDEE;CN=Гусев Евгений Владимирович:https://publ
 ic.mai.ru/schedule/data/8f0e04f3-1d99-11e0-9baf-1c6f65450efa.json
DESCRIPTION:Преподаватель: Гусев Евгений Влад
 имирович
DTSTAMP:20260422T041937Z
DTSTART:20260218T090000Z
DURATION:PT7H15M
LOCATION:24-438
SEQUENCE:0
SUMMARY:[ЛК\,ЛР 4п.]Надежность оборудования на
 земных комплексов (Гусев Евгений Владим
 ирович)
UID:6a84e269-6ccd-4c63-9946-47a7275d2695
END:VEVENT
BEGIN:VEVENT
ATTENDEE;CN=Лякина Полина Федоровна:https://public.mai
 .ru/schedule/data/563677f6-ddf5-11e4-9091-3cd92bf20bfe.json
DESCRIPTION:Преподаватель: Лякина Полина Федо
 ровна
DTSTAMP:20260422T041937Z
DTSTART:20260219T130000Z
DURATION:PT6H45M
LOCATION:24-225
SEQUENCE:0
SUMMARY:[ЛК\,ЛР 4п.]Автоматизированное цифров
 ое проектирование (Лякина Полина Федоро
 вна)
UID:80c324b0-ccd4-4682-8c59-d0e3163af670
END:VEVENT
BEGIN:VEVENT
DESCRIPTION:Преподаватель: 
DTSTAMP:20260422T041937Z
DTSTART:20260220T144500Z
DURATION:PT5H
LOCATION:24-438
SEQUENCE:0
SUMMARY:[ЛК\,ПЗ 3п.]Технологии производства об
 орудования комплексов ()
UID:f18a3f12-8960-4059-8064-ef16520dac1a
END:VEVENT
BEGIN:VEVENT
ATTENDEE;CN=Оделевский Владимир Константинов
 ич:https://public.mai.ru/schedule/data/8f0e059e-1d99-11e0-9baf-1c6f65450
 efa.json
DESCRIPTION:Преподаватель: Оделевский Владими
 р Константинович
DTSTAMP:20260422T041937Z
DTSTART:20260221T090000Z
DURATION:PT5H30M
LOCATION:24-408
SEQUENCE:0
SUMMARY:[ЛК\,ПЗ 3п.]Основы коммерциализации на
 учно-технических разработок (Оделевский
  Владимир Константинович)
UID:adade433-039f-485d-872f-8f9425d20556
END:VEVENT
BEGIN:VEVENT
ATTENDEE;CN=Лякина Полина Федоровна:https://public.mai
 .ru/schedule/data/563677f6-ddf5-11e4-9091-3cd92bf20bfe.json
DESCRIPTION:Преподаватель: Лякина Полина Федо
 ровна
DTSTAMP:20260422T041937Z
DTSTART:20260224T163000Z
DURATION:PT3H15M
LOCATION:24-408
SEQUENCE:0
SUMMARY:[ЛК 2п.]Правовые основы инженерной де
 ятельности (Лякина Полина Федоровна)
UID:b49a4ea7-5cb2-45fd-80ed-7bf2c5c9bc4d
END:VEVENT
BEGIN:VEVENT
ATTENDEE;CN=Гусев Евгений Владимирович:https://publ
 ic.mai.ru/schedule/data/8f0e04f3-1d99-11e0-9baf-1c6f65450efa.json
DESCRIPTION:Преподаватель: Гусев Евгений Влад
 имирович
DTSTAMP:20260422T041937Z
DTSTART:20260225T090000Z
DURATION:PT7H15M
LOCATION:24-438
SEQUENCE:0
SUMMARY:[ЛК\,ЛР 4п.]Надежность оборудования на
 земных комплексов (Гусев Евгений Владим
 ирович)
UID:312a20fd-2b93-444e-984d-a3200a4f31ef
END:VEVENT
BEGIN:VEVENT
ATTENDEE;CN=Лякина Полина Федоровна:https://public.mai
 .ru/schedule/data/563677f6-ddf5-11e4-9091-3cd92bf20bfe.json
DESCRIPTION:Преподаватель: Лякина Полина Федо
 ровна
DTSTAMP:20260422T041937Z
DTSTART:20260226T130000Z
DURATION:PT6H45M
LOCATION:24-225
SEQUENCE:0
SUMMARY:[ЛК\,ЛР 4п.]Автоматизированное цифров
 ое проектирование (Лякина Полина Федоро
 вна)
UID:8d7b1d2d-69b2-4909-8225-f5d490c3e89e
END:VEVENT
BEGIN:VEVENT
DESCRIPTION:Преподаватель: 
DTSTAMP:20260422T041937Z
DTSTART:20260227T144500Z
DURATION:PT5H
LOCATION:24-438
SEQUENCE:0
SUMMARY:[ЛК\,ПЗ 3п.]Технологии производства об
 орудования комплексов ()
UID:24989aec-41a3-4242-ba2a-9f337468276f
END:VEVENT
BEGIN:VEVENT
ATTENDEE;CN=Оделевский Владимир Константинов
 ич:https://public.mai.ru/schedule/data/8f0e059e-1d99-11e0-9baf-1c6f65450
 efa.json
DESCRIPTION:Преподаватель: Оделевский Владими
 р Константинович
DTSTAMP:20260422T041937Z
DTSTART:20260228T090000Z
DURATION:PT5H30M
LOCATION:24-408
SEQUENCE:0
SUMMARY:[ЛК\,ПЗ 3п.]Основы коммерциализации на
 учно-технических разработок (Оделевский
  Владимир Константинович)
UID:a0528dfc-39a9-43ce-9838-1943eab1c001
END:VEVENT
BEGIN:VEVENT
ATTENDEE;CN=Лякина Полина Федоровна:https://public.mai
 .ru/schedule/data/563677f6-ddf5-11e4-9091-3cd92bf20bfe.json
DESCRIPTION:Преподаватель: Лякина Полина Федо
 ровна
DTSTAMP:20260422T041937Z
DTSTART:20260303T163000Z
DURATION:PT3H15M
LOCATION:24-408
SEQUENCE:0
SUMMARY:[ЛК 2п.]Правовые основы инженерной де
 ятельности (Лякина Полина Федоровна)
UID:6acd8dd9-6556-43cf-ae6c-d7523b009161
END:VEVENT
BEGIN:VEVENT
ATTENDEE;CN=Гусев Евгений Владимирович:https://publ
 ic.mai.ru/schedule/data/8f0e04f3-1d99-11e0-9baf-1c6f65450efa.json
DESCRIPTION:Преподаватель: Гусев Евгений Влад
 имирович
DTSTAMP:20260422T041937Z
DTSTART:20260304T090000Z
DURATION:PT7H15M
LOCATION:24-438
SEQUENCE:0
SUMMARY:[ЛК\,ЛР 4п.]Надежность оборудования на
 земных комплексов (Гусев Евгений Владим
 ирович)
UID:f1a17243-b979-4f58-af2f-b67dc386c455
END:VEVENT
BEGIN:VEVENT
ATTENDEE;CN=Лякина Полина Федоровна:https://public.mai
 .ru/schedule/data/563677f6-ddf5-11e4-9091-3cd92bf20bfe.json
DESCRIPTION:Преподаватель: Лякина Полина Федо
 ровна
DTSTAMP:20260422T041937Z
DTSTART:20260305T130000Z
DURATION:PT6H45M
LOCATION:24-225
SEQUENCE:0
SUMMARY:[ЛК\,ЛР 4п.]Автоматизированное цифров
 ое проектирование (Лякина Полина Федоро
 вна)
UID:5a9cf575-5cea-4f60-bfce-cfe2752b213d
END:VEVENT
BEGIN:VEVENT
DESCRIPTION:Преподаватель: 
DTSTAMP:20260422T041937Z
DTSTART:20260306T144500Z
DURATION:PT3H15M
LOCATION:24-438
SEQUENCE:0
SUMMARY:[ЛК 2п.]Технологии производства обору
 дования комплексов ()
UID:9377751d-fa2f-4f35-8883-4a51b7543d1f
END:VEVENT
BEGIN:VEVENT
ATTENDEE;CN=Оделевский Владимир Константинов
 ич:https://public.mai.ru/schedule/data/8f0e059e-1d99-11e0-9baf-1c6f65450
 efa.json
DESCRIPTION:Преподаватель: Оделевский Владими
 р Константинович
DTSTAMP:20260422T041937Z
DTSTART:20260307T090000Z
DURATION:PT7H15M
LOCATION:24-408
SEQUENCE:0
SUMMARY:[ЛК\,ПЗ 4п.]Основы коммерциализации на
 учно-технических разработок (Оделевский
  Владимир Константинович)
UID:2b3effbb-14f3-4f27-a145-7759ff740807
END:VEVENT
BEGIN:VEVENT
ATTENDEE;CN=Лякина Полина Федоровна:https://public.mai
 .ru/schedule/data/563677f6-ddf5-11e4-9091-3cd92bf20bfe.json
DESCRIPTION:Преподаватель: Лякина Полина Федо
 ровна
DTSTAMP:20260422T041937Z
DTSTART:20260310T163000Z
DURATION:PT3H15M
LOCATION:24-408
SEQUENCE:0
SUMMARY:[ПЗ 2п.]Правовые основы инженерной де
 ятельности (Лякина Полина Федоровна)
UID:a82825c8-477b-4e26-a437-6c19b8ba57bd
END:VEVENT
BEGIN:VEVENT
ATTENDEE;CN=Гусев Евгений Владимирович:https://publ
 ic.mai.ru/schedule/data/8f0e04f3-1d99-11e0-9baf-1c6f65450efa.json
DESCRIPTION:Преподаватель: Гусев Евгений Влад
 имирович
DTSTAMP:20260422T041937Z
DTSTART:20260311T090000Z
DURATION:PT7H15M
LOCATION:24-438
SEQUENCE:0
SUMMARY:[ЛК\,ЛР 4п.]Надежность оборудования на
 земных комплексов (Гусев Евгений Владим
 ирович)
UID:e5a1088c-44fd-443f-afa9-e64a5df6d2dc
END:VEVENT
BEGIN:VEVENT
ATTENDEE;CN=Лякина Полина Федоровна:https://public.mai
 .ru/schedule/data/563677f6-ddf5-11e4-9091-3cd92bf20bfe.json
DESCRIPTION:Преподаватель: Лякина Полина Федо
 ровна
DTSTAMP:20260422T041937Z
DTSTART:20260312T130000Z
DURATION:PT6H45M
LOCATION:24-225
SEQUENCE:0
SUMMARY:[ЛК\,ЛР 4п.]Автоматизированное цифров
 ое проектирование (Лякина Полина Федоро
 вна)
UID:4644e5ee-6464-46f8-a160-86b3ebbee155
END:VEVENT
BEGIN:VEVENT
DESCRIPTION:Преподаватель: 
DTSTAMP:20260422T041937Z
DTSTART:20260313T144500Z
DURATION:PT3H15M
LOCATION:24-438
SEQUENCE:0
SUMMARY:[ПЗ 2п.]Технологии производства обору
 дования комплексов ()
UID:c97bbf73-479f-4f25-9134-9866dfeb09f9
END:VEVENT
BEGIN:VEVENT
ATTENDEE;CN=Оделевский Владимир Константинов
 ич:https://public.mai.ru/schedule/data/8f0e059e-1d99-11e0-9baf-1c6f65450
 efa.json
DESCRIPTION:Преподаватель: Оделевский Владими
 р Константинович
DTSTAMP:20260422T041937Z
DTSTART:20260314T090000Z
DURATION:PT7H15M
LOCATION:24-408
SEQUENCE:0
SUMMARY:[ЛК\,ПЗ 4п.]Основы коммерциализации на
 учно-технических разработок (Оделевский
  Владимир Константинович)
UID:45a2281a-0a70-4549-b0b7-f9e0636ed85c
END:VEVENT
BEGIN:VEVENT
ATTENDEE;CN=Лякина Полина Федоровна:https://public.mai
 .ru/schedule/data/563677f6-ddf5-11e4-9091-3cd92bf20bfe.json
DESCRIPTION:Преподаватель: Лякина Полина Федо
 ровна
DTSTAMP:20260422T041937Z
DTSTART:20260316T163000Z
DURATION:PT3H15M
LOCATION:24-225
SEQUENCE:0
SUMMARY:[ПЗ 2п.]Правовые основы инженерной де
 ятельности (Лякина Полина Федоровна)
UID:13896a7e-463a-4159-bc6b-dc8b47bf378a
END:VEVENT
BEGIN:VEVENT
ATTENDEE;CN=Лякина Полина Федоровна:https://public.mai
 .ru/schedule/data/563677f6-ddf5-11e4-9091-3cd92bf20bfe.json
DESCRIPTION:Преподаватель: Лякина Полина Федо
 ровна
DTSTAMP:20260422T041937Z
DTSTART:20260317T163000Z
DURATION:PT3H15M
LOCATION:24-408
SEQUENCE:0
SUMMARY:[ПЗ 2п.]Правовые основы инженерной де
 ятельности (Лякина Полина Федоровна)
UID:7f2b179d-8a4c-4209-84c0-b8fb901a7059
END:VEVENT
BEGIN:VEVENT
ATTENDEE;CN=Гусев Евгений Владимирович:https://publ
 ic.mai.ru/schedule/data/8f0e04f3-1d99-11e0-9baf-1c6f65450efa.json
DESCRIPTION:Преподаватель: Гусев Евгений Влад
 имирович
DTSTAMP:20260422T041937Z
DTSTART:20260318T090000Z
DURATION:PT7H15M
LOCATION:24-438
SEQUENCE:0
SUMMARY:[ЛК\,ЛР 4п.]Надежность оборудования на
 земных комплексов (Гусев Евгений Владим
 ирович)
UID:1315898d-c802-4cd5-8db3-8af627e7e766
END:VEVENT
BEGIN:VEVENT
ATTENDEE;CN=Лякина Полина Федоровна:https://public.mai
 .ru/schedule/data/563677f6-ddf5-11e4-9091-3cd92bf20bfe.json
DESCRIPTION:Преподаватель: Лякина Полина Федо
 ровна
DTSTAMP:20260422T041937Z
DTSTART:20260319T130000Z
DURATION:PT6H45M
LOCATION:24-225
SEQUENCE:0
SUMMARY:[ЛК\,ЛР 4п.]Автоматизированное цифров
 ое проектирование (Лякина Полина Федоро
 вна)
UID:00fef287-da29-4f94-b3b6-0018a3b4e110
END:VEVENT
BEGIN:VEVENT
DESCRIPTION:Преподаватель: 
DTSTAMP:20260422T041937Z
DTSTART:20260320T144500Z
DURATION:PT3H15M
LOCATION:24-438
SEQUENCE:0
SUMMARY:[ПЗ 2п.]Технологии производства обору
 дования комплексов ()
UID:548ab0b6-aca0-4ae4-8962-1fb5e5966423
END:VEVENT
BEGIN:VEVENT
ATTENDEE;CN=Оделевский Владимир Константинов
 ич:https://public.mai.ru/schedule/data/8f0e059e-1d99-11e0-9baf-1c6f65450
 efa.json
DESCRIPTION:Преподаватель: Оделевский Владими
 р Константинович
DTSTAMP:20260422T041937Z
DTSTART:20260321T090000Z
DURATION:PT7H15M
LOCATION:24-408
SEQUENCE:0
SUMMARY:[ЛК\,ПЗ 4п.]Основы коммерциализации на
 учно-технических разработок (Оделевский
  Владимир Константинович)
UID:307947d1-bedd-4e1c-b30f-7b86cac252dc
END:VEVENT
BEGIN:VEVENT
ATTENDEE;CN=Гофин Михаил Яковлевич:https://public.mai.r
 u/schedule/data/65f93e66-1d99-11e0-9baf-1c6f65450efa.json
DESCRIPTION:Преподаватель: Гофин Михаил Яковл
 евич
DTSTAMP:20260422T041937Z
DTSTART:20260323T090000Z
DURATION:PT3H15M
LOCATION:24-408
SEQUENCE:0
SUMMARY:[ПЗ 2п.]Динамика наземного оборудован
 ия (Гофин Михаил Яковлевич)
UID:6270979c-6695-49df-a9b7-5a230c786913
END:VEVENT
BEGIN:VEVENT
ATTENDEE;CN=Лякина Полина Федоровна:https://public.mai
 .ru/schedule/data/563677f6-ddf5-11e4-9091-3cd92bf20bfe.json
DESCRIPTION:Преподаватель: Лякина Полина Федо
 ровна
DTSTAMP:20260422T041937Z
DTSTART:20260324T163000Z
DURATION:PT3H15M
LOCATION:24-408
SEQUENCE:0
SUMMARY:[ПЗ 2п.]Правовые основы инженерной де
 ятельности (Лякина Полина Федоровна)
UID:c8c1a3f9-f7cb-4909-9923-2b915c243300
END:VEVENT
BEGIN:VEVENT
ATTENDEE;CN=Гусев Евгений Владимирович:https://publ
 ic.mai.ru/schedule/data/8f0e04f3-1d99-11e0-9baf-1c6f65450efa.json
DESCRIPTION:Преподаватель: Гусев Евгений Влад
 имирович
DTSTAMP:20260422T041937Z
DTSTART:20260325T090000Z
DURATION:PT7H15M
LOCATION:24-438
SEQUENCE:0
SUMMARY:[ЛК\,ЛР 4п.]Надежность оборудования на
 земных комплексов (Гусев Евгений Владим
 ирович)
UID:6f4afad8-fe02-4ae6-8f71-356a6538fea6
END:VEVENT
BEGIN:VEVENT
ATTENDEE;CN=Лякина Полина Федоровна:https://public.mai
 .ru/schedule/data/563677f6-ddf5-11e4-9091-3cd92bf20bfe.json
DESCRIPTION:Преподаватель: Лякина Полина Федо
 ровна
DTSTAMP:20260422T041937Z
DTSTART:20260326T130000Z
DURATION:PT6H45M
LOCATION:24-225
SEQUENCE:0
SUMMARY:[ЛР 4п.]Автоматизированное цифровое п
 роектирование (Лякина Полина Федоровна)
UID:e2549289-13c5-4bd6-83fd-dfc951c2ac68
END:VEVENT
BEGIN:VEVENT
DESCRIPTION:Преподаватель: 
DTSTAMP:20260422T041937Z
DTSTART:20260327T144500Z
DURATION:PT3H15M
LOCATION:24-438
SEQUENCE:0
SUMMARY:[ПЗ 2п.]Технологии производства обору
 дования комплексов ()
UID:c3114bff-760a-43c6-ae30-bd29451855f0
END:VEVENT
BEGIN:VEVENT
ATTENDEE;CN=Оделевский Владимир Константинов
 ич:https://public.mai.ru/schedule/data/8f0e059e-1d99-11e0-9baf-1c6f65450
 efa.json
DESCRIPTION:Преподаватель: Оделевский Владими
 р Константинович
DTSTAMP:20260422T041937Z
DTSTART:20260328T090000Z
DURATION:PT7H15M
LOCATION:24-408
SEQUENCE:0
SUMMARY:[ЛК\,ПЗ 4п.]Основы коммерциализации на
 учно-технических разработок (Оделевский
  Владимир Константинович)
UID:4792bc5d-077a-4f39-9c82-e532bff66cd5
END:VEVENT
END:VCALENDAR
