﻿BEGIN:VCALENDAR
CALSCALE:GREGORIAN
METHOD:PUBLISH
PRODID:-//MAI-dep406//MAI Dep406 1.01//RU
VERSION:2.0
X-WR-TIMEZONE:Europe/Moscow
BEGIN:VTIMEZONE
TZID:Europe/Moscow
X-LIC-LOCATION:Europe/Moscow
BEGIN:STANDARD
DTSTART;VALUE=DATE:19700101
TZNAME:GMT+3
TZOFFSETTO:+0300
END:STANDARD
END:VTIMEZONE
BEGIN:VEVENT
ATTENDEE;CN=Оболенский Владимир Юрьевич:https://pu
 blic.mai.ru/schedule/data/5fe91826-397c-11e8-9a02-485b3919ee6d.json
DESCRIPTION:Преподаватель: Оболенский Владими
 р Юрьевич
DTSTAMP:20260419T215907Z
DTSTART:20260209T181500Z
DURATION:PT3H15M
LOCATION:24-656
SEQUENCE:0
SUMMARY:[ЛК 2п.]Прикладная механика жидкости 
 и газа (Оболенский Владимир Юрьевич)
UID:65365080-31d1-4d71-955d-2d5e9fae9f2a
END:VEVENT
BEGIN:VEVENT
ATTENDEE;CN=Степанов Вилен Степанович:https://public
 .mai.ru/schedule/data/eaf6cdc9-1d9a-11e0-9baf-1c6f65450efa.json
DESCRIPTION:Преподаватель: Степанов Вилен Сте
 панович
DTSTAMP:20260419T215907Z
DTSTART:20260210T181500Z
DURATION:PT3H15M
LOCATION:24-654
SEQUENCE:0
SUMMARY:[ЛК 2п.]Основы автоматики и теории упр
 авления (Степанов Вилен Степанович)
UID:0923d8cd-9c70-4dc5-8e51-c5320c87cea6
END:VEVENT
BEGIN:VEVENT
DESCRIPTION:Преподаватель: 
DTSTAMP:20260419T215907Z
DTSTART:20260211T181500Z
DURATION:PT3H15M
LOCATION:--каф. 919
SEQUENCE:0
SUMMARY:[ЛК 2п.]Физическая культура в професс
 иональной деятельности ()
UID:41d07600-2f88-44c3-bc80-105b4a3c4fb2
END:VEVENT
BEGIN:VEVENT
ATTENDEE;CN=Лобачев Николай Александрович:https:
 //public.mai.ru/schedule/data/88c13e44-1d9a-11e0-9baf-1c6f65450efa.json
DESCRIPTION:Преподаватель: Лобачев Николай Ал
 ександрович
DTSTAMP:20260419T215907Z
DTSTART:20260212T181500Z
DURATION:PT3H15M
LOCATION:24-603
SEQUENCE:0
SUMMARY:[ЛК 2п.]Оснащение летательных аппарат
 ов (Лобачев Николай Александрович)
UID:134b183a-415b-456f-93a5-5ea099f7f0e1
END:VEVENT
BEGIN:VEVENT
ATTENDEE;CN=Василевский Валерий Владимирович:
 https://public.mai.ru/schedule/data/b637a6ab-1d99-11e0-9baf-1c6f65450efa.j
 son
DESCRIPTION:Преподаватель: Василевский Валери
 й Владимирович
DTSTAMP:20260419T215907Z
DTSTART:20260213T181500Z
DURATION:PT3H15M
LOCATION:5-206
SEQUENCE:0
SUMMARY:[ЛК 2п.]Экономика и организация промы
 шленности (Василевский Валерий Владимир
 ович)
UID:10c29713-4ef0-483f-8034-8b4bf7b7f373
END:VEVENT
BEGIN:VEVENT
ATTENDEE;CN=Афонин Александр Анатольевич:https://
 public.mai.ru/schedule/data/b0062590-1d99-11e0-9baf-1c6f65450efa.json
DESCRIPTION:Преподаватель: Афонин Александр А
 натольевич
DTSTAMP:20260419T215907Z
DTSTART:20260216T181500Z
DURATION:PT3H15M
LOCATION:3-326
SEQUENCE:0
SUMMARY:[ЛК 2п.]Пилотажно-навигационные датчи
 ки\, приборы и системы (Афонин Александр 
 Анатольевич)
UID:e71fbf63-316b-424a-81c3-61e11ed594fb
END:VEVENT
BEGIN:VEVENT
ATTENDEE;CN=Киреев Алексей Алексеевич:https://public
 .mai.ru/schedule/data/65f93e6e-1d99-11e0-9baf-1c6f65450efa.json
DESCRIPTION:Преподаватель: Киреев Алексей Але
 ксеевич
DTSTAMP:20260419T215907Z
DTSTART:20260217T181500Z
DURATION:PT3H15M
LOCATION:24-525
SEQUENCE:0
SUMMARY:[ЛК 2п.]Вычислительные методы оптимиз
 ации сложных систем (Киреев Алексей Алек
 сеевич)
UID:00ff0eca-a416-4faa-a420-75a53a8487f6
END:VEVENT
BEGIN:VEVENT
ATTENDEE;CN=Тихонов Филипп Владимирович:https://pu
 blic.mai.ru/schedule/data/51954ba0-55d1-11ed-bbea-ac1f6b64c5eb.json
DESCRIPTION:Преподаватель: Тихонов Филипп Вла
 димирович
DTSTAMP:20260419T215907Z
DTSTART:20260218T181500Z
DURATION:PT3H15M
LOCATION:57Г-505
SEQUENCE:0
SUMMARY:[ЛК 2п.]Электромеханика (Тихонов Фили
 пп Владимирович)
UID:daabbc65-a0f6-479f-b6a6-c1f0710ff548
END:VEVENT
BEGIN:VEVENT
ATTENDEE;CN=Степанов Вилен Степанович:https://public
 .mai.ru/schedule/data/eaf6cdc9-1d9a-11e0-9baf-1c6f65450efa.json
DESCRIPTION:Преподаватель: Степанов Вилен Сте
 панович
DTSTAMP:20260419T215907Z
DTSTART:20260219T181500Z
DURATION:PT3H15M
LOCATION:24-656
SEQUENCE:0
SUMMARY:[ПЗ 2п.]Учебно-исследовательская рабо
 та студентов (Степанов Вилен Степанович)
UID:43213bbb-5c95-4d9c-a19d-2fa0fd48867d
END:VEVENT
BEGIN:VEVENT
ATTENDEE;CN=Степанов Вилен Степанович:https://public
 .mai.ru/schedule/data/eaf6cdc9-1d9a-11e0-9baf-1c6f65450efa.json
DESCRIPTION:Преподаватель: Степанов Вилен Сте
 панович
DTSTAMP:20260419T215907Z
DTSTART:20260224T181500Z
DURATION:PT3H15M
LOCATION:24-654
SEQUENCE:0
SUMMARY:[ЛК 2п.]Основы автоматики и теории упр
 авления (Степанов Вилен Степанович)
UID:56c9ae62-8b41-4c21-9413-df028eb5ebf5
END:VEVENT
BEGIN:VEVENT
DESCRIPTION:Преподаватель: 
DTSTAMP:20260419T215907Z
DTSTART:20260225T181500Z
DURATION:PT3H15M
LOCATION:--каф. 919
SEQUENCE:0
SUMMARY:[ЛК 2п.]Физическая культура в професс
 иональной деятельности ()
UID:039c036c-afac-4944-9d7c-709a07f1dff0
END:VEVENT
BEGIN:VEVENT
ATTENDEE;CN=Лобачев Николай Александрович:https:
 //public.mai.ru/schedule/data/88c13e44-1d9a-11e0-9baf-1c6f65450efa.json
DESCRIPTION:Преподаватель: Лобачев Николай Ал
 ександрович
DTSTAMP:20260419T215907Z
DTSTART:20260226T181500Z
DURATION:PT3H15M
LOCATION:24-603
SEQUENCE:0
SUMMARY:[ЛК 2п.]Оснащение летательных аппарат
 ов (Лобачев Николай Александрович)
UID:70432038-d216-4398-82cc-ce8d06f851d1
END:VEVENT
BEGIN:VEVENT
ATTENDEE;CN=Василевский Валерий Владимирович:
 https://public.mai.ru/schedule/data/b637a6ab-1d99-11e0-9baf-1c6f65450efa.j
 son
DESCRIPTION:Преподаватель: Василевский Валери
 й Владимирович
DTSTAMP:20260419T215907Z
DTSTART:20260227T181500Z
DURATION:PT3H15M
LOCATION:5-206
SEQUENCE:0
SUMMARY:[ЛК 2п.]Экономика и организация промы
 шленности (Василевский Валерий Владимир
 ович)
UID:bb558148-0fb9-4964-b9d6-b524fe464e0f
END:VEVENT
BEGIN:VEVENT
ATTENDEE;CN=Афонин Александр Анатольевич:https://
 public.mai.ru/schedule/data/b0062590-1d99-11e0-9baf-1c6f65450efa.json
DESCRIPTION:Преподаватель: Афонин Александр А
 натольевич
DTSTAMP:20260419T215907Z
DTSTART:20260302T181500Z
DURATION:PT3H15M
LOCATION:3-326
SEQUENCE:0
SUMMARY:[ЛК 2п.]Пилотажно-навигационные датчи
 ки\, приборы и системы (Афонин Александр 
 Анатольевич)
UID:648a694c-9042-46c7-b316-f8bf6af6c9d0
END:VEVENT
BEGIN:VEVENT
ATTENDEE;CN=Киреев Алексей Алексеевич:https://public
 .mai.ru/schedule/data/65f93e6e-1d99-11e0-9baf-1c6f65450efa.json
DESCRIPTION:Преподаватель: Киреев Алексей Але
 ксеевич
DTSTAMP:20260419T215907Z
DTSTART:20260303T181500Z
DURATION:PT3H15M
LOCATION:24-525
SEQUENCE:0
SUMMARY:[ЛК 2п.]Вычислительные методы оптимиз
 ации сложных систем (Киреев Алексей Алек
 сеевич)
UID:3b114424-1c33-410c-abf5-f119566341dc
END:VEVENT
BEGIN:VEVENT
ATTENDEE;CN=Тихонов Филипп Владимирович:https://pu
 blic.mai.ru/schedule/data/51954ba0-55d1-11ed-bbea-ac1f6b64c5eb.json
DESCRIPTION:Преподаватель: Тихонов Филипп Вла
 димирович
DTSTAMP:20260419T215907Z
DTSTART:20260304T181500Z
DURATION:PT3H15M
LOCATION:57Г-505
SEQUENCE:0
SUMMARY:[ЛК 2п.]Электромеханика (Тихонов Фили
 пп Владимирович)
UID:da81c27c-9d19-4fe2-bb8e-ce7bf233a074
END:VEVENT
BEGIN:VEVENT
ATTENDEE;CN=Степанов Вилен Степанович:https://public
 .mai.ru/schedule/data/eaf6cdc9-1d9a-11e0-9baf-1c6f65450efa.json
DESCRIPTION:Преподаватель: Степанов Вилен Сте
 панович
DTSTAMP:20260419T215907Z
DTSTART:20260305T181500Z
DURATION:PT3H15M
LOCATION:24-656
SEQUENCE:0
SUMMARY:[ПЗ 2п.]Учебно-исследовательская рабо
 та студентов (Степанов Вилен Степанович)
UID:8ed9fbfb-8384-4488-8da2-2f253054de16
END:VEVENT
BEGIN:VEVENT
ATTENDEE;CN=Степанов Вилен Степанович:https://public
 .mai.ru/schedule/data/eaf6cdc9-1d9a-11e0-9baf-1c6f65450efa.json
DESCRIPTION:Преподаватель: Степанов Вилен Сте
 панович
DTSTAMP:20260419T215907Z
DTSTART:20260310T181500Z
DURATION:PT3H15M
LOCATION:24-654
SEQUENCE:0
SUMMARY:[ЛК 2п.]Основы автоматики и теории упр
 авления (Степанов Вилен Степанович)
UID:d286aa56-0860-41d5-a8e4-af01a9414ac0
END:VEVENT
BEGIN:VEVENT
ATTENDEE;CN=Волкова Елена Борисовна:https://public.mai
 .ru/schedule/data/d72d647c-1d99-11e0-9baf-1c6f65450efa.json
DESCRIPTION:Преподаватель: Волкова Елена Бори
 совна
DTSTAMP:20260419T215907Z
DTSTART:20260311T181500Z
DURATION:PT3H15M
LOCATION:Орш. В-103
SEQUENCE:0
SUMMARY:[ПЗ 2п.]Иностранный язык (Волкова Елен
 а Борисовна)
UID:851613f7-f4a4-4b75-8c64-ac56e8b868fb
END:VEVENT
BEGIN:VEVENT
ATTENDEE;CN=Лобачев Николай Александрович:https:
 //public.mai.ru/schedule/data/88c13e44-1d9a-11e0-9baf-1c6f65450efa.json
DESCRIPTION:Преподаватель: Лобачев Николай Ал
 ександрович
DTSTAMP:20260419T215907Z
DTSTART:20260312T181500Z
DURATION:PT3H15M
LOCATION:24-603
SEQUENCE:0
SUMMARY:[ЛК 2п.]Оснащение летательных аппарат
 ов (Лобачев Николай Александрович)
UID:ee2c86c2-9188-4664-a595-1f3528b453b0
END:VEVENT
BEGIN:VEVENT
ATTENDEE;CN=Василевский Валерий Владимирович:
 https://public.mai.ru/schedule/data/b637a6ab-1d99-11e0-9baf-1c6f65450efa.j
 son
DESCRIPTION:Преподаватель: Василевский Валери
 й Владимирович
DTSTAMP:20260419T215907Z
DTSTART:20260313T181500Z
DURATION:PT3H15M
LOCATION:5-206
SEQUENCE:0
SUMMARY:[ЛК 2п.]Экономика и организация промы
 шленности (Василевский Валерий Владимир
 ович)
UID:f4bc0b34-f55e-4322-88db-03f1abf58189
END:VEVENT
BEGIN:VEVENT
ATTENDEE;CN=Афонин Александр Анатольевич:https://
 public.mai.ru/schedule/data/b0062590-1d99-11e0-9baf-1c6f65450efa.json
DESCRIPTION:Преподаватель: Афонин Александр А
 натольевич
DTSTAMP:20260419T215907Z
DTSTART:20260316T181500Z
DURATION:PT3H15M
LOCATION:3-326
SEQUENCE:0
SUMMARY:[ЛК 2п.]Пилотажно-навигационные датчи
 ки\, приборы и системы (Афонин Александр 
 Анатольевич)
UID:4ecb7b92-9b44-4bf6-a71e-1fe754465283
END:VEVENT
BEGIN:VEVENT
ATTENDEE;CN=Киреев Алексей Алексеевич:https://public
 .mai.ru/schedule/data/65f93e6e-1d99-11e0-9baf-1c6f65450efa.json
DESCRIPTION:Преподаватель: Киреев Алексей Але
 ксеевич
DTSTAMP:20260419T215907Z
DTSTART:20260317T181500Z
DURATION:PT3H15M
LOCATION:24-525
SEQUENCE:0
SUMMARY:[ЛК 2п.]Вычислительные методы оптимиз
 ации сложных систем (Киреев Алексей Алек
 сеевич)
UID:ed59305d-a961-4dc3-bb07-1e9e8c1bdbb3
END:VEVENT
BEGIN:VEVENT
ATTENDEE;CN=Тихонов Филипп Владимирович:https://pu
 blic.mai.ru/schedule/data/51954ba0-55d1-11ed-bbea-ac1f6b64c5eb.json
DESCRIPTION:Преподаватель: Тихонов Филипп Вла
 димирович
DTSTAMP:20260419T215907Z
DTSTART:20260318T181500Z
DURATION:PT3H15M
LOCATION:57Г-505
SEQUENCE:0
SUMMARY:[ЛК 2п.]Электромеханика (Тихонов Фили
 пп Владимирович)
UID:7d20c181-37d9-4f56-9811-14d7cc73060a
END:VEVENT
BEGIN:VEVENT
ATTENDEE;CN=Степанов Вилен Степанович:https://public
 .mai.ru/schedule/data/eaf6cdc9-1d9a-11e0-9baf-1c6f65450efa.json
DESCRIPTION:Преподаватель: Степанов Вилен Сте
 панович
DTSTAMP:20260419T215907Z
DTSTART:20260319T181500Z
DURATION:PT3H15M
LOCATION:24-656
SEQUENCE:0
SUMMARY:[ПЗ 2п.]Учебно-исследовательская рабо
 та студентов (Степанов Вилен Степанович)
UID:c0cdfb4f-5899-4767-a1ec-5ba67d9698a6
END:VEVENT
BEGIN:VEVENT
ATTENDEE;CN=Оболенский Владимир Юрьевич:https://pu
 blic.mai.ru/schedule/data/5fe91826-397c-11e8-9a02-485b3919ee6d.json
DESCRIPTION:Преподаватель: Оболенский Владими
 р Юрьевич
DTSTAMP:20260419T215907Z
DTSTART:20260323T181500Z
DURATION:PT3H15M
LOCATION:24-656
SEQUENCE:0
SUMMARY:[ЛК 2п.]Прикладная механика жидкости 
 и газа (Оболенский Владимир Юрьевич)
UID:6efd69ec-dd38-4c82-90c2-31b76d15b1b3
END:VEVENT
BEGIN:VEVENT
ATTENDEE;CN=Степанов Вилен Степанович:https://public
 .mai.ru/schedule/data/eaf6cdc9-1d9a-11e0-9baf-1c6f65450efa.json
DESCRIPTION:Преподаватель: Степанов Вилен Сте
 панович
DTSTAMP:20260419T215907Z
DTSTART:20260324T181500Z
DURATION:PT3H15M
LOCATION:24-654
SEQUENCE:0
SUMMARY:[ЛК 2п.]Основы автоматики и теории упр
 авления (Степанов Вилен Степанович)
UID:d99c2f5c-0660-4219-9f60-f1447fc142d4
END:VEVENT
BEGIN:VEVENT
ATTENDEE;CN=Волкова Елена Борисовна:https://public.mai
 .ru/schedule/data/d72d647c-1d99-11e0-9baf-1c6f65450efa.json
DESCRIPTION:Преподаватель: Волкова Елена Бори
 совна
DTSTAMP:20260419T215907Z
DTSTART:20260325T181500Z
DURATION:PT3H15M
LOCATION:Орш. В-103
SEQUENCE:0
SUMMARY:[ПЗ 2п.]Иностранный язык (Волкова Елен
 а Борисовна)
UID:ebb50ed0-c7f2-46a9-9198-bd083323cea4
END:VEVENT
BEGIN:VEVENT
ATTENDEE;CN=Лобачев Николай Александрович:https:
 //public.mai.ru/schedule/data/88c13e44-1d9a-11e0-9baf-1c6f65450efa.json
DESCRIPTION:Преподаватель: Лобачев Николай Ал
 ександрович
DTSTAMP:20260419T215907Z
DTSTART:20260326T181500Z
DURATION:PT3H15M
LOCATION:24-603
SEQUENCE:0
SUMMARY:[ЛК 2п.]Оснащение летательных аппарат
 ов (Лобачев Николай Александрович)
UID:d6a65e94-81e0-4db3-9bae-6f8873d9f893
END:VEVENT
BEGIN:VEVENT
ATTENDEE;CN=Василевский Валерий Владимирович:
 https://public.mai.ru/schedule/data/b637a6ab-1d99-11e0-9baf-1c6f65450efa.j
 son
DESCRIPTION:Преподаватель: Василевский Валери
 й Владимирович
DTSTAMP:20260419T215907Z
DTSTART:20260327T181500Z
DURATION:PT3H15M
LOCATION:5-206
SEQUENCE:0
SUMMARY:[ЛК 2п.]Экономика и организация промы
 шленности (Василевский Валерий Владимир
 ович)
UID:013c843a-14af-42c4-9b61-0a9dc079d0f5
END:VEVENT
BEGIN:VEVENT
ATTENDEE;CN=Афонин Александр Анатольевич:https://
 public.mai.ru/schedule/data/b0062590-1d99-11e0-9baf-1c6f65450efa.json
DESCRIPTION:Преподаватель: Афонин Александр А
 натольевич
DTSTAMP:20260419T215907Z
DTSTART:20260330T181500Z
DURATION:PT3H15M
LOCATION:3-326
SEQUENCE:0
SUMMARY:[ЛК 2п.]Пилотажно-навигационные датчи
 ки\, приборы и системы (Афонин Александр 
 Анатольевич)
UID:8b8ffe9f-4b6e-4f08-b82b-83ad1162585b
END:VEVENT
BEGIN:VEVENT
ATTENDEE;CN=Киреев Алексей Алексеевич:https://public
 .mai.ru/schedule/data/65f93e6e-1d99-11e0-9baf-1c6f65450efa.json
DESCRIPTION:Преподаватель: Киреев Алексей Але
 ксеевич
DTSTAMP:20260419T215907Z
DTSTART:20260331T181500Z
DURATION:PT3H15M
LOCATION:24-525
SEQUENCE:0
SUMMARY:[ЛК 2п.]Вычислительные методы оптимиз
 ации сложных систем (Киреев Алексей Алек
 сеевич)
UID:1bec43c1-9723-4ea9-91fb-952c7cd159e9
END:VEVENT
BEGIN:VEVENT
ATTENDEE;CN=Тихонов Филипп Владимирович:https://pu
 blic.mai.ru/schedule/data/51954ba0-55d1-11ed-bbea-ac1f6b64c5eb.json
DESCRIPTION:Преподаватель: Тихонов Филипп Вла
 димирович
DTSTAMP:20260419T215907Z
DTSTART:20260401T181500Z
DURATION:PT3H15M
LOCATION:57Г-505
SEQUENCE:0
SUMMARY:[ЛК 2п.]Электромеханика (Тихонов Фили
 пп Владимирович)
UID:b7bd2715-7a9b-4d55-b8e4-d2d998f4dc75
END:VEVENT
BEGIN:VEVENT
ATTENDEE;CN=Оболенский Владимир Юрьевич:https://pu
 blic.mai.ru/schedule/data/5fe91826-397c-11e8-9a02-485b3919ee6d.json
DESCRIPTION:Преподаватель: Оболенский Владими
 р Юрьевич
DTSTAMP:20260419T215907Z
DTSTART:20260406T181500Z
DURATION:PT3H15M
LOCATION:24-656
SEQUENCE:0
SUMMARY:[ЛК 2п.]Прикладная механика жидкости 
 и газа (Оболенский Владимир Юрьевич)
UID:510296b9-2a48-4f1b-b17e-3d71102a4ee3
END:VEVENT
BEGIN:VEVENT
ATTENDEE;CN=Степанов Вилен Степанович:https://public
 .mai.ru/schedule/data/eaf6cdc9-1d9a-11e0-9baf-1c6f65450efa.json
DESCRIPTION:Преподаватель: Степанов Вилен Сте
 панович
DTSTAMP:20260419T215907Z
DTSTART:20260407T181500Z
DURATION:PT3H15M
LOCATION:24-654
SEQUENCE:0
SUMMARY:[ЛК 2п.]Основы автоматики и теории упр
 авления (Степанов Вилен Степанович)
UID:2b3b3198-8672-4e8a-9de8-1ec1f428699b
END:VEVENT
BEGIN:VEVENT
ATTENDEE;CN=Волкова Елена Борисовна:https://public.mai
 .ru/schedule/data/d72d647c-1d99-11e0-9baf-1c6f65450efa.json
DESCRIPTION:Преподаватель: Волкова Елена Бори
 совна
DTSTAMP:20260419T215907Z
DTSTART:20260408T181500Z
DURATION:PT3H15M
LOCATION:Орш. В-103
SEQUENCE:0
SUMMARY:[ПЗ 2п.]Иностранный язык (Волкова Елен
 а Борисовна)
UID:a68c97d6-a230-4c7f-9b86-b655d933fef3
END:VEVENT
BEGIN:VEVENT
ATTENDEE;CN=Лобачев Николай Александрович:https:
 //public.mai.ru/schedule/data/88c13e44-1d9a-11e0-9baf-1c6f65450efa.json
DESCRIPTION:Преподаватель: Лобачев Николай Ал
 ександрович
DTSTAMP:20260419T215907Z
DTSTART:20260409T181500Z
DURATION:PT3H15M
LOCATION:24-603
SEQUENCE:0
SUMMARY:[ЛК 2п.]Оснащение летательных аппарат
 ов (Лобачев Николай Александрович)
UID:34ce6ea6-5e15-4bd7-b6ea-ba89816f9d19
END:VEVENT
BEGIN:VEVENT
ATTENDEE;CN=Василевский Валерий Владимирович:
 https://public.mai.ru/schedule/data/b637a6ab-1d99-11e0-9baf-1c6f65450efa.j
 son
DESCRIPTION:Преподаватель: Василевский Валери
 й Владимирович
DTSTAMP:20260419T215907Z
DTSTART:20260410T181500Z
DURATION:PT3H15M
LOCATION:5-206
SEQUENCE:0
SUMMARY:[ПЗ 2п.]Экономика и организация промы
 шленности (Василевский Валерий Владимир
 ович)
UID:4773654b-886f-4f2e-ba5d-ba703ef0d8e2
END:VEVENT
BEGIN:VEVENT
ATTENDEE;CN=Афонин Александр Анатольевич:https://
 public.mai.ru/schedule/data/b0062590-1d99-11e0-9baf-1c6f65450efa.json
DESCRIPTION:Преподаватель: Афонин Александр А
 натольевич
DTSTAMP:20260419T215907Z
DTSTART:20260413T181500Z
DURATION:PT3H15M
LOCATION:3-326
SEQUENCE:0
SUMMARY:[ЛК 2п.]Пилотажно-навигационные датчи
 ки\, приборы и системы (Афонин Александр 
 Анатольевич)
UID:7ec60555-b565-42d0-b27f-79e0cb9cf86b
END:VEVENT
BEGIN:VEVENT
ATTENDEE;CN=Киреев Алексей Алексеевич:https://public
 .mai.ru/schedule/data/65f93e6e-1d99-11e0-9baf-1c6f65450efa.json
DESCRIPTION:Преподаватель: Киреев Алексей Але
 ксеевич
DTSTAMP:20260419T215907Z
DTSTART:20260414T181500Z
DURATION:PT3H15M
LOCATION:24-525
SEQUENCE:0
SUMMARY:[ЛК 2п.]Вычислительные методы оптимиз
 ации сложных систем (Киреев Алексей Алек
 сеевич)
UID:29014251-0cd3-404f-890e-7fcf50decdfa
END:VEVENT
BEGIN:VEVENT
ATTENDEE;CN=Тихонов Филипп Владимирович:https://pu
 blic.mai.ru/schedule/data/51954ba0-55d1-11ed-bbea-ac1f6b64c5eb.json
DESCRIPTION:Преподаватель: Тихонов Филипп Вла
 димирович
DTSTAMP:20260419T215907Z
DTSTART:20260415T181500Z
DURATION:PT3H15M
LOCATION:57Г-303
SEQUENCE:0
SUMMARY:[ЛР 2п.]Электромеханика (Тихонов Фили
 пп Владимирович)
UID:c733786e-0edf-4121-b255-4398e3e37de4
END:VEVENT
BEGIN:VEVENT
ATTENDEE;CN=Оболенский Владимир Юрьевич:https://pu
 blic.mai.ru/schedule/data/5fe91826-397c-11e8-9a02-485b3919ee6d.json
DESCRIPTION:Преподаватель: Оболенский Владими
 р Юрьевич
DTSTAMP:20260419T215907Z
DTSTART:20260420T181500Z
DURATION:PT3H15M
LOCATION:24-656
SEQUENCE:0
SUMMARY:[ЛК 2п.]Прикладная механика жидкости 
 и газа (Оболенский Владимир Юрьевич)
UID:1c3375d2-04ac-4399-9f70-59f98415409f
END:VEVENT
BEGIN:VEVENT
ATTENDEE;CN=Степанов Вилен Степанович:https://public
 .mai.ru/schedule/data/eaf6cdc9-1d9a-11e0-9baf-1c6f65450efa.json
DESCRIPTION:Преподаватель: Степанов Вилен Сте
 панович
DTSTAMP:20260419T215907Z
DTSTART:20260421T181500Z
DURATION:PT3H15M
LOCATION:24-654
SEQUENCE:0
SUMMARY:[ПЗ 2п.]Основы автоматики и теории упр
 авления (Степанов Вилен Степанович)
UID:cd9096d9-0e63-4c2c-9e3e-4dc758affe2c
END:VEVENT
BEGIN:VEVENT
ATTENDEE;CN=Волкова Елена Борисовна:https://public.mai
 .ru/schedule/data/d72d647c-1d99-11e0-9baf-1c6f65450efa.json
DESCRIPTION:Преподаватель: Волкова Елена Бори
 совна
DTSTAMP:20260419T215907Z
DTSTART:20260422T181500Z
DURATION:PT3H15M
LOCATION:Орш. В-103
SEQUENCE:0
SUMMARY:[ПЗ 2п.]Иностранный язык (Волкова Елен
 а Борисовна)
UID:c4a3150d-4896-4ad1-8031-39fbe8150620
END:VEVENT
BEGIN:VEVENT
ATTENDEE;CN=Лобачев Николай Александрович:https:
 //public.mai.ru/schedule/data/88c13e44-1d9a-11e0-9baf-1c6f65450efa.json
DESCRIPTION:Преподаватель: Лобачев Николай Ал
 ександрович
DTSTAMP:20260419T215907Z
DTSTART:20260423T181500Z
DURATION:PT3H15M
LOCATION:24-603
SEQUENCE:0
SUMMARY:[ЛР 2п.]Оснащение летательных аппарат
 ов (Лобачев Николай Александрович)
UID:42433bb2-10d3-4325-a5f7-3266882b53f3
END:VEVENT
BEGIN:VEVENT
ATTENDEE;CN=Василевский Валерий Владимирович:
 https://public.mai.ru/schedule/data/b637a6ab-1d99-11e0-9baf-1c6f65450efa.j
 son
DESCRIPTION:Преподаватель: Василевский Валери
 й Владимирович
DTSTAMP:20260419T215907Z
DTSTART:20260424T181500Z
DURATION:PT3H15M
LOCATION:5-206
SEQUENCE:0
SUMMARY:[ПЗ 2п.]Экономика и организация промы
 шленности (Василевский Валерий Владимир
 ович)
UID:92fd54f4-8d5e-41a3-9336-389743cb5062
END:VEVENT
BEGIN:VEVENT
ATTENDEE;CN=Афонин Александр Анатольевич:https://
 public.mai.ru/schedule/data/b0062590-1d99-11e0-9baf-1c6f65450efa.json
DESCRIPTION:Преподаватель: Афонин Александр А
 натольевич
DTSTAMP:20260419T215907Z
DTSTART:20260427T181500Z
DURATION:PT3H15M
LOCATION:3-326
SEQUENCE:0
SUMMARY:[ЛР 2п.]Пилотажно-навигационные датчи
 ки\, приборы и системы (Афонин Александр 
 Анатольевич)
UID:6b1f5d5b-df82-45fd-b48e-e4b49d24f2f8
END:VEVENT
BEGIN:VEVENT
ATTENDEE;CN=Киреев Алексей Алексеевич:https://public
 .mai.ru/schedule/data/65f93e6e-1d99-11e0-9baf-1c6f65450efa.json
DESCRIPTION:Преподаватель: Киреев Алексей Але
 ксеевич
DTSTAMP:20260419T215907Z
DTSTART:20260428T181500Z
DURATION:PT3H15M
LOCATION:24-525
SEQUENCE:0
SUMMARY:[ЛР 2п.]Вычислительные методы оптимиз
 ации сложных систем (Киреев Алексей Алек
 сеевич)
UID:a0c06264-dd57-4911-ad26-84e36c936a42
END:VEVENT
BEGIN:VEVENT
ATTENDEE;CN=Тихонов Филипп Владимирович:https://pu
 blic.mai.ru/schedule/data/51954ba0-55d1-11ed-bbea-ac1f6b64c5eb.json
DESCRIPTION:Преподаватель: Тихонов Филипп Вла
 димирович
DTSTAMP:20260419T215907Z
DTSTART:20260429T181500Z
DURATION:PT3H15M
LOCATION:57Г-303
SEQUENCE:0
SUMMARY:[ЛР 2п.]Электромеханика (Тихонов Фили
 пп Владимирович)
UID:ff173915-a144-4fbf-b272-ad58193b5d7b
END:VEVENT
BEGIN:VEVENT
ATTENDEE;CN=Оболенский Владимир Юрьевич:https://pu
 blic.mai.ru/schedule/data/5fe91826-397c-11e8-9a02-485b3919ee6d.json
DESCRIPTION:Преподаватель: Оболенский Владими
 р Юрьевич
DTSTAMP:20260419T215907Z
DTSTART:20260504T181500Z
DURATION:PT3H15M
LOCATION:9-104
SEQUENCE:0
SUMMARY:[ЛР 2п.]Прикладная механика жидкости 
 и газа (Оболенский Владимир Юрьевич)
UID:bb52da07-edb3-4247-ba18-17425d57ecc3
END:VEVENT
BEGIN:VEVENT
ATTENDEE;CN=Степанов Вилен Степанович:https://public
 .mai.ru/schedule/data/eaf6cdc9-1d9a-11e0-9baf-1c6f65450efa.json
DESCRIPTION:Преподаватель: Степанов Вилен Сте
 панович
DTSTAMP:20260419T215907Z
DTSTART:20260505T181500Z
DURATION:PT3H15M
LOCATION:24-654
SEQUENCE:0
SUMMARY:[ПЗ 2п.]Основы автоматики и теории упр
 авления (Степанов Вилен Степанович)
UID:1d9f2420-7846-4d65-8d95-774d5f971aa4
END:VEVENT
BEGIN:VEVENT
ATTENDEE;CN=Волкова Елена Борисовна:https://public.mai
 .ru/schedule/data/d72d647c-1d99-11e0-9baf-1c6f65450efa.json
DESCRIPTION:Преподаватель: Волкова Елена Бори
 совна
DTSTAMP:20260419T215907Z
DTSTART:20260506T181500Z
DURATION:PT3H15M
LOCATION:Орш. В-103
SEQUENCE:0
SUMMARY:[ПЗ 2п.]Иностранный язык (Волкова Елен
 а Борисовна)
UID:15c86b05-dbf0-4f51-b865-03a6608eb817
END:VEVENT
BEGIN:VEVENT
ATTENDEE;CN=Лобачев Николай Александрович:https:
 //public.mai.ru/schedule/data/88c13e44-1d9a-11e0-9baf-1c6f65450efa.json
DESCRIPTION:Преподаватель: Лобачев Николай Ал
 ександрович
DTSTAMP:20260419T215907Z
DTSTART:20260507T181500Z
DURATION:PT3H15M
LOCATION:24-603
SEQUENCE:0
SUMMARY:[ЛР 2п.]Оснащение летательных аппарат
 ов (Лобачев Николай Александрович)
UID:86131f9b-a75b-4cb3-82b2-551b27a5de52
END:VEVENT
BEGIN:VEVENT
ATTENDEE;CN=Афонин Александр Анатольевич:https://
 public.mai.ru/schedule/data/b0062590-1d99-11e0-9baf-1c6f65450efa.json
DESCRIPTION:Преподаватель: Афонин Александр А
 натольевич
DTSTAMP:20260419T215907Z
DTSTART:20260511T181500Z
DURATION:PT3H15M
LOCATION:3-326
SEQUENCE:0
SUMMARY:[ЛР 2п.]Пилотажно-навигационные датчи
 ки\, приборы и системы (Афонин Александр 
 Анатольевич)
UID:43969c4b-d867-4e7b-b275-a95aa8c1cf51
END:VEVENT
BEGIN:VEVENT
ATTENDEE;CN=Киреев Алексей Алексеевич:https://public
 .mai.ru/schedule/data/65f93e6e-1d99-11e0-9baf-1c6f65450efa.json
DESCRIPTION:Преподаватель: Киреев Алексей Але
 ксеевич
DTSTAMP:20260419T215907Z
DTSTART:20260512T181500Z
DURATION:PT3H15M
LOCATION:24-525
SEQUENCE:0
SUMMARY:[ЛР 2п.]Вычислительные методы оптимиз
 ации сложных систем (Киреев Алексей Алек
 сеевич)
UID:b8fbdb0e-1f3b-4904-a65b-ef844e53bad3
END:VEVENT
BEGIN:VEVENT
ATTENDEE;CN=Тихонов Филипп Владимирович:https://pu
 blic.mai.ru/schedule/data/51954ba0-55d1-11ed-bbea-ac1f6b64c5eb.json
DESCRIPTION:Преподаватель: Тихонов Филипп Вла
 димирович
DTSTAMP:20260419T215907Z
DTSTART:20260513T181500Z
DURATION:PT3H15M
LOCATION:57Г-303
SEQUENCE:0
SUMMARY:[ЛР 2п.]Электромеханика (Тихонов Фили
 пп Владимирович)
UID:72d632fd-3c07-42e0-a66b-6d3778958897
END:VEVENT
BEGIN:VEVENT
ATTENDEE;CN=Оболенский Владимир Юрьевич:https://pu
 blic.mai.ru/schedule/data/5fe91826-397c-11e8-9a02-485b3919ee6d.json
DESCRIPTION:Преподаватель: Оболенский Владими
 р Юрьевич
DTSTAMP:20260419T215907Z
DTSTART:20260518T181500Z
DURATION:PT3H15M
LOCATION:9-104
SEQUENCE:0
SUMMARY:[ЛР 2п.]Прикладная механика жидкости 
 и газа (Оболенский Владимир Юрьевич)
UID:84407fcf-85a1-41ca-bd2a-83ea4f3050e0
END:VEVENT
BEGIN:VEVENT
ATTENDEE;CN=Степанов Вилен Степанович:https://public
 .mai.ru/schedule/data/eaf6cdc9-1d9a-11e0-9baf-1c6f65450efa.json
DESCRIPTION:Преподаватель: Степанов Вилен Сте
 панович
DTSTAMP:20260419T215907Z
DTSTART:20260519T181500Z
DURATION:PT3H15M
LOCATION:24-654
SEQUENCE:0
SUMMARY:[ПЗ 2п.]Основы автоматики и теории упр
 авления (Степанов Вилен Степанович)
UID:dc314c34-93b5-4266-9194-49d6be22a044
END:VEVENT
BEGIN:VEVENT
ATTENDEE;CN=Волкова Елена Борисовна:https://public.mai
 .ru/schedule/data/d72d647c-1d99-11e0-9baf-1c6f65450efa.json
DESCRIPTION:Преподаватель: Волкова Елена Бори
 совна
DTSTAMP:20260419T215907Z
DTSTART:20260520T181500Z
DURATION:PT3H15M
LOCATION:Орш. В-103
SEQUENCE:0
SUMMARY:[ПЗ 2п.]Иностранный язык (Волкова Елен
 а Борисовна)
UID:cf28c603-8bbe-4894-b066-26c08a4f18eb
END:VEVENT
BEGIN:VEVENT
ATTENDEE;CN=Лобачев Николай Александрович:https:
 //public.mai.ru/schedule/data/88c13e44-1d9a-11e0-9baf-1c6f65450efa.json
DESCRIPTION:Преподаватель: Лобачев Николай Ал
 ександрович
DTSTAMP:20260419T215907Z
DTSTART:20260521T181500Z
DURATION:PT3H15M
LOCATION:24-603
SEQUENCE:0
SUMMARY:[ЛР 2п.]Оснащение летательных аппарат
 ов (Лобачев Николай Александрович)
UID:68e79afe-a338-4162-a7fb-6e141e9d019f
END:VEVENT
BEGIN:VEVENT
ATTENDEE;CN=Афонин Александр Анатольевич:https://
 public.mai.ru/schedule/data/b0062590-1d99-11e0-9baf-1c6f65450efa.json
DESCRIPTION:Преподаватель: Афонин Александр А
 натольевич
DTSTAMP:20260419T215907Z
DTSTART:20260525T181500Z
DURATION:PT3H15M
LOCATION:3-326
SEQUENCE:0
SUMMARY:[ЛР 2п.]Пилотажно-навигационные датчи
 ки\, приборы и системы (Афонин Александр 
 Анатольевич)
UID:39608c3f-132d-41f5-9396-8d87dda313d7
END:VEVENT
BEGIN:VEVENT
ATTENDEE;CN=Киреев Алексей Алексеевич:https://public
 .mai.ru/schedule/data/65f93e6e-1d99-11e0-9baf-1c6f65450efa.json
DESCRIPTION:Преподаватель: Киреев Алексей Але
 ксеевич
DTSTAMP:20260419T215907Z
DTSTART:20260526T181500Z
DURATION:PT3H15M
LOCATION:24-525
SEQUENCE:0
SUMMARY:[ЛР 2п.]Вычислительные методы оптимиз
 ации сложных систем (Киреев Алексей Алек
 сеевич)
UID:93bd5ec7-7ecd-4205-916e-287582e798c6
END:VEVENT
BEGIN:VEVENT
ATTENDEE;CN=Тихонов Филипп Владимирович:https://pu
 blic.mai.ru/schedule/data/51954ba0-55d1-11ed-bbea-ac1f6b64c5eb.json
DESCRIPTION:Преподаватель: Тихонов Филипп Вла
 димирович
DTSTAMP:20260419T215907Z
DTSTART:20260527T181500Z
DURATION:PT3H15M
LOCATION:57Г-303
SEQUENCE:0
SUMMARY:[ЛР 2п.]Электромеханика (Тихонов Фили
 пп Владимирович)
UID:fcfc195b-b81d-4731-8ead-6c2471fd83f7
END:VEVENT
BEGIN:VEVENT
ATTENDEE;CN=Оболенский Владимир Юрьевич:https://pu
 blic.mai.ru/schedule/data/5fe91826-397c-11e8-9a02-485b3919ee6d.json
DESCRIPTION:Преподаватель: Оболенский Владими
 р Юрьевич
DTSTAMP:20260419T215907Z
DTSTART:20260601T181500Z
DURATION:PT3H15M
LOCATION:9-104
SEQUENCE:0
SUMMARY:[ЛР 2п.]Прикладная механика жидкости 
 и газа (Оболенский Владимир Юрьевич)
UID:6f9c7cb3-5c59-4a4b-8fef-8b1914ae591d
END:VEVENT
BEGIN:VEVENT
ATTENDEE;CN=Степанов Вилен Степанович:https://public
 .mai.ru/schedule/data/eaf6cdc9-1d9a-11e0-9baf-1c6f65450efa.json
DESCRIPTION:Преподаватель: Степанов Вилен Сте
 панович
DTSTAMP:20260419T215907Z
DTSTART:20260602T181500Z
DURATION:PT3H15M
LOCATION:24-654
SEQUENCE:0
SUMMARY:[ПЗ 2п.]Основы автоматики и теории упр
 авления (Степанов Вилен Степанович)
UID:cecf89eb-9ae1-4e78-8c65-a2621f160dbc
END:VEVENT
BEGIN:VEVENT
DESCRIPTION:Преподаватель: 
DTSTAMP:20260419T215907Z
DTSTART:20260603T181500Z
DURATION:PT1H30M
LOCATION:--каф. 919
SEQUENCE:0
SUMMARY:[ЛК 1п.]Физическая культура в професс
 иональной деятельности ()
UID:cef9c64c-f15c-447f-82d2-d1fdb1b6c79d
END:VEVENT
BEGIN:VEVENT
ATTENDEE;CN=Лобачев Николай Александрович:https:
 //public.mai.ru/schedule/data/88c13e44-1d9a-11e0-9baf-1c6f65450efa.json
DESCRIPTION:Преподаватель: Лобачев Николай Ал
 ександрович
DTSTAMP:20260419T215907Z
DTSTART:20260604T181500Z
DURATION:PT3H15M
LOCATION:24-603
SEQUENCE:0
SUMMARY:[ЛР 2п.]Оснащение летательных аппарат
 ов (Лобачев Николай Александрович)
UID:5b780f5d-ab0f-4f90-a33e-dfd028ed82b2
END:VEVENT
BEGIN:VEVENT
ATTENDEE;CN=Степанов Вилен Степанович:https://public
 .mai.ru/schedule/data/eaf6cdc9-1d9a-11e0-9baf-1c6f65450efa.json
DESCRIPTION:Преподаватель: Степанов Вилен Сте
 панович
DTSTAMP:20260419T215907Z
DTSTART:20260616T163000Z
DURATION:PT3H15M
LOCATION:24-654
SEQUENCE:0
SUMMARY:[Экзамен 2п.]Основы автоматики и теор
 ии управления (Степанов Вилен Степанови
 ч)
UID:75aa7802-bc63-4909-becb-6d7996929bfc
END:VEVENT
END:VCALENDAR
