﻿BEGIN:VCALENDAR
CALSCALE:GREGORIAN
METHOD:PUBLISH
PRODID:-//MAI-dep406//MAI Dep406 1.01//RU
VERSION:2.0
X-WR-TIMEZONE:Europe/Moscow
BEGIN:VTIMEZONE
TZID:Europe/Moscow
X-LIC-LOCATION:Europe/Moscow
BEGIN:STANDARD
DTSTART;VALUE=DATE:19700101
TZNAME:GMT+3
TZOFFSETTO:+0300
END:STANDARD
END:VTIMEZONE
BEGIN:VEVENT
ATTENDEE;CN=Лысаков Николай Дмитриевич:https://publ
 ic.mai.ru/schedule/data/e5d29ea9-5b22-11e2-91ec-3cd92bf20bfe.json
DESCRIPTION:Преподаватель: Лысаков Николай Дм
 итриевич
DTSTAMP:20260422T085151Z
DTSTART:20260304T163000Z
DURATION:PT3H15M
LOCATION:Орш. В-501
SEQUENCE:0
SUMMARY:[ЛК 2п.]Педагогика и психология высше
 й школы (Лысаков Николай Дмитриевич)
UID:83b13e7c-80a9-415e-85a0-27e868b7e8c6
END:VEVENT
BEGIN:VEVENT
ATTENDEE;CN=Лысаков Николай Дмитриевич:https://publ
 ic.mai.ru/schedule/data/e5d29ea9-5b22-11e2-91ec-3cd92bf20bfe.json
DESCRIPTION:Преподаватель: Лысаков Николай Дм
 итриевич
DTSTAMP:20260422T085151Z
DTSTART:20260318T163000Z
DURATION:PT3H15M
LOCATION:Орш. В-501
SEQUENCE:0
SUMMARY:[ЛК 2п.]Педагогика и психология высше
 й школы (Лысаков Николай Дмитриевич)
UID:b888c77e-d497-45ee-8d93-c75e3153e39d
END:VEVENT
BEGIN:VEVENT
ATTENDEE;CN=Лысаков Николай Дмитриевич:https://publ
 ic.mai.ru/schedule/data/e5d29ea9-5b22-11e2-91ec-3cd92bf20bfe.json
DESCRIPTION:Преподаватель: Лысаков Николай Дм
 итриевич
DTSTAMP:20260422T085151Z
DTSTART:20260401T163000Z
DURATION:PT1H30M
LOCATION:Орш. В-501
SEQUENCE:0
SUMMARY:[ЛК 1п.]Педагогика и психология высше
 й школы (Лысаков Николай Дмитриевич)
UID:54e2a009-4a4a-44e2-b3f6-4cc8f65c3199
END:VEVENT
BEGIN:VEVENT
ATTENDEE;CN=Гриб Елена Витальевна:https://public.mai.ru/
 schedule/data/eb7d5e24-1d99-11e0-9baf-1c6f65450efa.json
DESCRIPTION:Преподаватель: Гриб Елена Виталье
 вна
DTSTAMP:20260422T085151Z
DTSTART:20260408T163000Z
DURATION:PT3H15M
LOCATION:3-115
SEQUENCE:0
SUMMARY:[ПЗ 2п.]Педагогика и психология высше
 й школы (Гриб Елена Витальевна)
UID:1b872ae0-25d7-49c1-afbe-c934b6bff065
END:VEVENT
BEGIN:VEVENT
ATTENDEE;CN=Гриб Елена Витальевна:https://public.mai.ru/
 schedule/data/eb7d5e24-1d99-11e0-9baf-1c6f65450efa.json
DESCRIPTION:Преподаватель: Гриб Елена Виталье
 вна
DTSTAMP:20260422T085151Z
DTSTART:20260422T163000Z
DURATION:PT3H15M
LOCATION:3-115
SEQUENCE:0
SUMMARY:[ПЗ 2п.]Педагогика и психология высше
 й школы (Гриб Елена Витальевна)
UID:4d99e764-2e64-404b-b969-adbab10b73ca
END:VEVENT
END:VCALENDAR
