﻿BEGIN:VCALENDAR
CALSCALE:GREGORIAN
METHOD:PUBLISH
PRODID:-//MAI-dep406//MAI Dep406 1.01//RU
VERSION:2.0
X-WR-TIMEZONE:Europe/Moscow
BEGIN:VTIMEZONE
TZID:Europe/Moscow
X-LIC-LOCATION:Europe/Moscow
BEGIN:STANDARD
DTSTART;VALUE=DATE:19700101
TZNAME:GMT+3
TZOFFSETTO:+0300
END:STANDARD
END:VTIMEZONE
BEGIN:VEVENT
ATTENDEE;CN=Пантелеев Андрей Владимирович:https:
 //public.mai.ru/schedule/data/8062e128-1d99-11e0-9baf-1c6f65450efa.json
DESCRIPTION:Преподаватель: Пантелеев Андрей В
 ладимирович
DTSTAMP:20260422T063909Z
DTSTART:20260303T163000Z
DURATION:PT5H
LOCATION:ГУК А-606
SEQUENCE:0
SUMMARY:[ЛК\,ПЗ 3п.]Системный анализ\, управлен
 ие и обработка информации (Пантелеев Анд
 рей Владимирович)
UID:38ca828c-aa81-4e90-8d4f-1f2eb738e81c
END:VEVENT
BEGIN:VEVENT
ATTENDEE;CN=Лысаков Николай Дмитриевич:https://publ
 ic.mai.ru/schedule/data/e5d29ea9-5b22-11e2-91ec-3cd92bf20bfe.json
DESCRIPTION:Преподаватель: Лысаков Николай Дм
 итриевич
DTSTAMP:20260422T063909Z
DTSTART:20260304T163000Z
DURATION:PT3H15M
LOCATION:Орш. В-501
SEQUENCE:0
SUMMARY:[ЛК 2п.]Педагогика и психология высше
 й школы (Лысаков Николай Дмитриевич)
UID:fa693a4b-6e26-4a52-85db-43945ca98629
END:VEVENT
BEGIN:VEVENT
ATTENDEE;CN=Пантелеев Андрей Владимирович:https:
 //public.mai.ru/schedule/data/8062e128-1d99-11e0-9baf-1c6f65450efa.json
DESCRIPTION:Преподаватель: Пантелеев Андрей В
 ладимирович
DTSTAMP:20260422T063909Z
DTSTART:20260310T163000Z
DURATION:PT5H
LOCATION:ГУК А-606
SEQUENCE:0
SUMMARY:[ЛК\,ПЗ 3п.]Системный анализ\, управлен
 ие и обработка информации (Пантелеев Анд
 рей Владимирович)
UID:9022c9ac-201f-4508-a01f-d6b69ab1e1cf
END:VEVENT
BEGIN:VEVENT
ATTENDEE;CN=Пантелеев Андрей Владимирович:https:
 //public.mai.ru/schedule/data/8062e128-1d99-11e0-9baf-1c6f65450efa.json
DESCRIPTION:Преподаватель: Пантелеев Андрей В
 ладимирович
DTSTAMP:20260422T063909Z
DTSTART:20260317T163000Z
DURATION:PT5H
LOCATION:ГУК А-606
SEQUENCE:0
SUMMARY:[ЛК\,ПЗ 3п.]Системный анализ\, управлен
 ие и обработка информации (Пантелеев Анд
 рей Владимирович)
UID:39847fc0-125a-4609-81de-79d954831349
END:VEVENT
BEGIN:VEVENT
ATTENDEE;CN=Лысаков Николай Дмитриевич:https://publ
 ic.mai.ru/schedule/data/e5d29ea9-5b22-11e2-91ec-3cd92bf20bfe.json
DESCRIPTION:Преподаватель: Лысаков Николай Дм
 итриевич
DTSTAMP:20260422T063909Z
DTSTART:20260318T163000Z
DURATION:PT3H15M
LOCATION:Орш. В-501
SEQUENCE:0
SUMMARY:[ЛК 2п.]Педагогика и психология высше
 й школы (Лысаков Николай Дмитриевич)
UID:444690dd-2e79-4942-8759-5d07e20031d9
END:VEVENT
BEGIN:VEVENT
ATTENDEE;CN=Пантелеев Андрей Владимирович:https:
 //public.mai.ru/schedule/data/8062e128-1d99-11e0-9baf-1c6f65450efa.json
DESCRIPTION:Преподаватель: Пантелеев Андрей В
 ладимирович
DTSTAMP:20260422T063909Z
DTSTART:20260324T163000Z
DURATION:PT5H
LOCATION:ГУК А-606
SEQUENCE:0
SUMMARY:[ЛК\,ПЗ 3п.]Системный анализ\, управлен
 ие и обработка информации (Пантелеев Анд
 рей Владимирович)
UID:89700fb4-8eec-4cbd-b2b5-b24ad0737a9f
END:VEVENT
BEGIN:VEVENT
ATTENDEE;CN=Пантелеев Андрей Владимирович:https:
 //public.mai.ru/schedule/data/8062e128-1d99-11e0-9baf-1c6f65450efa.json
DESCRIPTION:Преподаватель: Пантелеев Андрей В
 ладимирович
DTSTAMP:20260422T063909Z
DTSTART:20260331T181500Z
DURATION:PT3H15M
LOCATION:ГУК А-606
SEQUENCE:0
SUMMARY:[ЛК\,ПЗ 2п.]Системный анализ\, управлен
 ие и обработка информации (Пантелеев Анд
 рей Владимирович)
UID:15f27dc2-d54a-47d6-9cb8-69d8af179777
END:VEVENT
BEGIN:VEVENT
ATTENDEE;CN=Лысаков Николай Дмитриевич:https://publ
 ic.mai.ru/schedule/data/e5d29ea9-5b22-11e2-91ec-3cd92bf20bfe.json
DESCRIPTION:Преподаватель: Лысаков Николай Дм
 итриевич
DTSTAMP:20260422T063909Z
DTSTART:20260401T163000Z
DURATION:PT1H30M
LOCATION:Орш. В-501
SEQUENCE:0
SUMMARY:[ЛК 1п.]Педагогика и психология высше
 й школы (Лысаков Николай Дмитриевич)
UID:47878cd3-0b87-410c-8428-30092c053005
END:VEVENT
BEGIN:VEVENT
ATTENDEE;CN=Пантелеев Андрей Владимирович:https:
 //public.mai.ru/schedule/data/8062e128-1d99-11e0-9baf-1c6f65450efa.json
DESCRIPTION:Преподаватель: Пантелеев Андрей В
 ладимирович
DTSTAMP:20260422T063909Z
DTSTART:20260407T181500Z
DURATION:PT3H15M
LOCATION:ГУК А-606
SEQUENCE:0
SUMMARY:[ЛК\,ПЗ 2п.]Системный анализ\, управлен
 ие и обработка информации (Пантелеев Анд
 рей Владимирович)
UID:724a436f-edeb-429d-a829-ce0d7ec29a97
END:VEVENT
BEGIN:VEVENT
ATTENDEE;CN=Пантелеев Андрей Владимирович:https:
 //public.mai.ru/schedule/data/8062e128-1d99-11e0-9baf-1c6f65450efa.json
DESCRIPTION:Преподаватель: Пантелеев Андрей В
 ладимирович
DTSTAMP:20260422T063909Z
DTSTART:20260414T181500Z
DURATION:PT3H15M
LOCATION:ГУК А-606
SEQUENCE:0
SUMMARY:[ЛК\,ПЗ 2п.]Системный анализ\, управлен
 ие и обработка информации (Пантелеев Анд
 рей Владимирович)
UID:2d7b21ff-a16e-4307-b1f3-44d109660607
END:VEVENT
BEGIN:VEVENT
ATTENDEE;CN=Гриб Елена Витальевна:https://public.mai.ru/
 schedule/data/eb7d5e24-1d99-11e0-9baf-1c6f65450efa.json
DESCRIPTION:Преподаватель: Гриб Елена Виталье
 вна
DTSTAMP:20260422T063909Z
DTSTART:20260415T163000Z
DURATION:PT3H15M
LOCATION:Орш. В-511
SEQUENCE:0
SUMMARY:[ПЗ 2п.]Педагогика и психология высше
 й школы (Гриб Елена Витальевна)
UID:ccff672c-9701-49c0-8e51-641ab6a03efb
END:VEVENT
BEGIN:VEVENT
ATTENDEE;CN=Пантелеев Андрей Владимирович:https:
 //public.mai.ru/schedule/data/8062e128-1d99-11e0-9baf-1c6f65450efa.json
DESCRIPTION:Преподаватель: Пантелеев Андрей В
 ладимирович
DTSTAMP:20260422T063909Z
DTSTART:20260421T181500Z
DURATION:PT3H15M
LOCATION:ГУК А-606
SEQUENCE:0
SUMMARY:[ЛК\,ПЗ 2п.]Системный анализ\, управлен
 ие и обработка информации (Пантелеев Анд
 рей Владимирович)
UID:e96c09e1-dd55-424c-be79-783ee767f2f5
END:VEVENT
BEGIN:VEVENT
ATTENDEE;CN=Пантелеев Андрей Владимирович:https:
 //public.mai.ru/schedule/data/8062e128-1d99-11e0-9baf-1c6f65450efa.json
DESCRIPTION:Преподаватель: Пантелеев Андрей В
 ладимирович
DTSTAMP:20260422T063909Z
DTSTART:20260428T181500Z
DURATION:PT3H15M
LOCATION:ГУК А-606
SEQUENCE:0
SUMMARY:[ЛК\,ПЗ 2п.]Системный анализ\, управлен
 ие и обработка информации (Пантелеев Анд
 рей Владимирович)
UID:6e3d95b0-357e-4db8-b1ab-4950859e26b7
END:VEVENT
BEGIN:VEVENT
ATTENDEE;CN=Гриб Елена Витальевна:https://public.mai.ru/
 schedule/data/eb7d5e24-1d99-11e0-9baf-1c6f65450efa.json
DESCRIPTION:Преподаватель: Гриб Елена Виталье
 вна
DTSTAMP:20260422T063909Z
DTSTART:20260429T163000Z
DURATION:PT3H15M
LOCATION:Орш. В-511
SEQUENCE:0
SUMMARY:[ПЗ 2п.]Педагогика и психология высше
 й школы (Гриб Елена Витальевна)
UID:79e93482-a472-4730-9873-c246015e0f8f
END:VEVENT
BEGIN:VEVENT
ATTENDEE;CN=Пантелеев Андрей Владимирович:https:
 //public.mai.ru/schedule/data/8062e128-1d99-11e0-9baf-1c6f65450efa.json
DESCRIPTION:Преподаватель: Пантелеев Андрей В
 ладимирович
DTSTAMP:20260422T063909Z
DTSTART:20260505T181500Z
DURATION:PT3H15M
LOCATION:ГУК А-606
SEQUENCE:0
SUMMARY:[ЛК\,ПЗ 2п.]Системный анализ\, управлен
 ие и обработка информации (Пантелеев Анд
 рей Владимирович)
UID:fa0c340c-5c8d-4e25-b6ea-112bae1a75f6
END:VEVENT
BEGIN:VEVENT
ATTENDEE;CN=Пантелеев Андрей Владимирович:https:
 //public.mai.ru/schedule/data/8062e128-1d99-11e0-9baf-1c6f65450efa.json
DESCRIPTION:Преподаватель: Пантелеев Андрей В
 ладимирович
DTSTAMP:20260422T063909Z
DTSTART:20260512T181500Z
DURATION:PT3H15M
LOCATION:ГУК А-606
SEQUENCE:0
SUMMARY:[ЛК\,ПЗ 2п.]Системный анализ\, управлен
 ие и обработка информации (Пантелеев Анд
 рей Владимирович)
UID:e03d0938-57b0-45f5-ad6f-327a01d7382d
END:VEVENT
BEGIN:VEVENT
ATTENDEE;CN=Пантелеев Андрей Владимирович:https:
 //public.mai.ru/schedule/data/8062e128-1d99-11e0-9baf-1c6f65450efa.json
DESCRIPTION:Преподаватель: Пантелеев Андрей В
 ладимирович
DTSTAMP:20260422T063909Z
DTSTART:20260519T181500Z
DURATION:PT3H15M
LOCATION:ГУК А-606
SEQUENCE:0
SUMMARY:[ЛК\,ПЗ 2п.]Системный анализ\, управлен
 ие и обработка информации (Пантелеев Анд
 рей Владимирович)
UID:31fe0729-309c-4c89-8f51-a0a7708a5dc1
END:VEVENT
BEGIN:VEVENT
ATTENDEE;CN=Пантелеев Андрей Владимирович:https:
 //public.mai.ru/schedule/data/8062e128-1d99-11e0-9baf-1c6f65450efa.json
DESCRIPTION:Преподаватель: Пантелеев Андрей В
 ладимирович
DTSTAMP:20260422T063909Z
DTSTART:20260526T181500Z
DURATION:PT3H15M
LOCATION:ГУК А-606
SEQUENCE:0
SUMMARY:[ЛК\,ПЗ 2п.]Системный анализ\, управлен
 ие и обработка информации (Пантелеев Анд
 рей Владимирович)
UID:0eb6e7c1-9293-4b4b-8ae8-36578be9b5cb
END:VEVENT
BEGIN:VEVENT
ATTENDEE;CN=Пантелеев Андрей Владимирович:https:
 //public.mai.ru/schedule/data/8062e128-1d99-11e0-9baf-1c6f65450efa.json
DESCRIPTION:Преподаватель: Пантелеев Андрей В
 ладимирович
DTSTAMP:20260422T063909Z
DTSTART:20260602T181500Z
DURATION:PT3H15M
LOCATION:ГУК А-606
SEQUENCE:0
SUMMARY:[ЛК\,ПЗ 2п.]Системный анализ\, управлен
 ие и обработка информации (Пантелеев Анд
 рей Владимирович)
UID:cf7ee993-221e-4b36-9050-f649ec9cffa1
END:VEVENT
BEGIN:VEVENT
ATTENDEE;CN=Пантелеев Андрей Владимирович:https:
 //public.mai.ru/schedule/data/8062e128-1d99-11e0-9baf-1c6f65450efa.json
DESCRIPTION:Преподаватель: Пантелеев Андрей В
 ладимирович
DTSTAMP:20260422T063909Z
DTSTART:20260609T181500Z
DURATION:PT3H15M
LOCATION:ГУК А-606
SEQUENCE:0
SUMMARY:[ЛК\,ПЗ 2п.]Системный анализ\, управлен
 ие и обработка информации (Пантелеев Анд
 рей Владимирович)
UID:d3a450be-9295-4908-a13f-a80764ecb5bb
END:VEVENT
BEGIN:VEVENT
ATTENDEE;CN=Пантелеев Андрей Владимирович:https:
 //public.mai.ru/schedule/data/8062e128-1d99-11e0-9baf-1c6f65450efa.json
DESCRIPTION:Преподаватель: Пантелеев Андрей В
 ладимирович
DTSTAMP:20260422T063909Z
DTSTART:20260616T181500Z
DURATION:PT3H15M
LOCATION:ГУК А-606
SEQUENCE:0
SUMMARY:[ЛК\,ПЗ 2п.]Системный анализ\, управлен
 ие и обработка информации (Пантелеев Анд
 рей Владимирович)
UID:eb9a577d-3e38-4396-bc9e-a052db8e264d
END:VEVENT
BEGIN:VEVENT
ATTENDEE;CN=Пантелеев Андрей Владимирович:https:
 //public.mai.ru/schedule/data/8062e128-1d99-11e0-9baf-1c6f65450efa.json
DESCRIPTION:Преподаватель: Пантелеев Андрей В
 ладимирович
DTSTAMP:20260422T063909Z
DTSTART:20260625T163000Z
DURATION:PT1H30M
LOCATION:ГУК А-606
SEQUENCE:0
SUMMARY:[Экзамен 1п.]Системный анализ\, управл
 ение и обработка информации (Пантелеев А
 ндрей Владимирович)
UID:71bb76f8-7975-4613-9324-75dc5ce39175
END:VEVENT
END:VCALENDAR
