﻿BEGIN:VCALENDAR
CALSCALE:GREGORIAN
METHOD:PUBLISH
PRODID:-//MAI-dep406//MAI Dep406 1.01//RU
VERSION:2.0
X-WR-TIMEZONE:Europe/Moscow
BEGIN:VTIMEZONE
TZID:Europe/Moscow
X-LIC-LOCATION:Europe/Moscow
BEGIN:STANDARD
DTSTART;VALUE=DATE:19700101
TZNAME:GMT+3
TZOFFSETTO:+0300
END:STANDARD
END:VTIMEZONE
BEGIN:VEVENT
DESCRIPTION:Преподаватель: 
DTSTAMP:20260422T082412Z
DTSTART:20260302T163000Z
DURATION:PT5H
LOCATION:ГУК А-612
SEQUENCE:0
SUMMARY:[ЛК\,ПЗ 3п.]Математическое моделирова
 ние\, численные методы и комплексы прогр
 амм ()
UID:62d9dea6-26e5-47b5-9bee-aab34141e5a3
END:VEVENT
BEGIN:VEVENT
ATTENDEE;CN=Лысаков Николай Дмитриевич:https://publ
 ic.mai.ru/schedule/data/e5d29ea9-5b22-11e2-91ec-3cd92bf20bfe.json
DESCRIPTION:Преподаватель: Лысаков Николай Дм
 итриевич
DTSTAMP:20260422T082412Z
DTSTART:20260304T163000Z
DURATION:PT3H15M
LOCATION:Орш. В-501
SEQUENCE:0
SUMMARY:[ЛК 2п.]Педагогика и психология высше
 й школы (Лысаков Николай Дмитриевич)
UID:23d77c20-0c82-4abc-84f0-53df1d3cc312
END:VEVENT
BEGIN:VEVENT
DESCRIPTION:Преподаватель: 
DTSTAMP:20260422T082412Z
DTSTART:20260316T163000Z
DURATION:PT5H
LOCATION:ГУК А-612
SEQUENCE:0
SUMMARY:[ЛК\,ПЗ 3п.]Математическое моделирова
 ние\, численные методы и комплексы прогр
 амм ()
UID:d971c01f-a03c-43bb-9d30-2c019f1b336d
END:VEVENT
BEGIN:VEVENT
ATTENDEE;CN=Лысаков Николай Дмитриевич:https://publ
 ic.mai.ru/schedule/data/e5d29ea9-5b22-11e2-91ec-3cd92bf20bfe.json
DESCRIPTION:Преподаватель: Лысаков Николай Дм
 итриевич
DTSTAMP:20260422T082412Z
DTSTART:20260318T163000Z
DURATION:PT3H15M
LOCATION:Орш. В-501
SEQUENCE:0
SUMMARY:[ЛК 2п.]Педагогика и психология высше
 й школы (Лысаков Николай Дмитриевич)
UID:ded5f2e2-5240-4055-b7ae-a37a99720666
END:VEVENT
BEGIN:VEVENT
DESCRIPTION:Преподаватель: 
DTSTAMP:20260422T082412Z
DTSTART:20260323T163000Z
DURATION:PT5H
LOCATION:ГУК А-612
SEQUENCE:0
SUMMARY:[ЛК\,ПЗ 3п.]Математическое моделирова
 ние\, численные методы и комплексы прогр
 амм ()
UID:a8634ed7-0f5e-4fdf-9fd9-cc98c243bdec
END:VEVENT
BEGIN:VEVENT
DESCRIPTION:Преподаватель: 
DTSTAMP:20260422T082412Z
DTSTART:20260330T163000Z
DURATION:PT5H
LOCATION:ГУК А-612
SEQUENCE:0
SUMMARY:[ЛК\,ПЗ 3п.]Математическое моделирова
 ние\, численные методы и комплексы прогр
 амм ()
UID:b8a4fde4-f999-4fd4-bf39-71312d9fab53
END:VEVENT
BEGIN:VEVENT
ATTENDEE;CN=Лысаков Николай Дмитриевич:https://publ
 ic.mai.ru/schedule/data/e5d29ea9-5b22-11e2-91ec-3cd92bf20bfe.json
DESCRIPTION:Преподаватель: Лысаков Николай Дм
 итриевич
DTSTAMP:20260422T082412Z
DTSTART:20260401T163000Z
DURATION:PT1H30M
LOCATION:Орш. В-501
SEQUENCE:0
SUMMARY:[ЛК 1п.]Педагогика и психология высше
 й школы (Лысаков Николай Дмитриевич)
UID:a6554c78-e13d-4080-983b-05bca6f31019
END:VEVENT
BEGIN:VEVENT
DESCRIPTION:Преподаватель: 
DTSTAMP:20260422T082412Z
DTSTART:20260406T181500Z
DURATION:PT3H15M
LOCATION:ГУК А-612
SEQUENCE:0
SUMMARY:[ЛК\,ПЗ 2п.]Математическое моделирова
 ние\, численные методы и комплексы прогр
 амм ()
UID:9190c421-17e8-4f01-bb6a-5de506eb1041
END:VEVENT
BEGIN:VEVENT
DESCRIPTION:Преподаватель: 
DTSTAMP:20260422T082412Z
DTSTART:20260413T181500Z
DURATION:PT3H15M
LOCATION:ГУК А-612
SEQUENCE:0
SUMMARY:[ЛК\,ПЗ 2п.]Математическое моделирова
 ние\, численные методы и комплексы прогр
 амм ()
UID:7a2c65f8-9507-4e11-9dd8-ac0a564f1f75
END:VEVENT
BEGIN:VEVENT
ATTENDEE;CN=Гриб Елена Витальевна:https://public.mai.ru/
 schedule/data/eb7d5e24-1d99-11e0-9baf-1c6f65450efa.json
DESCRIPTION:Преподаватель: Гриб Елена Виталье
 вна
DTSTAMP:20260422T082412Z
DTSTART:20260415T163000Z
DURATION:PT3H15M
LOCATION:Орш. В-511
SEQUENCE:0
SUMMARY:[ПЗ 2п.]Педагогика и психология высше
 й школы (Гриб Елена Витальевна)
UID:31c0aefe-505c-4f79-bb26-eb25a9186107
END:VEVENT
BEGIN:VEVENT
DESCRIPTION:Преподаватель: 
DTSTAMP:20260422T082412Z
DTSTART:20260420T181500Z
DURATION:PT3H15M
LOCATION:ГУК А-612
SEQUENCE:0
SUMMARY:[ЛК\,ПЗ 2п.]Математическое моделирова
 ние\, численные методы и комплексы прогр
 амм ()
UID:79bb70d8-3ea1-4f1a-a20a-54ac77e5cc60
END:VEVENT
BEGIN:VEVENT
DESCRIPTION:Преподаватель: 
DTSTAMP:20260422T082412Z
DTSTART:20260427T181500Z
DURATION:PT3H15M
LOCATION:ГУК А-612
SEQUENCE:0
SUMMARY:[ЛК\,ПЗ 2п.]Математическое моделирова
 ние\, численные методы и комплексы прогр
 амм ()
UID:9630322b-ccf1-4c69-b8f9-5ae59faf4cfe
END:VEVENT
BEGIN:VEVENT
ATTENDEE;CN=Гриб Елена Витальевна:https://public.mai.ru/
 schedule/data/eb7d5e24-1d99-11e0-9baf-1c6f65450efa.json
DESCRIPTION:Преподаватель: Гриб Елена Виталье
 вна
DTSTAMP:20260422T082412Z
DTSTART:20260429T163000Z
DURATION:PT3H15M
LOCATION:Орш. В-511
SEQUENCE:0
SUMMARY:[ПЗ 2п.]Педагогика и психология высше
 й школы (Гриб Елена Витальевна)
UID:26bde8ec-525b-4f12-b430-d90bbfcda11b
END:VEVENT
BEGIN:VEVENT
DESCRIPTION:Преподаватель: 
DTSTAMP:20260422T082412Z
DTSTART:20260504T181500Z
DURATION:PT3H15M
LOCATION:ГУК А-612
SEQUENCE:0
SUMMARY:[ЛК\,ПЗ 2п.]Математическое моделирова
 ние\, численные методы и комплексы прогр
 амм ()
UID:669fb051-92a7-436e-8957-04dc739ad862
END:VEVENT
BEGIN:VEVENT
DESCRIPTION:Преподаватель: 
DTSTAMP:20260422T082412Z
DTSTART:20260511T181500Z
DURATION:PT3H15M
LOCATION:ГУК А-612
SEQUENCE:0
SUMMARY:[ЛК\,ПЗ 2п.]Математическое моделирова
 ние\, численные методы и комплексы прогр
 амм ()
UID:ba3f1e79-480a-4e2f-9bcf-c9e61606d5e6
END:VEVENT
BEGIN:VEVENT
DESCRIPTION:Преподаватель: 
DTSTAMP:20260422T082412Z
DTSTART:20260518T181500Z
DURATION:PT3H15M
LOCATION:ГУК А-612
SEQUENCE:0
SUMMARY:[ЛК\,ПЗ 2п.]Математическое моделирова
 ние\, численные методы и комплексы прогр
 амм ()
UID:808f255a-46a3-4a8d-8b8e-69f451a98f0e
END:VEVENT
BEGIN:VEVENT
DESCRIPTION:Преподаватель: 
DTSTAMP:20260422T082412Z
DTSTART:20260525T181500Z
DURATION:PT3H15M
LOCATION:ГУК А-612
SEQUENCE:0
SUMMARY:[ЛК\,ПЗ 2п.]Математическое моделирова
 ние\, численные методы и комплексы прогр
 амм ()
UID:336be128-b370-4291-9e2d-07df57ed269d
END:VEVENT
BEGIN:VEVENT
DESCRIPTION:Преподаватель: 
DTSTAMP:20260422T082412Z
DTSTART:20260601T181500Z
DURATION:PT3H15M
LOCATION:ГУК А-612
SEQUENCE:0
SUMMARY:[ЛК\,ПЗ 2п.]Математическое моделирова
 ние\, численные методы и комплексы прогр
 амм ()
UID:5c66c732-6196-4c85-af9f-10f7afd86b75
END:VEVENT
BEGIN:VEVENT
DESCRIPTION:Преподаватель: 
DTSTAMP:20260422T082412Z
DTSTART:20260608T181500Z
DURATION:PT3H15M
LOCATION:ГУК А-612
SEQUENCE:0
SUMMARY:[ЛК\,ПЗ 2п.]Математическое моделирова
 ние\, численные методы и комплексы прогр
 амм ()
UID:59b32d59-e8ad-4ccc-97b1-80af96d4f9b4
END:VEVENT
BEGIN:VEVENT
DESCRIPTION:Преподаватель: 
DTSTAMP:20260422T082412Z
DTSTART:20260615T181500Z
DURATION:PT3H15M
LOCATION:ГУК А-612
SEQUENCE:0
SUMMARY:[ЛК\,ПЗ 2п.]Математическое моделирова
 ние\, численные методы и комплексы прогр
 амм ()
UID:e0ac2235-25c0-4c43-a163-318032086add
END:VEVENT
BEGIN:VEVENT
DESCRIPTION:Преподаватель: 
DTSTAMP:20260422T082412Z
DTSTART:20260625T163000Z
DURATION:PT1H30M
LOCATION:ГУК А-612
SEQUENCE:0
SUMMARY:[Экзамен 1п.]Математическое моделиро
 вание\, численные методы и комплексы про
 грамм ()
UID:a5f74bb1-b8b7-4dc8-bcf7-3e9dcc593cb6
END:VEVENT
END:VCALENDAR
