﻿BEGIN:VCALENDAR
CALSCALE:GREGORIAN
METHOD:PUBLISH
PRODID:-//MAI-dep406//MAI Dep406 1.01//RU
VERSION:2.0
X-WR-TIMEZONE:Europe/Moscow
BEGIN:VTIMEZONE
TZID:Europe/Moscow
X-LIC-LOCATION:Europe/Moscow
BEGIN:STANDARD
DTSTART;VALUE=DATE:19700101
TZNAME:GMT+3
TZOFFSETTO:+0300
END:STANDARD
END:VTIMEZONE
BEGIN:VEVENT
ATTENDEE;CN=Беличенко Михаил Валериевич:https://pu
 blic.mai.ru/schedule/data/34a35693-9254-11e3-8d1b-3cd92bf20bfe.json
DESCRIPTION:Преподаватель: Беличенко Михаил В
 алериевич
DTSTAMP:20260419T150557Z
DTSTART:20260209T090000Z
DURATION:PT3H15M
LOCATION:ГУК А-624
SEQUENCE:0
SUMMARY:[ЛК 2п.]Интеллектуальные мехатронные 
 системы и машинное обучение (Беличенко М
 ихаил Валериевич)
UID:094c4504-b920-4c8f-89a1-be3da1730575
END:VEVENT
BEGIN:VEVENT
ATTENDEE;CN=Сухов Егор Аркадьевич:https://public.mai.ru/
 schedule/data/70d95e90-399a-11e7-9ec5-3cd92bf20bfe.json
DESCRIPTION:Преподаватель: Сухов Егор Аркадье
 вич
DTSTAMP:20260419T150557Z
DTSTART:20260209T130000Z
DURATION:PT3H15M
LOCATION:ГУК А-624
SEQUENCE:0
SUMMARY:[ЛК 2п.]Математические и компьютерные
  методы управления робототехническими с
 истемами (Сухов Егор Аркадьевич)
UID:e2649fce-bdec-4b81-a58a-08b564ade89f
END:VEVENT
BEGIN:VEVENT
DESCRIPTION:Преподаватель: 
DTSTAMP:20260419T150557Z
DTSTART:20260210T090000Z
DURATION:PT7H15M
LOCATION:--каф.
SEQUENCE:0
SUMMARY:[ПЗ 4п.]Военная подготовка ()
UID:8096ab10-75e0-4cbe-88b1-4014f901796a
END:VEVENT
BEGIN:VEVENT
ATTENDEE;CN=Сухов Егор Аркадьевич:https://public.mai.ru/
 schedule/data/70d95e90-399a-11e7-9ec5-3cd92bf20bfe.json
DESCRIPTION:Преподаватель: Сухов Егор Аркадье
 вич
DTSTAMP:20260419T150557Z
DTSTART:20260211T090000Z
DURATION:PT3H15M
LOCATION:ГУК А-624
SEQUENCE:0
SUMMARY:[ЛК 2п.]Основы компьютерной алгебры и 
 её приложения в механике и физике (Сухов 
 Егор Аркадьевич)
UID:f0b174c1-da54-4ad6-9934-90daf0a882a1
END:VEVENT
BEGIN:VEVENT
ATTENDEE;CN=Сухов Егор Аркадьевич:https://public.mai.ru/
 schedule/data/70d95e90-399a-11e7-9ec5-3cd92bf20bfe.json
DESCRIPTION:Преподаватель: Сухов Егор Аркадье
 вич
DTSTAMP:20260419T150557Z
DTSTART:20260212T130000Z
DURATION:PT3H15M
LOCATION:ГУК А-624
SEQUENCE:0
SUMMARY:[ЛК 2п.]Программные средства компьюте
 рной алгебры (Сухов Егор Аркадьевич)
UID:75069c29-53f8-4ed7-bd4a-19ace2f05487
END:VEVENT
BEGIN:VEVENT
ATTENDEE;CN=Беличенко Михаил Валериевич:https://pu
 blic.mai.ru/schedule/data/34a35693-9254-11e3-8d1b-3cd92bf20bfe.json
DESCRIPTION:Преподаватель: Беличенко Михаил В
 алериевич
DTSTAMP:20260419T150557Z
DTSTART:20260216T090000Z
DURATION:PT3H15M
LOCATION:ГУК А-624
SEQUENCE:0
SUMMARY:[ЛР 2п.]Интеллектуальные мехатронные 
 системы и машинное обучение (Беличенко М
 ихаил Валериевич)
UID:0130f610-10c5-4d75-8216-e2e6a5ab3b53
END:VEVENT
BEGIN:VEVENT
ATTENDEE;CN=Сухов Егор Аркадьевич:https://public.mai.ru/
 schedule/data/70d95e90-399a-11e7-9ec5-3cd92bf20bfe.json
DESCRIPTION:Преподаватель: Сухов Егор Аркадье
 вич
DTSTAMP:20260419T150557Z
DTSTART:20260216T130000Z
DURATION:PT3H15M
LOCATION:ГУК А-624
SEQUENCE:0
SUMMARY:[ЛР 2п.]Математические и компьютерные
  методы управления робототехническими с
 истемами (Сухов Егор Аркадьевич)
UID:c5bd979f-25d0-44c9-b318-a7d5644c9582
END:VEVENT
BEGIN:VEVENT
DESCRIPTION:Преподаватель: 
DTSTAMP:20260419T150557Z
DTSTART:20260217T090000Z
DURATION:PT7H15M
LOCATION:--каф.
SEQUENCE:0
SUMMARY:[ПЗ 4п.]Военная подготовка ()
UID:da6d5bd9-4115-4650-87dd-f9f0034f9faa
END:VEVENT
BEGIN:VEVENT
ATTENDEE;CN=Сухов Егор Аркадьевич:https://public.mai.ru/
 schedule/data/70d95e90-399a-11e7-9ec5-3cd92bf20bfe.json
DESCRIPTION:Преподаватель: Сухов Егор Аркадье
 вич
DTSTAMP:20260419T150557Z
DTSTART:20260218T090000Z
DURATION:PT3H15M
LOCATION:ГУК А-624
SEQUENCE:0
SUMMARY:[ЛР 2п.]Основы компьютерной алгебры и 
 её приложения в механике и физике (Сухов 
 Егор Аркадьевич)
UID:576457ef-e8fe-421a-a84a-188e680d2809
END:VEVENT
BEGIN:VEVENT
ATTENDEE;CN=Беличенко Михаил Валериевич:https://pu
 blic.mai.ru/schedule/data/34a35693-9254-11e3-8d1b-3cd92bf20bfe.json
DESCRIPTION:Преподаватель: Беличенко Михаил В
 алериевич
DTSTAMP:20260419T150557Z
DTSTART:20260219T090000Z
DURATION:PT7H15M
LOCATION:ГУК А-624
SEQUENCE:0
SUMMARY:[ЛК\,ЛР 4п.]Управление движением в дин
 амике ЛА (Беличенко Михаил Валериевич)
UID:a62c003f-0027-4272-bd92-606835f332fb
END:VEVENT
BEGIN:VEVENT
DESCRIPTION:Преподаватель: 
DTSTAMP:20260419T150557Z
DTSTART:20260224T090000Z
DURATION:PT7H15M
LOCATION:--каф.
SEQUENCE:0
SUMMARY:[ПЗ 4п.]Военная подготовка ()
UID:1fd44948-3a2d-41f4-94de-9214cddae307
END:VEVENT
BEGIN:VEVENT
ATTENDEE;CN=Сухов Егор Аркадьевич:https://public.mai.ru/
 schedule/data/70d95e90-399a-11e7-9ec5-3cd92bf20bfe.json
DESCRIPTION:Преподаватель: Сухов Егор Аркадье
 вич
DTSTAMP:20260419T150557Z
DTSTART:20260225T090000Z
DURATION:PT3H15M
LOCATION:ГУК А-624
SEQUENCE:0
SUMMARY:[ЛК 2п.]Основы компьютерной алгебры и 
 её приложения в механике и физике (Сухов 
 Егор Аркадьевич)
UID:79156c40-1b2a-421a-80b6-ff314585d51d
END:VEVENT
BEGIN:VEVENT
ATTENDEE;CN=Сухов Егор Аркадьевич:https://public.mai.ru/
 schedule/data/70d95e90-399a-11e7-9ec5-3cd92bf20bfe.json
DESCRIPTION:Преподаватель: Сухов Егор Аркадье
 вич
DTSTAMP:20260419T150557Z
DTSTART:20260226T130000Z
DURATION:PT3H15M
LOCATION:ГУК А-624
SEQUENCE:0
SUMMARY:[ЛК 2п.]Программные средства компьюте
 рной алгебры (Сухов Егор Аркадьевич)
UID:bcd8a492-895c-4726-9b00-d03841d76855
END:VEVENT
BEGIN:VEVENT
ATTENDEE;CN=Сухов Егор Аркадьевич:https://public.mai.ru/
 schedule/data/70d95e90-399a-11e7-9ec5-3cd92bf20bfe.json
DESCRIPTION:Преподаватель: Сухов Егор Аркадье
 вич
DTSTAMP:20260419T150557Z
DTSTART:20260227T090000Z
DURATION:PT3H15M
LOCATION:ГУК А-624
SEQUENCE:0
SUMMARY:[ЛР 2п.]Программные средства компьюте
 рной алгебры (Сухов Егор Аркадьевич)
UID:e8e07d65-7a8b-422e-9e17-d91001e5a510
END:VEVENT
BEGIN:VEVENT
ATTENDEE;CN=Беличенко Михаил Валериевич:https://pu
 blic.mai.ru/schedule/data/34a35693-9254-11e3-8d1b-3cd92bf20bfe.json
DESCRIPTION:Преподаватель: Беличенко Михаил В
 алериевич
DTSTAMP:20260419T150557Z
DTSTART:20260302T090000Z
DURATION:PT3H15M
LOCATION:ГУК А-624
SEQUENCE:0
SUMMARY:[ЛР 2п.]Интеллектуальные мехатронные 
 системы и машинное обучение (Беличенко М
 ихаил Валериевич)
UID:24f63afe-7cc0-4917-ac40-2f2ad1ec816d
END:VEVENT
BEGIN:VEVENT
ATTENDEE;CN=Сухов Егор Аркадьевич:https://public.mai.ru/
 schedule/data/70d95e90-399a-11e7-9ec5-3cd92bf20bfe.json
DESCRIPTION:Преподаватель: Сухов Егор Аркадье
 вич
DTSTAMP:20260419T150557Z
DTSTART:20260302T130000Z
DURATION:PT3H15M
LOCATION:ГУК А-624
SEQUENCE:0
SUMMARY:[ЛР 2п.]Математические и компьютерные
  методы управления робототехническими с
 истемами (Сухов Егор Аркадьевич)
UID:aa761804-fd11-40b1-8e92-bd8319de0538
END:VEVENT
BEGIN:VEVENT
DESCRIPTION:Преподаватель: 
DTSTAMP:20260419T150557Z
DTSTART:20260303T090000Z
DURATION:PT7H15M
LOCATION:--каф.
SEQUENCE:0
SUMMARY:[ПЗ 4п.]Военная подготовка ()
UID:fd7873a4-5c18-491a-aeb9-f4c474b93c73
END:VEVENT
BEGIN:VEVENT
ATTENDEE;CN=Сухов Егор Аркадьевич:https://public.mai.ru/
 schedule/data/70d95e90-399a-11e7-9ec5-3cd92bf20bfe.json
DESCRIPTION:Преподаватель: Сухов Егор Аркадье
 вич
DTSTAMP:20260419T150557Z
DTSTART:20260304T090000Z
DURATION:PT3H15M
LOCATION:ГУК А-624
SEQUENCE:0
SUMMARY:[ЛР 2п.]Основы компьютерной алгебры и 
 её приложения в механике и физике (Сухов 
 Егор Аркадьевич)
UID:4c704bb9-8d43-4841-898b-6a7d0c7587fa
END:VEVENT
BEGIN:VEVENT
ATTENDEE;CN=Беличенко Михаил Валериевич:https://pu
 blic.mai.ru/schedule/data/34a35693-9254-11e3-8d1b-3cd92bf20bfe.json
DESCRIPTION:Преподаватель: Беличенко Михаил В
 алериевич
DTSTAMP:20260419T150557Z
DTSTART:20260305T090000Z
DURATION:PT7H15M
LOCATION:ГУК А-624
SEQUENCE:0
SUMMARY:[ЛК\,ЛР 4п.]Управление движением в дин
 амике ЛА (Беличенко Михаил Валериевич)
UID:9f962264-4360-4894-8efe-c60b9b9882a4
END:VEVENT
BEGIN:VEVENT
DESCRIPTION:Преподаватель: 
DTSTAMP:20260419T150557Z
DTSTART:20260310T090000Z
DURATION:PT7H15M
LOCATION:--каф.
SEQUENCE:0
SUMMARY:[ПЗ 4п.]Военная подготовка ()
UID:ef84cfed-735f-49a2-9083-5008ec592548
END:VEVENT
BEGIN:VEVENT
ATTENDEE;CN=Сухов Егор Аркадьевич:https://public.mai.ru/
 schedule/data/70d95e90-399a-11e7-9ec5-3cd92bf20bfe.json
DESCRIPTION:Преподаватель: Сухов Егор Аркадье
 вич
DTSTAMP:20260419T150557Z
DTSTART:20260311T090000Z
DURATION:PT3H15M
LOCATION:ГУК А-624
SEQUENCE:0
SUMMARY:[ЛК 2п.]Основы компьютерной алгебры и 
 её приложения в механике и физике (Сухов 
 Егор Аркадьевич)
UID:fa1b02db-3614-4ae1-a797-5e7b95cd7332
END:VEVENT
BEGIN:VEVENT
ATTENDEE;CN=Сухов Егор Аркадьевич:https://public.mai.ru/
 schedule/data/70d95e90-399a-11e7-9ec5-3cd92bf20bfe.json
DESCRIPTION:Преподаватель: Сухов Егор Аркадье
 вич
DTSTAMP:20260419T150557Z
DTSTART:20260312T130000Z
DURATION:PT3H15M
LOCATION:ГУК А-624
SEQUENCE:0
SUMMARY:[ЛК 2п.]Программные средства компьюте
 рной алгебры (Сухов Егор Аркадьевич)
UID:4eb6516f-a643-493c-a855-339f8fe4a230
END:VEVENT
BEGIN:VEVENT
ATTENDEE;CN=Сухов Егор Аркадьевич:https://public.mai.ru/
 schedule/data/70d95e90-399a-11e7-9ec5-3cd92bf20bfe.json
DESCRIPTION:Преподаватель: Сухов Егор Аркадье
 вич
DTSTAMP:20260419T150557Z
DTSTART:20260313T090000Z
DURATION:PT3H15M
LOCATION:ГУК А-624
SEQUENCE:0
SUMMARY:[ЛР 2п.]Программные средства компьюте
 рной алгебры (Сухов Егор Аркадьевич)
UID:83456d74-52a2-4835-9c5e-6c130235dd7a
END:VEVENT
BEGIN:VEVENT
ATTENDEE;CN=Беличенко Михаил Валериевич:https://pu
 blic.mai.ru/schedule/data/34a35693-9254-11e3-8d1b-3cd92bf20bfe.json
DESCRIPTION:Преподаватель: Беличенко Михаил В
 алериевич
DTSTAMP:20260419T150557Z
DTSTART:20260316T090000Z
DURATION:PT3H15M
LOCATION:ГУК А-624
SEQUENCE:0
SUMMARY:[ЛР 2п.]Интеллектуальные мехатронные 
 системы и машинное обучение (Беличенко М
 ихаил Валериевич)
UID:908cecee-d117-4321-947d-88a81bfd7ee7
END:VEVENT
BEGIN:VEVENT
ATTENDEE;CN=Сухов Егор Аркадьевич:https://public.mai.ru/
 schedule/data/70d95e90-399a-11e7-9ec5-3cd92bf20bfe.json
DESCRIPTION:Преподаватель: Сухов Егор Аркадье
 вич
DTSTAMP:20260419T150557Z
DTSTART:20260316T130000Z
DURATION:PT3H15M
LOCATION:ГУК А-624
SEQUENCE:0
SUMMARY:[ЛР 2п.]Математические и компьютерные
  методы управления робототехническими с
 истемами (Сухов Егор Аркадьевич)
UID:cc0eb817-c7b8-4a46-a7e4-8d19af2942e7
END:VEVENT
BEGIN:VEVENT
DESCRIPTION:Преподаватель: 
DTSTAMP:20260419T150557Z
DTSTART:20260317T090000Z
DURATION:PT7H15M
LOCATION:--каф.
SEQUENCE:0
SUMMARY:[ПЗ 4п.]Военная подготовка ()
UID:db53dee9-b44a-4bfb-aec8-bb5becf24147
END:VEVENT
BEGIN:VEVENT
ATTENDEE;CN=Сухов Егор Аркадьевич:https://public.mai.ru/
 schedule/data/70d95e90-399a-11e7-9ec5-3cd92bf20bfe.json
DESCRIPTION:Преподаватель: Сухов Егор Аркадье
 вич
DTSTAMP:20260419T150557Z
DTSTART:20260318T090000Z
DURATION:PT3H15M
LOCATION:ГУК А-624
SEQUENCE:0
SUMMARY:[ЛР 2п.]Основы компьютерной алгебры и 
 её приложения в механике и физике (Сухов 
 Егор Аркадьевич)
UID:8ee8a4da-1d3b-406d-8e8a-914e7253cbf1
END:VEVENT
BEGIN:VEVENT
ATTENDEE;CN=Беличенко Михаил Валериевич:https://pu
 blic.mai.ru/schedule/data/34a35693-9254-11e3-8d1b-3cd92bf20bfe.json
DESCRIPTION:Преподаватель: Беличенко Михаил В
 алериевич
DTSTAMP:20260419T150557Z
DTSTART:20260319T090000Z
DURATION:PT7H15M
LOCATION:ГУК А-624
SEQUENCE:0
SUMMARY:[ЛК\,ЛР 4п.]Управление движением в дин
 амике ЛА (Беличенко Михаил Валериевич)
UID:7ed6699f-9744-4029-9721-b765e0ef9a2f
END:VEVENT
BEGIN:VEVENT
ATTENDEE;CN=Беличенко Михаил Валериевич:https://pu
 blic.mai.ru/schedule/data/34a35693-9254-11e3-8d1b-3cd92bf20bfe.json
DESCRIPTION:Преподаватель: Беличенко Михаил В
 алериевич
DTSTAMP:20260419T150557Z
DTSTART:20260323T090000Z
DURATION:PT3H15M
LOCATION:ГУК А-624
SEQUENCE:0
SUMMARY:[ЛК 2п.]Интеллектуальные мехатронные 
 системы и машинное обучение (Беличенко М
 ихаил Валериевич)
UID:df981aa4-f044-4c47-9999-42cb78808b0c
END:VEVENT
BEGIN:VEVENT
ATTENDEE;CN=Сухов Егор Аркадьевич:https://public.mai.ru/
 schedule/data/70d95e90-399a-11e7-9ec5-3cd92bf20bfe.json
DESCRIPTION:Преподаватель: Сухов Егор Аркадье
 вич
DTSTAMP:20260419T150557Z
DTSTART:20260323T130000Z
DURATION:PT3H15M
LOCATION:ГУК А-624
SEQUENCE:0
SUMMARY:[ЛК 2п.]Математические и компьютерные
  методы управления робототехническими с
 истемами (Сухов Егор Аркадьевич)
UID:fcf9c7f6-9c58-4895-b52a-841cc3cd0ee8
END:VEVENT
BEGIN:VEVENT
DESCRIPTION:Преподаватель: 
DTSTAMP:20260419T150557Z
DTSTART:20260324T090000Z
DURATION:PT7H15M
LOCATION:--каф.
SEQUENCE:0
SUMMARY:[ПЗ 4п.]Военная подготовка ()
UID:2931d3e8-38cb-4399-b6ae-8af9e93a31f9
END:VEVENT
BEGIN:VEVENT
ATTENDEE;CN=Сухов Егор Аркадьевич:https://public.mai.ru/
 schedule/data/70d95e90-399a-11e7-9ec5-3cd92bf20bfe.json
DESCRIPTION:Преподаватель: Сухов Егор Аркадье
 вич
DTSTAMP:20260419T150557Z
DTSTART:20260325T090000Z
DURATION:PT3H15M
LOCATION:ГУК А-624
SEQUENCE:0
SUMMARY:[ЛК 2п.]Основы компьютерной алгебры и 
 её приложения в механике и физике (Сухов 
 Егор Аркадьевич)
UID:d0cd4f95-9066-45e5-af9a-e00ee3b10db0
END:VEVENT
BEGIN:VEVENT
ATTENDEE;CN=Сухов Егор Аркадьевич:https://public.mai.ru/
 schedule/data/70d95e90-399a-11e7-9ec5-3cd92bf20bfe.json
DESCRIPTION:Преподаватель: Сухов Егор Аркадье
 вич
DTSTAMP:20260419T150557Z
DTSTART:20260326T130000Z
DURATION:PT3H15M
LOCATION:ГУК А-624
SEQUENCE:0
SUMMARY:[ЛК 2п.]Программные средства компьюте
 рной алгебры (Сухов Егор Аркадьевич)
UID:69f6cd4e-32c7-4c6f-b9a6-4f1919b5d651
END:VEVENT
BEGIN:VEVENT
ATTENDEE;CN=Сухов Егор Аркадьевич:https://public.mai.ru/
 schedule/data/70d95e90-399a-11e7-9ec5-3cd92bf20bfe.json
DESCRIPTION:Преподаватель: Сухов Егор Аркадье
 вич
DTSTAMP:20260419T150557Z
DTSTART:20260327T090000Z
DURATION:PT3H15M
LOCATION:ГУК А-624
SEQUENCE:0
SUMMARY:[ЛР 2п.]Программные средства компьюте
 рной алгебры (Сухов Егор Аркадьевич)
UID:124f2e3f-e306-472d-bd84-d42002ded4f0
END:VEVENT
BEGIN:VEVENT
ATTENDEE;CN=Беличенко Михаил Валериевич:https://pu
 blic.mai.ru/schedule/data/34a35693-9254-11e3-8d1b-3cd92bf20bfe.json
DESCRIPTION:Преподаватель: Беличенко Михаил В
 алериевич
DTSTAMP:20260419T150557Z
DTSTART:20260330T090000Z
DURATION:PT3H15M
LOCATION:ГУК А-624
SEQUENCE:0
SUMMARY:[ЛР 2п.]Интеллектуальные мехатронные 
 системы и машинное обучение (Беличенко М
 ихаил Валериевич)
UID:b496597e-ef12-4b48-8c70-78abf6620cd3
END:VEVENT
BEGIN:VEVENT
ATTENDEE;CN=Сухов Егор Аркадьевич:https://public.mai.ru/
 schedule/data/70d95e90-399a-11e7-9ec5-3cd92bf20bfe.json
DESCRIPTION:Преподаватель: Сухов Егор Аркадье
 вич
DTSTAMP:20260419T150557Z
DTSTART:20260330T130000Z
DURATION:PT3H15M
LOCATION:ГУК А-624
SEQUENCE:0
SUMMARY:[ЛР 2п.]Математические и компьютерные
  методы управления робототехническими с
 истемами (Сухов Егор Аркадьевич)
UID:f8c945de-3596-4466-84a7-5c57fd8c8b71
END:VEVENT
BEGIN:VEVENT
DESCRIPTION:Преподаватель: 
DTSTAMP:20260419T150557Z
DTSTART:20260331T090000Z
DURATION:PT7H15M
LOCATION:--каф.
SEQUENCE:0
SUMMARY:[ПЗ 4п.]Военная подготовка ()
UID:48c9d41d-f9f5-4a50-8113-6e1906156229
END:VEVENT
BEGIN:VEVENT
ATTENDEE;CN=Сухов Егор Аркадьевич:https://public.mai.ru/
 schedule/data/70d95e90-399a-11e7-9ec5-3cd92bf20bfe.json
DESCRIPTION:Преподаватель: Сухов Егор Аркадье
 вич
DTSTAMP:20260419T150557Z
DTSTART:20260401T090000Z
DURATION:PT3H15M
LOCATION:ГУК А-624
SEQUENCE:0
SUMMARY:[ЛР 2п.]Основы компьютерной алгебры и 
 её приложения в механике и физике (Сухов 
 Егор Аркадьевич)
UID:ed84f5c4-643f-4edf-82c2-a854c0718715
END:VEVENT
BEGIN:VEVENT
ATTENDEE;CN=Беличенко Михаил Валериевич:https://pu
 blic.mai.ru/schedule/data/34a35693-9254-11e3-8d1b-3cd92bf20bfe.json
DESCRIPTION:Преподаватель: Беличенко Михаил В
 алериевич
DTSTAMP:20260419T150557Z
DTSTART:20260402T090000Z
DURATION:PT7H15M
LOCATION:ГУК А-624
SEQUENCE:0
SUMMARY:[ЛК\,ЛР 4п.]Управление движением в дин
 амике ЛА (Беличенко Михаил Валериевич)
UID:b4bd9048-19d4-43ca-8ab9-41363dd8122d
END:VEVENT
BEGIN:VEVENT
ATTENDEE;CN=Беличенко Михаил Валериевич:https://pu
 blic.mai.ru/schedule/data/34a35693-9254-11e3-8d1b-3cd92bf20bfe.json
DESCRIPTION:Преподаватель: Беличенко Михаил В
 алериевич
DTSTAMP:20260419T150557Z
DTSTART:20260406T090000Z
DURATION:PT3H15M
LOCATION:ГУК А-624
SEQUENCE:0
SUMMARY:[ЛК 2п.]Интеллектуальные мехатронные 
 системы и машинное обучение (Беличенко М
 ихаил Валериевич)
UID:23a660c7-173a-468c-a8d9-b075b85721d1
END:VEVENT
BEGIN:VEVENT
ATTENDEE;CN=Сухов Егор Аркадьевич:https://public.mai.ru/
 schedule/data/70d95e90-399a-11e7-9ec5-3cd92bf20bfe.json
DESCRIPTION:Преподаватель: Сухов Егор Аркадье
 вич
DTSTAMP:20260419T150557Z
DTSTART:20260406T130000Z
DURATION:PT3H15M
LOCATION:ГУК А-624
SEQUENCE:0
SUMMARY:[ЛК 2п.]Математические и компьютерные
  методы управления робототехническими с
 истемами (Сухов Егор Аркадьевич)
UID:5c5e55f4-9003-4076-9dc6-a4f55642d4c9
END:VEVENT
BEGIN:VEVENT
DESCRIPTION:Преподаватель: 
DTSTAMP:20260419T150557Z
DTSTART:20260407T090000Z
DURATION:PT7H15M
LOCATION:--каф.
SEQUENCE:0
SUMMARY:[ПЗ 4п.]Военная подготовка ()
UID:2c4f081d-4830-43d2-b655-e105713b3d71
END:VEVENT
BEGIN:VEVENT
ATTENDEE;CN=Сухов Егор Аркадьевич:https://public.mai.ru/
 schedule/data/70d95e90-399a-11e7-9ec5-3cd92bf20bfe.json
DESCRIPTION:Преподаватель: Сухов Егор Аркадье
 вич
DTSTAMP:20260419T150557Z
DTSTART:20260408T090000Z
DURATION:PT3H15M
LOCATION:ГУК А-624
SEQUENCE:0
SUMMARY:[ЛК 2п.]Основы компьютерной алгебры и 
 её приложения в механике и физике (Сухов 
 Егор Аркадьевич)
UID:b14907e5-cabc-44d2-b8d7-697fb4b22256
END:VEVENT
BEGIN:VEVENT
ATTENDEE;CN=Сухов Егор Аркадьевич:https://public.mai.ru/
 schedule/data/70d95e90-399a-11e7-9ec5-3cd92bf20bfe.json
DESCRIPTION:Преподаватель: Сухов Егор Аркадье
 вич
DTSTAMP:20260419T150557Z
DTSTART:20260409T130000Z
DURATION:PT3H15M
LOCATION:ГУК А-624
SEQUENCE:0
SUMMARY:[ЛК 2п.]Программные средства компьюте
 рной алгебры (Сухов Егор Аркадьевич)
UID:e2fd6c6a-11fa-4660-b3ba-e4c10d0d7113
END:VEVENT
BEGIN:VEVENT
ATTENDEE;CN=Сухов Егор Аркадьевич:https://public.mai.ru/
 schedule/data/70d95e90-399a-11e7-9ec5-3cd92bf20bfe.json
DESCRIPTION:Преподаватель: Сухов Егор Аркадье
 вич
DTSTAMP:20260419T150557Z
DTSTART:20260410T090000Z
DURATION:PT3H15M
LOCATION:ГУК А-624
SEQUENCE:0
SUMMARY:[ЛР 2п.]Программные средства компьюте
 рной алгебры (Сухов Егор Аркадьевич)
UID:69a701e4-18c9-48ec-a29d-8957e9aea704
END:VEVENT
BEGIN:VEVENT
ATTENDEE;CN=Беличенко Михаил Валериевич:https://pu
 blic.mai.ru/schedule/data/34a35693-9254-11e3-8d1b-3cd92bf20bfe.json
DESCRIPTION:Преподаватель: Беличенко Михаил В
 алериевич
DTSTAMP:20260419T150557Z
DTSTART:20260413T090000Z
DURATION:PT3H15M
LOCATION:ГУК А-624
SEQUENCE:0
SUMMARY:[ЛР 2п.]Интеллектуальные мехатронные 
 системы и машинное обучение (Беличенко М
 ихаил Валериевич)
UID:beed5f52-b48c-4f48-a601-1a22c0bc121c
END:VEVENT
BEGIN:VEVENT
ATTENDEE;CN=Сухов Егор Аркадьевич:https://public.mai.ru/
 schedule/data/70d95e90-399a-11e7-9ec5-3cd92bf20bfe.json
DESCRIPTION:Преподаватель: Сухов Егор Аркадье
 вич
DTSTAMP:20260419T150557Z
DTSTART:20260413T130000Z
DURATION:PT3H15M
LOCATION:ГУК А-624
SEQUENCE:0
SUMMARY:[ЛР 2п.]Математические и компьютерные
  методы управления робототехническими с
 истемами (Сухов Егор Аркадьевич)
UID:c2b66489-321c-42e2-ba31-f04835b7b317
END:VEVENT
BEGIN:VEVENT
DESCRIPTION:Преподаватель: 
DTSTAMP:20260419T150557Z
DTSTART:20260414T090000Z
DURATION:PT7H15M
LOCATION:--каф.
SEQUENCE:0
SUMMARY:[ПЗ 4п.]Военная подготовка ()
UID:37d7e3a6-a5f0-4d5f-b456-a4e6b34731b5
END:VEVENT
BEGIN:VEVENT
ATTENDEE;CN=Сухов Егор Аркадьевич:https://public.mai.ru/
 schedule/data/70d95e90-399a-11e7-9ec5-3cd92bf20bfe.json
DESCRIPTION:Преподаватель: Сухов Егор Аркадье
 вич
DTSTAMP:20260419T150557Z
DTSTART:20260415T090000Z
DURATION:PT3H15M
LOCATION:ГУК А-624
SEQUENCE:0
SUMMARY:[ЛР 2п.]Основы компьютерной алгебры и 
 её приложения в механике и физике (Сухов 
 Егор Аркадьевич)
UID:df9f2d5b-2a11-4e39-8dc7-df305adcb17a
END:VEVENT
BEGIN:VEVENT
ATTENDEE;CN=Беличенко Михаил Валериевич:https://pu
 blic.mai.ru/schedule/data/34a35693-9254-11e3-8d1b-3cd92bf20bfe.json
DESCRIPTION:Преподаватель: Беличенко Михаил В
 алериевич
DTSTAMP:20260419T150557Z
DTSTART:20260416T090000Z
DURATION:PT7H15M
LOCATION:ГУК А-624
SEQUENCE:0
SUMMARY:[ЛК\,ЛР 4п.]Управление движением в дин
 амике ЛА (Беличенко Михаил Валериевич)
UID:e9885c55-50b0-4c15-8436-6596eacdf99c
END:VEVENT
BEGIN:VEVENT
ATTENDEE;CN=Беличенко Михаил Валериевич:https://pu
 blic.mai.ru/schedule/data/34a35693-9254-11e3-8d1b-3cd92bf20bfe.json
DESCRIPTION:Преподаватель: Беличенко Михаил В
 алериевич
DTSTAMP:20260419T150557Z
DTSTART:20260420T090000Z
DURATION:PT3H15M
LOCATION:ГУК А-624
SEQUENCE:0
SUMMARY:[ЛК 2п.]Интеллектуальные мехатронные 
 системы и машинное обучение (Беличенко М
 ихаил Валериевич)
UID:de0dc184-a4f6-4b47-bf8f-78c64a942c78
END:VEVENT
BEGIN:VEVENT
ATTENDEE;CN=Сухов Егор Аркадьевич:https://public.mai.ru/
 schedule/data/70d95e90-399a-11e7-9ec5-3cd92bf20bfe.json
DESCRIPTION:Преподаватель: Сухов Егор Аркадье
 вич
DTSTAMP:20260419T150557Z
DTSTART:20260420T130000Z
DURATION:PT3H15M
LOCATION:ГУК А-624
SEQUENCE:0
SUMMARY:[ЛК 2п.]Математические и компьютерные
  методы управления робототехническими с
 истемами (Сухов Егор Аркадьевич)
UID:801d8e01-8dd8-42cb-82a8-3023724cf1fe
END:VEVENT
BEGIN:VEVENT
DESCRIPTION:Преподаватель: 
DTSTAMP:20260419T150557Z
DTSTART:20260421T090000Z
DURATION:PT7H15M
LOCATION:--каф.
SEQUENCE:0
SUMMARY:[ПЗ 4п.]Военная подготовка ()
UID:4e385cc0-863c-445c-8f18-a66b3d32fba5
END:VEVENT
BEGIN:VEVENT
ATTENDEE;CN=Сухов Егор Аркадьевич:https://public.mai.ru/
 schedule/data/70d95e90-399a-11e7-9ec5-3cd92bf20bfe.json
DESCRIPTION:Преподаватель: Сухов Егор Аркадье
 вич
DTSTAMP:20260419T150557Z
DTSTART:20260424T090000Z
DURATION:PT3H15M
LOCATION:ГУК А-624
SEQUENCE:0
SUMMARY:[ЛР 2п.]Программные средства компьюте
 рной алгебры (Сухов Егор Аркадьевич)
UID:07b26f4d-b42c-417d-9ab3-b3cd2f76780e
END:VEVENT
BEGIN:VEVENT
ATTENDEE;CN=Беличенко Михаил Валериевич:https://pu
 blic.mai.ru/schedule/data/34a35693-9254-11e3-8d1b-3cd92bf20bfe.json
DESCRIPTION:Преподаватель: Беличенко Михаил В
 алериевич
DTSTAMP:20260419T150557Z
DTSTART:20260427T090000Z
DURATION:PT3H15M
LOCATION:ГУК А-624
SEQUENCE:0
SUMMARY:[ЛР 2п.]Интеллектуальные мехатронные 
 системы и машинное обучение (Беличенко М
 ихаил Валериевич)
UID:7ee3bb1e-196a-4262-9266-f5e9b70f0258
END:VEVENT
BEGIN:VEVENT
ATTENDEE;CN=Сухов Егор Аркадьевич:https://public.mai.ru/
 schedule/data/70d95e90-399a-11e7-9ec5-3cd92bf20bfe.json
DESCRIPTION:Преподаватель: Сухов Егор Аркадье
 вич
DTSTAMP:20260419T150557Z
DTSTART:20260427T130000Z
DURATION:PT3H15M
LOCATION:ГУК А-624
SEQUENCE:0
SUMMARY:[ЛР 2п.]Математические и компьютерные
  методы управления робототехническими с
 истемами (Сухов Егор Аркадьевич)
UID:21eb2a31-a157-48d0-93c2-abb8d2e94bac
END:VEVENT
BEGIN:VEVENT
DESCRIPTION:Преподаватель: 
DTSTAMP:20260419T150557Z
DTSTART:20260428T090000Z
DURATION:PT7H15M
LOCATION:--каф.
SEQUENCE:0
SUMMARY:[ПЗ 4п.]Военная подготовка ()
UID:95ce8859-339d-4d67-ba8c-6981ef760834
END:VEVENT
BEGIN:VEVENT
ATTENDEE;CN=Сухов Егор Аркадьевич:https://public.mai.ru/
 schedule/data/70d95e90-399a-11e7-9ec5-3cd92bf20bfe.json
DESCRIPTION:Преподаватель: Сухов Егор Аркадье
 вич
DTSTAMP:20260419T150557Z
DTSTART:20260429T090000Z
DURATION:PT3H15M
LOCATION:ГУК А-624
SEQUENCE:0
SUMMARY:[ЛР 2п.]Основы компьютерной алгебры и 
 её приложения в механике и физике (Сухов 
 Егор Аркадьевич)
UID:146c88d7-2f0b-4f2f-b58f-edfb2b333af4
END:VEVENT
BEGIN:VEVENT
ATTENDEE;CN=Беличенко Михаил Валериевич:https://pu
 blic.mai.ru/schedule/data/34a35693-9254-11e3-8d1b-3cd92bf20bfe.json
DESCRIPTION:Преподаватель: Беличенко Михаил В
 алериевич
DTSTAMP:20260419T150557Z
DTSTART:20260430T130000Z
DURATION:PT3H15M
LOCATION:ГУК А-624
SEQUENCE:0
SUMMARY:[ЛР 2п.]Управление движением в динами
 ке ЛА (Беличенко Михаил Валериевич)
UID:4f414b16-88b8-45bc-9b8c-f9244d864ef2
END:VEVENT
BEGIN:VEVENT
ATTENDEE;CN=Беличенко Михаил Валериевич:https://pu
 blic.mai.ru/schedule/data/34a35693-9254-11e3-8d1b-3cd92bf20bfe.json
DESCRIPTION:Преподаватель: Беличенко Михаил В
 алериевич
DTSTAMP:20260419T150557Z
DTSTART:20260504T090000Z
DURATION:PT3H15M
LOCATION:ГУК А-624
SEQUENCE:0
SUMMARY:[ЛК 2п.]Интеллектуальные мехатронные 
 системы и машинное обучение (Беличенко М
 ихаил Валериевич)
UID:e274a7dc-891f-456b-bf25-a1e997b1ca7a
END:VEVENT
BEGIN:VEVENT
ATTENDEE;CN=Сухов Егор Аркадьевич:https://public.mai.ru/
 schedule/data/70d95e90-399a-11e7-9ec5-3cd92bf20bfe.json
DESCRIPTION:Преподаватель: Сухов Егор Аркадье
 вич
DTSTAMP:20260419T150557Z
DTSTART:20260504T130000Z
DURATION:PT3H15M
LOCATION:ГУК А-624
SEQUENCE:0
SUMMARY:[ЛК 2п.]Математические и компьютерные
  методы управления робототехническими с
 истемами (Сухов Егор Аркадьевич)
UID:0c40241b-3c35-4a92-9306-b284806d1a93
END:VEVENT
BEGIN:VEVENT
DESCRIPTION:Преподаватель: 
DTSTAMP:20260419T150557Z
DTSTART:20260505T090000Z
DURATION:PT7H15M
LOCATION:--каф.
SEQUENCE:0
SUMMARY:[ПЗ 4п.]Военная подготовка ()
UID:874ac588-5740-4408-9b30-82928f42dd0b
END:VEVENT
BEGIN:VEVENT
ATTENDEE;CN=Сухов Егор Аркадьевич:https://public.mai.ru/
 schedule/data/70d95e90-399a-11e7-9ec5-3cd92bf20bfe.json
DESCRIPTION:Преподаватель: Сухов Егор Аркадье
 вич
DTSTAMP:20260419T150557Z
DTSTART:20260508T090000Z
DURATION:PT3H15M
LOCATION:ГУК А-624
SEQUENCE:0
SUMMARY:[ЛР 2п.]Программные средства компьюте
 рной алгебры (Сухов Егор Аркадьевич)
UID:e8cfd6a0-c762-4938-9db9-31c6d457908d
END:VEVENT
BEGIN:VEVENT
ATTENDEE;CN=Беличенко Михаил Валериевич:https://pu
 blic.mai.ru/schedule/data/34a35693-9254-11e3-8d1b-3cd92bf20bfe.json
DESCRIPTION:Преподаватель: Беличенко Михаил В
 алериевич
DTSTAMP:20260419T150557Z
DTSTART:20260514T090000Z
DURATION:PT3H15M
LOCATION:ГУК А-624
SEQUENCE:0
SUMMARY:[Экзамен 2п.]Управление движением в д
 инамике ЛА (Беличенко Михаил Валериевич)
UID:0507d87f-e821-4b73-b1b9-71eb03561f13
END:VEVENT
BEGIN:VEVENT
ATTENDEE;CN=Беличенко Михаил Валериевич:https://pu
 blic.mai.ru/schedule/data/34a35693-9254-11e3-8d1b-3cd92bf20bfe.json
DESCRIPTION:Преподаватель: Беличенко Михаил В
 алериевич
DTSTAMP:20260419T150557Z
DTSTART:20260518T090000Z
DURATION:PT3H15M
LOCATION:ГУК А-624
SEQUENCE:0
SUMMARY:[Экзамен 2п.]Интеллектуальные мехатр
 онные системы и машинное обучение (Белич
 енко Михаил Валериевич)
UID:46790f4c-8f22-4c46-9f72-260addd5f3ac
END:VEVENT
END:VCALENDAR
